{"text_format":"1","workbook":"xlsx","n_sheets":48,"sheets":["TOP画面","連携図","急性期ｵｰﾊﾞｰﾋﾞｭｰ","回復期ｵｰﾊﾞｰﾋﾞｭｰ","維持期ｵｰﾊﾞｰﾋﾞｭｰ","在宅維持期ｵｰﾊﾞｰﾋﾞｭｰ","患者基本情報","検査情報","JCS・GCS","NIHSS","MMT","Brunnstrom","障害","NPUAP","FIM","日常生活機能評価","mRS","MAS","HDS-R","寝たきり度・自立度・介護認定","B.I","職種別コメント","医師記入","看護師記入","リハビリ記入","MSW記入","薬剤師記入","栄養士記入","職種別コメント2","医師記入2","看護師記入2","リハビリ記入2","その他記入2","職種別コメント3","医師記入3","看護師記入3","リハビリ記入3","その他記入3","医師記入4","看護師記入4","ケアマネ記入4","回復期報告用FAX","維持期報告用FAX","在宅維持期報告用FAX","リスト","etc","STATIST","DATA_PATIENT"],"not_rendered":{"charts":5,"images":7,"macros":1,"external_links":5,"defined_names":149,"comments":22,"pivot_tables":0},"unopened":[],"bounds":{"document_bytes":16777216,"sheet_cells":100000,"rows_first":2000,"rows_last":500,"rows_between":2000,"halvings":0,"cell_chars":16384,"cell_head_chars":4096},"cells_cut":0,"cells_raw":0,"read":"whole","date_system":"1900"}

{"sheet":"TOP画面","index":0,"n_rows":0,"n_cols":0,"rows_kept":0,"cut":false,"hidden":false,"merged":[]}

{"sheet":"連携図","index":1,"n_rows":39,"n_cols":15,"rows_kept":39,"cut":false,"hidden":false,"merged":[[37,1,39,2]]}
[]
[null,"連携図"]
[null,null,null,null,null,null,"【急性期】",null,null,null,null,null,null,"【回復期】"]
[null,null,null,null,null,null,"施設名：",{"$f":"IF(患者基本情報!E22=\"\",\"\",患者基本情報!E22)","v":"幡多けんみん病院"},null,null,null,null,null,"施設名：",{"$f":"IF(患者基本情報!P22=\"\",\"\",患者基本情報!P22)","v":""}]
[]
[null,"氏名：",{"$f":"IF(患者基本情報!E8=\"\",\"\",患者基本情報!E8)","v":0},null,null,null,"ID：",null,null,null,null,null,null,"ID："]
[]
[null,"しまんとネットID：",null,null,null,null,"入院日：",{"$f":"IF(患者基本情報!E30=\"\",\"\",患者基本情報!E30)","v":""},null,null,null,null,null,"入院日：",{"$f":"IF(患者基本情報!P30=\"\",\"\",患者基本情報!P30)","v":""}]
[]
[null,"疾患名：",null,null,null,null,"退院日：",{"$f":"IF(患者基本情報!E32=\"\",\"\",患者基本情報!E32)","v":""},null,null,null,null,null,"退院日：",{"$f":"IF(患者基本情報!P32=\"\",\"\",患者基本情報!P32)","v":""}]
[]
[null,"在宅復帰日：",null,null,null,null,"入院日数：",{"$f":"IF(H10=\"\",\"\",H10-H8+1)","v":""},null,null,null,null,null,"入院日数：",{"$f":"IF(O10=\"\",\"\",O10-O8+1)","v":""}]
[]
[null,"総入院日数：",null,null,null,null,"退院先：",null,null,null,null,null,null,"退院先："]
[]
[null,"かかりつけ医："]
[]
[null,"担当ケアマネ："]
[]
[null,"担当事業所："]
[]
[null,null,null,null,null,null,"【在宅】",null,null,null,null,null,null,"【維持期】"]
[null,null,null,null,null,null,"施設名：",{"$f":"IF(患者基本情報!AL22=\"\",\"\",患者基本情報!AL22)","v":""},null,null,null,null,null,"施設名：",{"$f":"IF(患者基本情報!AA22=\"\",\"\",患者基本情報!AA22)","v":""}]
[]
[null,null,null,null,null,null,"ID：",null,null,null,null,null,null,"ID："]
[]
[null,null,null,null,null,null,"入院日：",{"$f":"IF(患者基本情報!AL30=\"\",\"\",患者基本情報!AL30)","v":""},null,null,null,null,null,"入院日：",{"$f":"IF(患者基本情報!AA30=\"\",\"\",患者基本情報!AA30)","v":""}]
[]
[null,null,null,null,null,null,"退院日：",{"$f":"IF(患者基本情報!AL32=\"\",\"\",患者基本情報!AL32)","v":""},null,null,null,null,null,"退院日：",{"$f":"IF(患者基本情報!AA32=\"\",\"\",患者基本情報!AA32)","v":""}]
[]
[null,null,null,null,null,null,"入院日数：",{"$f":"IF(H29=\"\",\"\",H29-H27+1)","v":""},null,null,null,null,null,"入院日数：",{"$f":"IF(O29=\"\",\"\",O29-O27+1)","v":""}]
[]
[null,null,null,null,null,null,"退院先：",null,null,null,null,null,null,"退院先："]
[]
[]
[]
[]
[null,"在宅"]
[null,null,null,null,null,null,"かかりつけ医：",null,null,null,null,null,null,"在宅支援施設名："]

{"sheet":"急性期ｵｰﾊﾞｰﾋﾞｭｰ","index":2,"n_rows":41,"n_cols":69,"rows_kept":41,"cut":false,"hidden":false,"merged":[[0,54,0,55],[0,56,0,61],[4,0,4,1],[4,2,4,10],[4,11,4,12],[4,13,4,18],[3,12,3,18],[4,19,4,24],[4,25,4,30],[3,0,3,1],[3,56,3,57],[3,31,3,32],[2,33,2,34],[2,36,2,38],[3,34,3,40],[2,50,2,53],[2,54,2,55],[3,47,3,54],[2,48,2,49],[3,45,3,46],[3,42,3,43],[2,39,2,47],[2,31,2,32],[1,56,1,64],[5,0,5,3],[5,16,5,18],[5,24,5,25],[5,19,5,23],[5,13,5,15],[5,11,5,12],[2,0,2,1],[2,2,2,5],[2,27,2,29],[2,15,2,17],[2,18,2,23],[3,23,3,29],[2,24,2,26],[2,6,2,8],[2,9,2,14],[3,2,3,8],[3,9,3,11],[3,20,3,21],[6,58,6,64],[6,51,6,57],[5,44,5,64],[2,56,2,59],[2,60,2,61],[4,51,4,52],[4,53,4,64],[5,29,5,32],[6,37,6,43],[6,44,6,50],[4,33,4,38],[4,39,4,44],[4,45,4,50],[4,31,4,32],[2,62,2,63],[3,62,3,64],[3,59,3,61],[7,0,7,10],[7,12,7,15],[7,16,7,22],[7,58,7,64],[10,12,10,23],[8,44,8,47],[6,23,6,29],[6,0,6,10],[5,36,5,39],[5,33,5,35],[5,4,5,8],[5,9,5,10],[6,12,6,15],[6,16,6,22],[5,26,5,28],[6,30,6,36],[5,40,5,43],[8,12,8,15],[8,16,8,19],[8,23,8,26],[8,30,8,33],[8,37,8,40],[7,44,7,50],[7,30,7,36],[8,51,8,54],[8,58,8,61],[7,51,7,57],[10,25,10,36],[10,38,10,49],[10,58,10,64],[10,51,10,57],[7,23,7,29],[7,37,7,43],[11,31,11,32],[11,27,11,28],[16,32,16,33],[11,38,11,43],[11,16,11,17],[11,22,11,23],[12,44,12,49],[12,20,15,21],[16,38,16,43],[16,44,16,49],[15,38,15,43],[25,4,25,10],[18,0,18,4],[19,44,19,49],[20,44,20,49],[21,38,21,43],[18,12,18,13],[18,22,18,23],[18,14,18,15],[18,16,18,17],[21,44,21,49],[20,38,20,43],[24,4,24,10],[25,0,25,3],[24,0,24,3],[23,4,23,10],[23,38,23,43],[23,0,23,3],[19,0,22,0],[19,1,22,10],[18,38,18,43],[22,38,22,43],[22,44,22,49],[25,25,25,27],[25,28,25,36],[29,0,29,3],[29,4,29,10],[29,19,29,23],[30,0,30,3],[31,0,31,3],[28,0,28,3],[26,0,27,3],[28,17,28,23],[28,4,28,10],[28,12,28,14],[28,15,28,16],[27,12,27,14],[26,15,26,23],[27,15,27,23],[26,4,27,10],[30,4,30,10],[30,12,30,36],[31,25,31,36],[29,12,29,14],[26,12,26,14],[33,0,33,3],[33,4,33,10],[32,0,32,3],[32,4,32,10],[32,12,32,13],[31,4,31,10],[31,12,31,24],[36,0,36,3],[36,19,36,20],[32,14,32,24],[33,14,33,24],[34,0,34,3],[34,4,34,10],[35,0,35,3],[33,12,33,13],[40,26,40,27],[40,17,40,21],[40,23,40,25],[37,24,37,25],[36,24,36,25],[36,21,36,22],[36,26,36,27],[36,29,36,32],[35,4,35,10],[34,12,35,24],[39,17,39,21],[39,23,39,25],[39,26,39,27],[38,23,38,25],[38,26,38,27],[37,26,37,27],[38,28,40,36],[37,29,37,32],[37,33,37,36],[36,33,36,36],[40,0,40,3],[40,4,40,10],[40,12,40,13],[40,14,40,15],[39,0,39,3],[39,4,39,10],[39,12,39,13],[39,14,39,15],[37,0,37,3],[36,12,37,18],[38,0,38,3],[38,4,38,10],[38,12,38,16],[38,17,38,21],[37,4,37,10],[37,21,37,23],[37,19,37,20],[36,4,36,10],[14,59,14,60],[14,56,14,57],[29,52,29,56],[13,51,13,55],[13,56,13,57],[11,59,11,60],[12,59,12,60],[14,61,14,62],[15,61,15,62],[19,59,19,60],[23,61,23,62],[15,59,15,60],[16,61,16,62],[15,51,15,55],[13,61,13,62],[15,56,15,57],[21,61,21,62],[16,51,23,57],[18,61,18,62],[17,44,17,49],[24,52,28,64],[22,61,22,62],[22,59,22,60],[11,63,21,64],[11,58,23,58],[11,51,11,55],[12,51,12,55],[24,44,24,46],[24,47,24,49],[24,51,29,51],[29,57,29,58],[19,61,19,62],[22,63,22,64],[20,61,20,62],[23,59,23,60],[17,61,17,62],[12,61,12,62],[11,61,11,62],[14,51,14,55],[23,44,23,46],[23,47,23,49],[16,59,16,60],[36,63,36,64],[37,63,37,64],[39,63,39,64],[38,63,38,64],[32,57,32,60],[31,61,31,64],[31,52,31,56],[20,59,20,60],[30,55,30,56],[34,53,34,64],[35,52,35,62],[35,63,35,64],[30,51,30,54],[21,59,21,60],[23,63,23,64],[33,57,33,60],[29,59,29,62],[30,57,30,64],[32,61,32,64],[14,44,14,49],[33,61,33,64],[36,52,36,62],[29,63,29,64],[31,51,34,51],[31,57,31,60],[14,3,14,10],[13,14,13,15],[14,38,14,43],[26,38,26,49],[18,18,18,19],[18,27,18,28],[18,29,18,30],[18,33,18,34],[18,35,18,36],[18,31,18,32],[18,25,18,26],[18,20,18,21],[18,44,18,49],[17,38,17,43],[25,38,25,43],[24,38,24,43],[32,25,35,36],[35,44,40,44],[15,44,15,49],[13,1,13,2],[15,1,15,2],[12,3,12,10],[15,27,15,28],[13,44,13,49],[12,12,15,13],[12,16,15,17],[11,0,15,0],[11,3,11,10],[13,3,13,10],[14,1,14,2],[11,14,11,15],[11,12,11,13],[11,29,11,30],[11,35,11,36],[11,33,11,34],[15,3,15,10],[11,44,11,49],[15,14,15,15],[14,14,14,15],[12,25,15,26],[13,38,13,43],[12,38,12,43],[11,20,11,21],[16,0,16,2],[16,3,16,10],[17,0,17,4],[17,5,17,6],[17,8,17,9],[17,35,17,36],[17,20,17,21],[17,27,17,28],[17,16,17,17],[17,14,17,15],[17,29,17,30],[17,18,17,19],[17,12,17,13],[17,22,17,23],[17,33,17,34],[17,25,17,26],[17,31,17,32],[16,12,16,14],[16,22,16,23],[16,25,16,27],[16,16,16,17],[16,19,16,20],[16,29,16,30],[1,54,1,55],[1,0,1,53],[25,12,25,14],[25,15,25,23],[13,59,13,60],[16,35,16,36],[8,0,10,10],[11,1,11,2],[12,1,12,2],[25,44,25,47],[25,48,25,49],[12,14,12,15],[12,56,12,57],[12,27,12,28],[17,59,17,60],[18,59,18,60],[13,27,13,28],[12,29,15,30],[12,33,15,34],[14,27,14,28],[11,18,11,19],[11,25,11,26],[18,5,18,10],[9,12,9,15],[35,38,40,38],[40,39,40,41],[40,45,40,47],[35,39,35,41],[36,39,36,41],[37,39,37,41],[38,39,38,41],[39,39,39,41],[35,45,35,47],[37,52,37,62],[38,52,38,62],[39,52,39,62],[40,42,40,43],[35,48,35,49],[36,48,36,49],[37,48,37,49],[38,48,38,49],[39,48,39,49],[40,48,40,49],[36,45,36,47],[35,51,39,51],[37,45,37,47],[38,45,38,47],[39,45,39,47],[35,42,35,43],[36,42,36,43],[37,42,37,43],[38,42,38,43],[39,42,39,43],[40,51,40,64],[9,16,9,18],[9,23,9,25],[9,30,9,32],[9,37,9,39],[9,44,9,46],[9,51,9,53],[9,58,9,60],[34,38,34,49],[29,28,29,31],[29,15,29,18],[29,32,29,36],[28,28,28,29],[26,25,26,27],[27,38,27,49],[26,28,26,36],[28,30,28,36],[28,25,28,27],[27,25,27,27],[27,28,27,36],[29,25,29,27],[32,52,32,56],[28,38,33,49],[33,52,33,56],[19,38,19,43]]}
[null,null,null,null,null,null,null,null,null,null,null,null,null,null,null,null,null,null,null,null,null,null,null,null,null,null,null,null,null,null,null,null,null,null,null,null,null,null,null,null,null,null,null,null,null,null,null,null,null,null,null,null,null,null,"医師：",null,null,null,null,null,null,null,null,"印"]
["脳卒中地域連携パス（フェーズ１：急性期）",null,null,null,null,null,null,null,null,null,null,null,null,null,null,null,null,null,null,null,null,null,null,null,null,null,null,null,null,null,null,null,null,null,null,null,null,null,null,null,null,null,null,null,null,null,null,null,null,null,null,null,null,null,"施設名",null,{"$f":"IF(患者基本情報!E22=\"\",\"\",患者基本情報!E22)","v":"幡多けんみん病院"}]
["患者ID",null,{"$f":"IF(患者基本情報!E6=\"\",\"\",患者基本情報!E6)","v":0},null,null,null,"患者氏名",null,null,{"$f":"IF(患者基本情報!E8=\"\",\"\",患者基本情報!E8)","v":0},null,null,null,null,null,"生年月日",null,null,{"$f":"IF(患者基本情報!E10=\"\",\"\",患者基本情報!E10)","v":"00:00:00"},null,null,null,null,null,"身長",null,null,{"$f":"IF(患者基本情報!E24=\"\",\"\",患者基本情報!E24)","v":""},null,null,"cm","体重",null,{"$f":"IF(患者基本情報!E26=\"\",\"\",患者基本情報!E26)","v":""},null,"kg","アレルギー",null,null,{"$f":"IF(患者基本情報!E12=\"\",\"\",患者基本情報!E12)","v":""},null,null,null,null,null,null,null,null,"入院日",null,{"$f":"IF(患者基本情報!E30=\"\",\"\",患者基本情報!E30)","v":""},null,null,null,"退・転院日",null,{"$f":"IF(患者基本情報!E32=\"\",\"\",患者基本情報!E32)","v":""},null,null,null,"在院日数",null,{"$f":"IF(BE3=\"\",\"\",BE3-AY3+1)","v":""},null,"日"]
["病名",null,{"$f":"IF(医師記入!E7=\"\",\"\",医師記入!E7)","v":""},null,null,null,null,null,null,"部位",null,null,{"$f":"IF(医師記入!E8=\"\",\"\",医師記入!E8)","v":""},null,null,null,null,null,null,"（",{"$f":"IF(医師記入!Q8=\"\",\"\",医師記入!Q8)","v":""},null,"）",{"$f":"IF(医師記入!E9=\"\",\"\",医師記入!E9)","v":""},null,null,null,null,null,null,"（",{"$f":"IF(医師記入!Q9=\"\",\"\",医師記入!Q9)","v":""},null,"）",{"$f":"IF(医師記入!E10=\"\",\"\",医師記入!E10)","v":""},null,null,null,null,null,null,"（",{"$f":"IF(医師記入!Q10=\"\",\"\",医師記入!Q10)","v":""},null,"）","（その他）",null,{"$f":"IF(医師記入!G11=\"\",\"\",医師記入!G11)","v":""},null,null,null,null,null,null,null,"（",{"$f":"IF(医師記入!Q11=\"\",\"\",医師記入!Q11)","v":""},null,"）","発症区分",null,null,{"$f":"IF(医師記入!V7=\"\",\"\",医師記入!V7)","v":""}]
["感染症",null,{"$f":"IF(患者基本情報!E14=\"\",\"\",患者基本情報!E14)","v":""},null,null,null,null,null,null,null,null,"治療法",null,{"$f":"IF(医師記入!E12=\"\",\"\",医師記入!E12)","v":""},null,null,null,null,null,{"$f":"IF(医師記入!J12=\"\",\"\",医師記入!J12)","v":""},null,null,null,null,null,{"$f":"IF(医師記入!O12=\"\",\"\",医師記入!O12)","v":""},null,null,null,null,null,"手術",null,{"$f":"IF(医師記入!E17=\"\",\"\",医師記入!E17)","v":""},null,null,null,null,null,{"$f":"IF(医師記入!J17=\"\",\"\",医師記入!J17)","v":""},null,null,null,null,null,{"$f":"IF(医師記入!O17=\"\",\"\",医師記入!O17)","v":""},null,null,null,null,null,"備考"]
["入院時年齢",null,null,null,{"$f":"患者基本情報!F40","v":""},null,null,null,null,"性別",null,{"$f":"IF(患者基本情報!M8=\"\",\"\",患者基本情報!M8)","v":""},null,"t-PA使用",null,null,{"$f":"IF(医師記入!Q13=\"\",\"\",医師記入!Q13)","v":""},null,null,"t-PA投与後出血性合併症",null,null,null,null,{"$f":"IF(医師記入!Q14=\"\",\"\",医師記入!Q14)","v":""},null,"発症日時",null,null,{"$f":"IF(患者基本情報!E16=\"\",\"\",患者基本情報!E16)","v":""},null,null,null,"来院日時",null,null,{"$f":"IF(患者基本情報!E18=\"\",\"\",患者基本情報!E18)","v":""},null,null,null,"搬送・入院区分",null,null,null,{"$f":"IF(患者基本情報!N18=\"\",\"\",患者基本情報!N18)","v":""},null,null,null,null,null,null,null,null,null,null,null,null,null,null,null,null,null,null,null,null,null,null,null,1]
["入院時情報",null,null,null,null,null,null,null,null,null,null,null,null,null,null,null,"ステップ１",null,null,null,null,null,null,"ステップ２",null,null,null,null,null,null,"ステップ３",null,null,null,null,null,null,"ステップ４",null,null,null,null,null,null,"ステップ５",null,null,null,null,null,null,"ステップ６",null,null,null,null,null,null,"ステップ７"]
["病歴",null,null,null,null,null,null,null,null,null,null,null,"進行度",null,null,null,"ベッド上全介助",null,null,null,null,null,null,"ベッド上（端座位まで）",null,null,null,null,null,null,"車椅子（移乗・駆動）",null,null,null,null,null,null,"立位",null,null,null,null,null,null,"平行棒歩行",null,null,null,null,null,null,"歩行（歩行器・杖・独歩）",null,null,null,null,null,null,"応用歩行（屋外・階段）"]
[null,null,null,null,null,null,null,null,null,null,null,null,"開始日",null,null,null,null,null,null,null,"(",{"$f":"IF(Q9=\"\",\"\",Q9-AY3)","v":""},"日後）",null,null,null,null,"(",{"$f":"IF(X9=\"\",\"\",X9-AY3)","v":""},"日後）",null,null,null,null,"(",{"$f":"IF(AE9=\"\",\"\",AE9-AY3)","v":""},"日後）",null,null,null,null,"(",{"$f":"IF(AL9=\"\",\"\",AL9-AY3)","v":""},"日後）",null,null,null,null,"(",{"$f":"IF(AS9=\"\",\"\",AS9-AY3)","v":""},"日後）",null,null,null,null,"(",{"$f":"IF(AZ9=\"\",\"\",AZ9-AY3)","v":""},"日後）",null,null,null,null,"(",{"$f":"IF(BG9=\"\",\"\",BG9-AY3)","v":""},"日後）"]
[null,null,null,null,null,null,null,null,null,null,null,null,"MAS",null,null,null,"項目",null,null,"7日","14日","30日","90日","肘関節伸展",null,null,{"$f":"IF(MAS!D4=\"\",\"\",MAS!D4)","v":""},{"$f":"IF(MAS!D5=\"\",\"\",MAS!D5)","v":""},{"$f":"IF(MAS!D6=\"\",\"\",MAS!D6)","v":""},{"$f":"IF(MAS!D7=\"\",\"\",MAS!D7)","v":""},"手関節背屈",null,null,{"$f":"IF(MAS!E4=\"\",\"\",MAS!E4)","v":""},{"$f":"IF(MAS!E5=\"\",\"\",MAS!E5)","v":""},{"$f":"IF(MAS!E6=\"\",\"\",MAS!E6)","v":""},{"$f":"IF(MAS!E7=\"\",\"\",MAS!E7)","v":""},"膝関節屈曲",null,null,{"$f":"IF(MAS!F4=\"\",\"\",MAS!F4)","v":""},{"$f":"IF(MAS!F5=\"\",\"\",MAS!F5)","v":""},{"$f":"IF(MAS!F6=\"\",\"\",MAS!F6)","v":""},{"$f":"IF(MAS!F7=\"\",\"\",MAS!F7)","v":""},"膝関節伸展",null,null,{"$f":"IF(MAS!G4=\"\",\"\",MAS!G4)","v":""},{"$f":"IF(MAS!G5=\"\",\"\",MAS!G5)","v":""},{"$f":"IF(MAS!G6=\"\",\"\",MAS!G6)","v":""},{"$f":"IF(MAS!G7=\"\",\"\",MAS!G7)","v":""},"足関節底屈",null,null,{"$f":"IF(MAS!H4=\"\",\"\",MAS!H4)","v":""},{"$f":"IF(MAS!H5=\"\",\"\",MAS!H5)","v":""},{"$f":"IF(MAS!H6=\"\",\"\",MAS!H6)","v":""},{"$f":"IF(MAS!H7=\"\",\"\",MAS!H7)","v":""},"足関節背屈",null,null,{"$f":"IF(MAS!I4=\"\",\"\",MAS!I4)","v":""},{"$f":"IF(MAS!I5=\"\",\"\",MAS!I5)","v":""},{"$f":"IF(MAS!I6=\"\",\"\",MAS!I6)","v":""},{"$f":"IF(MAS!I7=\"\",\"\",MAS!I7)","v":""}]
[null,null,null,null,null,null,null,null,null,null,null,null,"【初期評価】",null,null,null,null,null,null,null,null,null,null,null,null,"【退・転院時評価】",null,null,null,null,null,null,null,null,null,null,null,null,"退院時情報",null,null,null,null,null,null,null,null,null,null,null,null,"口腔情報",null,null,null,null,null,null,"日常生活機能評価"]
["基礎疾患","高血圧症",null,null,null,null,null,null,null,null,null,null,"JCS",null,{"$f":"IF(JCS・GCS!C12=\"\",\"\",JCS・GCS!C12)","v":""},null,"GCS",null,{"$f":"IF(JCS・GCS!C26=\"EVM\",\"\",JCS・GCS!C26)","v":""},null,"NIHSS",null,{"$f":"IF(NIHSS!D46=0,\"\",NIHSS!D45)","v":""},null,null,"JCS",null,{"$f":"IF(JCS・GCS!E12=\"\",\"\",JCS・GCS!E12)","v":""},null,"GCS",null,{"$f":"IF(JCS・GCS!E26=\"EVM\",\"\",JCS・GCS!E26)","v":""},null,"NIHSS",null,{"$f":"IF(NIHSS!F46=0,\"\",NIHSS!F45)","v":""},null,null,"かかりつけ医",null,null,null,null,null,{"$f":"IF(E35=\"\",\"\",E35)","v":""},null,null,null,null,null,null,"自歯",null,null,null,null,null,"本","退・転院時","床上安静",null,{"$f":"IF(日常生活機能評価!E7=\"\",\"\",日常生活機能評価!E7)","v":""}]
[null,"糖尿病",null,null,null,null,null,null,null,null,null,null,"運動機能",null,null,null,"MMT",null,"左","右","BS",null,"左","右",null,"運動機能",null,null,null,"MMT",null,"左","右","BS",null,"左","右",null,"転帰",null,null,null,null,null,{"$f":"IF(患者基本情報!F34=\"\",\"\",患者基本情報!F34)","v":""},null,null,null,null,null,null,"義歯",null,null,null,null,null,null,null,"手を上げる",null,{"$f":"IF(日常生活機能評価!E8=\"\",\"\",日常生活機能評価!E8)","v":""}]
[null,"心房細動",null,null,null,null,null,null,null,null,null,null,null,null,"上肢",null,null,null,{"$f":"IF(MMT!C12=\"\",\"\",MMT!C12)","v":""},{"$f":"IF(MMT!D12=\"\",\"\",MMT!D12)","v":""},null,null,{"$f":"IF(Brunnstrom!C10=\"\",\"\",Brunnstrom!C10)","v":""},{"$f":"IF(Brunnstrom!D10=\"\",\"\",Brunnstrom!D10)","v":""},null,null,null,"上肢",null,null,null,{"$f":"IF(MMT!E12=\"\",\"\",MMT!E12)","v":""},{"$f":"IF(MMT!F12=\"\",\"\",MMT!F12)","v":""},null,null,{"$f":"IF(Brunnstrom!E10=\"\",\"\",Brunnstrom!E10)","v":""},{"$f":"IF(Brunnstrom!F10=\"\",\"\",Brunnstrom!F10)","v":""},null,"転帰区分",null,null,null,null,null,{"$f":"IF(患者基本情報!F36=\"\",\"\",患者基本情報!F36)","v":""},null,null,null,null,null,null,"衛生状態",null,null,null,null,null,null,null,"寝返り",null,{"$f":"IF(日常生活機能評価!E9=\"\",\"\",日常生活機能評価!E9)","v":""}]
[null,"脂質異常",null,null,null,null,null,null,null,null,null,null,null,null,"手指",null,null,null,{"$f":"IF(MMT!C13=\"\",\"\",MMT!C13)","v":""},{"$f":"IF(MMT!D13=\"\",\"\",MMT!D13)","v":""},null,null,{"$f":"IF(Brunnstrom!C11=\"\",\"\",Brunnstrom!C11)","v":""},{"$f":"IF(Brunnstrom!D11=\"\",\"\",Brunnstrom!D11)","v":""},null,null,null,"手指",null,null,null,{"$f":"IF(MMT!E13=\"\",\"\",MMT!E13)","v":""},{"$f":"IF(MMT!F13=\"\",\"\",MMT!F13)","v":""},null,null,{"$f":"IF(Brunnstrom!E11=\"\",\"\",Brunnstrom!E11)","v":""},{"$f":"IF(Brunnstrom!F11=\"\",\"\",Brunnstrom!F11)","v":""},null,"転帰先医療機関",null,null,null,null,null,{"$f":"IF(患者基本情報!F38=\"\",\"\",患者基本情報!F38)","v":""},null,null,null,null,null,null,"口腔内乾燥",null,null,null,null,null,null,null,"起き上がり",null,{"$f":"IF(日常生活機能評価!E10=\"\",\"\",日常生活機能評価!E10)","v":""}]
[null,"その他",null,null,null,null,null,null,null,null,null,null,null,null,"下肢",null,null,null,{"$f":"IF(MMT!C14=\"\",\"\",MMT!C14)","v":""},{"$f":"IF(MMT!D14=\"\",\"\",MMT!D14)","v":""},null,null,{"$f":"IF(Brunnstrom!C12=\"\",\"\",Brunnstrom!C12)","v":""},{"$f":"IF(Brunnstrom!D12=\"\",\"\",Brunnstrom!D12)","v":""},null,null,null,"下肢",null,null,null,{"$f":"IF(MMT!E14=\"\",\"\",MMT!E14)","v":""},{"$f":"IF(MMT!F14=\"\",\"\",MMT!F14)","v":""},null,null,{"$f":"IF(Brunnstrom!E12=\"\",\"\",Brunnstrom!E12)","v":""},{"$f":"IF(Brunnstrom!F12=\"\",\"\",Brunnstrom!F12)","v":""},null,"担当ケアマネージャ",null,null,null,null,null,{"$f":"IF(E34=\"\",\"\",E34)","v":""},null,null,null,null,null,null,"歯科的治療の必要性",null,null,null,null,null,null,null,"座位保持",null,{"$f":"IF(日常生活機能評価!E11=\"\",\"\",日常生活機能評価!E11)","v":""}]
["喫煙状況",null,null,null,null,null,null,null,null,null,null,null,"FIM",null,null,"運動",{"$f":"O18+O19+S18+W18","v":0},null,"認知",{"$f":"S19+W19","v":0},null,"合計",{"$f":"Q17+T17","v":0},null,null,"FIM",null,null,"運動",{"$f":"AB18+AB19+AF18+AJ18","v":0},null,"認知",{"$f":"AF19+AJ19","v":0},null,"合計",{"$f":"AD17+AG17","v":0},null,null,"キーパーソン",null,null,null,null,null,null,null,null,null,null,null,null,"その他注意事項：",null,null,null,null,null,null,null,"移乗",null,{"$f":"IF(日常生活機能評価!E12=\"\",\"\",日常生活機能評価!E12)","v":""}]
["1日喫煙本数／継続年数",null,null,null,null,null,null,"本",null,null,"年",null,"セルフケア\n(42点)",null,{"$f":"IF(FIM!U15=\"\",\"\",FIM!U15)","v":0},null,"排泄\n（14点）",null,{"$f":"IF(FIM!U16=\"\",\"\",FIM!U16)","v":0},null,"移乗\n(21点）",null,{"$f":"IF(FIM!U17=\"\",\"\",FIM!U17)","v":0},null,null,"セルフケア\n(42点)",null,{"$f":"IF(FIM!U24=\"\",\"\",FIM!U24)","v":0},null,"排泄\n（14点）",null,{"$f":"IF(FIM!U25=\"\",\"\",FIM!U25)","v":0},null,"移乗\n(21点）",null,{"$f":"IF(FIM!U26=\"\",\"\",FIM!U26)","v":0},null,null,"寝たきり度",null,null,null,null,null,null,null,null,null,null,null,null,null,null,null,null,null,null,null,null,"移動方法",null,{"$f":"IF(日常生活機能評価!E13=\"\",\"\",日常生活機能評価!E13)","v":""}]
["アルコール",null,null,null,null,null,null,null,null,null,null,null,"移動\n（14点）",null,{"$f":"IF(FIM!U18=\"\",\"\",FIM!U18)","v":0},null,"コミュニ\n（14点）",null,{"$f":"IF(FIM!U19=\"\",\"\",FIM!U19)","v":0},null,"社会認識\n(21点）",null,{"$f":"IF(FIM!U20=\"\",\"\",FIM!U20)","v":0},null,null,"移動\n（14点）",null,{"$f":"IF(FIM!U27=\"\",\"\",FIM!U27)","v":0},null,"コミュニ\n（14点）",null,{"$f":"IF(FIM!U28=\"\",\"\",FIM!U28)","v":0},null,"社会認識\n(21点）",null,{"$f":"IF(FIM!U29=\"\",\"\",FIM!U29)","v":0},null,null,"認知症自立度",null,null,null,null,null,null,null,null,null,null,null,null,null,null,null,null,null,null,null,null,"口腔清潔",null,{"$f":"IF(日常生活機能評価!E14=\"\",\"\",日常生活機能評価!E14)","v":""}]
["薬剤",null,null,null,null,null,null,null,null,null,null,null,null,null,null,null,null,null,null,null,null,null,null,null,null,null,null,null,null,null,null,null,null,null,null,null,null,null,"HDS-R",null,null,null,null,null,{"$f":"IF('HDS-R'!G26<>\"\",'HDS-R'!G26,IF('HDS-R'!E27=0,\"\",'HDS-R'!E26))","v":""},null,null,null,null,null,null,null,null,null,null,null,null,null,null,"食事摂取",null,{"$f":"IF(日常生活機能評価!E15=\"\",\"\",日常生活機能評価!E15)","v":""}]
[null,null,null,null,null,null,null,null,null,null,null,null,null,null,null,null,null,null,null,null,null,null,null,null,null,null,null,null,null,null,null,null,null,null,null,null,null,null,"認知症周辺症状",null,null,null,null,null,null,null,null,null,null,null,null,null,null,null,null,null,null,null,null,"衣服着脱",null,{"$f":"IF(日常生活機能評価!E16=\"\",\"\",日常生活機能評価!E16)","v":""}]
[null,null,null,null,null,null,null,null,null,null,null,null,null,null,null,null,null,null,null,null,null,null,null,null,null,null,null,null,null,null,null,null,null,null,null,null,null,null,"合併症",null,null,null,null,null,null,null,null,null,null,null,null,null,null,null,null,null,null,null,null,"意思の伝達",null,{"$f":"IF(日常生活機能評価!E17=\"\",\"\",日常生活機能評価!E17)","v":""}]
[null,null,null,null,null,null,null,null,null,null,null,null,null,null,null,null,null,null,null,null,null,null,null,null,null,null,null,null,null,null,null,null,null,null,null,null,null,null,"多剤耐性菌",null,null,null,null,null,null,null,null,null,null,null,null,null,null,null,null,null,null,null,null,"指示が通じる",null,{"$f":"IF(日常生活機能評価!E18=\"\",\"\",日常生活機能評価!E18)","v":""},null,"合計"]
["生活場所",null,null,null,null,null,null,null,null,null,null,null,null,null,null,null,null,null,null,null,null,null,null,null,null,null,null,null,null,null,null,null,null,null,null,null,null,null,"最終排便",null,null,null,null,null,null,null,null,null,null,null,null,null,null,null,null,null,null,null,null,"危険行動",null,{"$f":"IF(日常生活機能評価!E19=\"\",\"\",日常生活機能評価!E19)","v":""},null,{"$f":"IF(日常生活機能評価!E20=\"\",\"\",日常生活機能評価!E20)","v":0}]
["同居者",null,null,null,null,null,null,null,null,null,null,null,null,null,null,null,null,null,null,null,null,null,null,null,null,null,null,null,null,null,null,null,null,null,null,null,null,null,"最終清拭",null,null,null,null,null,null,null,null,null,null,null,null,"説明内容","Ｄｒ："]
["キーパーソン",null,null,null,null,null,null,null,null,null,null,null,"感覚障害",null,null,{"$f":"IF(障害!C10=\"\",\"\",障害!C10)","v":""},null,null,null,null,null,null,null,null,null,"感覚障害",null,null,{"$f":"IF(障害!E10=\"\",\"\",障害!E10)","v":""},null,null,null,null,null,null,null,null,null,"次回予約"]
["住所",null,null,null,{"$f":"IF(DATA_PATIENT!B9=0,\"\",DATA_PATIENT!B9)","v":""},null,null,null,null,null,null,null,"言語障害",null,null,{"$f":"IF(障害!C9=\"\",\"\",障害!C9)","v":""},null,null,null,null,null,null,null,null,null,"言語障害",null,null,{"$f":"IF(障害!E9=\"\",\"\",障害!E9)","v":""}]
[null,null,null,null,null,null,null,null,null,null,null,null,"高次脳機能障害",null,null,{"$f":"IF(障害!C11=\"\",\"\",障害!C11)","v":""},null,null,null,null,null,null,null,null,null,"高次脳機能障害",null,null,{"$f":"IF(障害!E11=\"\",\"\",障害!E11)","v":""},null,null,null,null,null,null,null,null,null,"薬剤情報"]
["連絡先",null,null,null,null,null,null,null,null,null,null,null,"嚥下障害",null,null,{"$f":"IF(障害!C12=\"\",\"\",障害!C12)","v":""},null,null,null,null,null,null,null,null,null,"嚥下障害",null,null,{"$f":"IF(障害!E12=\"\",\"\",障害!E12)","v":""}]
["職業",null,null,null,null,null,null,null,null,null,null,null,"褥瘡",null,null,{"$f":"IF(NPUAP!C8=\"\",\"\",NPUAP!C8)","v":""},null,null,null,{"$f":"IF(NPUAP!C7=\"\",\"\",NPUAP!C7)","v":""},null,null,null,null,null,"褥瘡",null,null,{"$f":"IF(NPUAP!D8=\"\",\"\",NPUAP!D8)","v":""},null,null,null,{"$f":"IF(NPUAP!D7=\"\",\"\",NPUAP!D7)","v":""},null,null,null,null,null,null,null,null,null,null,null,null,null,null,null,null,null,null,null,"キーパーソンへの説明",null,null,null,null,null,null,"本人への説明"]
["介護認定",null,null,null,null,null,null,null,null,null,null,null,"退・転院時栄養サマリー",null,null,null,null,null,null,null,null,null,null,null,null,null,null,null,null,null,null,null,null,null,null,null,null,null,null,null,null,null,null,null,null,null,null,null,null,null,null,"延命治療希望"]
["寝たきり度",null,null,null,null,null,null,null,null,null,null,null,"＜現在の食事内容＞",null,null,null,null,null,null,null,null,null,null,null,null,"＜食物アレルギー＞",null,null,null,null,null,null,null,null,null,null,null,null,null,null,null,null,null,null,null,null,null,null,null,null,null,"各種ドレーン","種類",null,null,null,null,"挿入日",null,null,null,"最終交換日"]
["自立度",null,null,null,null,null,null,null,null,null,null,null,"主食"]
["担当ケアマネ",null,null,null,null,null,null,null,null,null,null,null,"副食"]
["かかりつけ医",null,null,null,null,null,null,null,null,null,null,null,"詳細：",null,null,null,null,null,null,null,null,null,null,null,null,null,null,null,null,null,null,null,null,null,null,null,null,null,"検査情報",null,null,null,null,null,null,null,null,null,null,null,null,null,"備考"]
["食事",null,null,null,null,null,null,null,null,null,null,null,null,null,null,null,null,null,null,null,null,null,null,null,null,null,null,null,null,null,null,null,null,null,null,null,null,null,"入院時","INR",null,null,{"$f":"IF(検査情報!E9=\"\",\"\",検査情報!E9)","v":""},null,"退・転院時","INR",null,null,{"$f":"IF(検査情報!C9=\"\",\"\",検査情報!C9)","v":""},null,null,"生活指導","１）血圧自己測定"]
["排泄",null,null,null,null,null,null,null,null,null,null,null,"＜栄養アセスメント＞",null,null,null,null,null,null,"身長",null,{"$f":"IF(患者基本情報!E24=\"\",\"\",患者基本情報!E24)","v":""},null,"㎝","体重",null,{"$f":"IF(患者基本情報!E26=\"\",\"\",患者基本情報!E26)","v":""},null,"㎏","体重測定日",null,null,null,{"$f":"IF(患者基本情報!I26=\"\",\"\",患者基本情報!I26)","v":""},null,null,null,null,null,"LDL",null,null,{"$f":"IF(検査情報!E10=\"\",\"\",検査情報!E10)","v":""},null,null,"LDL",null,null,{"$f":"IF(検査情報!C10=\"\",\"\",検査情報!C10)","v":""},null,null,null,"２）内服自己管理"]
["入浴",null,null,null,null,null,null,null,null,null,null,null,null,null,null,null,null,null,null,"BMI",null,{"$f":"IF(患者基本情報!E24=\"\",\"\",患者基本情報!E26/(患者基本情報!E24*患者基本情報!E24)*10000)","v":""},null,null,"標準体重",null,{"$f":"IF(患者基本情報!E24=\"\",\"\",(患者基本情報!E24*患者基本情報!E24*22)/10000)","v":""},null,"㎏","体重測定",null,null,null,{"$f":"IF(患者基本情報!E28=\"\",\"\",患者基本情報!E28)","v":""},null,null,null,null,null,"HDL",null,null,{"$f":"IF(検査情報!E11=\"\",\"\",検査情報!E11)","v":""},null,null,"HDL",null,null,{"$f":"IF(検査情報!C11=\"\",\"\",検査情報!C11)","v":""},null,null,null,"３）パンフレット指導"]
["整容",null,null,null,null,null,null,null,null,null,null,null,"＜平均摂取率＞",null,null,null,null,"●目標エネルギー",null,null,null,null,"⇒",null,null,null,"Kcal/日",null,null,null,null,null,null,null,null,null,null,null,null,"TG",null,null,{"$f":"IF(検査情報!E12=\"\",\"\",検査情報!E12)","v":""},null,null,"TG",null,null,{"$f":"IF(検査情報!C12=\"\",\"\",検査情報!C12)","v":""},null,null,null,"４）食事指導（栄養科）"]
["更衣",null,null,null,null,null,null,null,null,null,null,null,"主食⇒",null,null,null,"％","栄養給与量",null,null,null,null,"⇒",null,null,null,"Kcal/日",null,null,null,null,null,null,null,null,null,null,null,null,"HbA1C(NGSP)",null,null,{"$f":"IF(検査情報!E14=\"\",\"\",検査情報!E14)","v":""},null,null,"HbA1C(NGSP)",null,null,{"$f":"IF(検査情報!C14=\"\",\"\",検査情報!C14)","v":""},null,null,null,"５）服薬指導（薬剤科）"]
["移動",null,null,null,null,null,null,null,null,null,null,null,"副食⇒",null,null,null,"％","栄養摂取量",null,null,null,null,"⇒",null,null,null,"Kcal/日",null,null,null,null,null,null,null,null,null,null,null,null,"Alb",null,null,{"$f":"IF(検査情報!E15=\"\",\"\",検査情報!E15)","v":""},null,null,"Alb",null,null,{"$f":"IF(検査情報!C15=\"\",\"\",検査情報!C15)","v":""},null,null,"職種別コメント（別紙）"]

{"sheet":"回復期ｵｰﾊﾞｰﾋﾞｭｰ","index":3,"n_rows":41,"n_cols":65,"rows_kept":41,"cut":false,"hidden":false,"merged":[[36,44,36,45],[35,40,35,41],[24,51,29,51],[29,52,29,56],[35,52,35,62],[33,61,33,64],[35,63,35,64],[31,61,31,64],[30,57,30,64],[32,57,32,60],[30,55,30,56],[31,52,31,56],[33,52,33,56],[31,57,31,60],[35,48,35,49],[29,57,29,58],[32,52,32,56],[36,42,36,43],[32,61,32,64],[33,57,33,60],[36,52,36,62],[36,63,36,64],[36,48,36,49],[29,59,29,62],[2,0,2,1],[2,2,2,5],[2,6,2,8],[2,9,2,14],[3,47,3,54],[31,51,34,51],[3,0,3,1],[3,2,3,8],[3,9,3,11],[3,12,3,18],[3,31,3,32],[2,15,2,17],[16,44,16,49],[14,38,14,43],[17,44,17,49],[17,29,17,30],[17,31,17,32],[15,32,15,33],[11,33,14,34],[15,29,15,30],[16,35,16,36],[16,29,16,30],[13,14,13,15],[28,25,28,27],[2,56,2,59],[2,60,2,61],[2,62,2,63],[2,48,2,49],[2,50,2,53],[2,54,2,55],[2,18,2,23],[2,24,2,26],[2,27,2,29],[2,31,2,32],[2,33,2,34],[2,36,2,38],[2,39,2,47],[3,45,3,46],[6,16,6,22],[6,23,6,29],[5,33,5,35],[5,0,5,3],[6,44,6,50],[4,0,4,1],[4,2,4,10],[4,11,4,12],[4,13,4,18],[4,19,4,24],[4,45,4,50],[4,39,4,44],[4,25,4,30],[4,31,4,32],[5,44,5,64],[3,42,3,43],[4,51,4,52],[4,33,4,38],[3,34,3,40],[3,20,3,21],[3,23,3,29],[3,56,3,57],[5,4,5,8],[5,9,5,10],[5,11,5,12],[5,13,5,15],[7,44,7,50],[5,36,5,39],[6,30,6,36],[7,30,7,36],[6,12,6,15],[5,26,5,28],[6,0,6,10],[5,29,5,32],[6,37,6,43],[5,40,5,43],[5,19,5,23],[5,16,5,18],[5,24,5,25],[14,44,14,49],[13,3,13,10],[11,25,14,26],[11,27,11,28],[14,14,14,15],[11,44,11,49],[12,44,12,49],[14,27,14,28],[13,44,13,49],[11,38,11,43],[11,14,11,15],[12,27,12,28],[12,38,12,43],[13,27,13,28],[13,38,13,43],[8,0,12,10],[8,16,8,19],[8,23,8,26],[11,20,14,21],[13,1,13,2],[14,3,14,10],[11,29,14,30],[11,16,14,17],[9,12,9,15],[1,56,1,64],[1,0,1,53],[8,58,8,61],[10,12,10,23],[10,25,10,36],[10,38,10,49],[8,37,8,40],[8,44,8,47],[1,54,1,55],[7,37,7,43],[7,51,7,57],[4,53,4,64],[3,59,3,61],[7,58,7,64],[6,51,6,57],[6,58,6,64],[8,51,8,54],[3,62,3,64],[8,30,8,33],[8,12,8,15],[7,0,7,10],[7,12,7,15],[7,16,7,22],[7,23,7,29],[34,0,34,3],[34,4,34,10],[32,0,32,3],[32,4,32,10],[30,51,30,54],[26,25,26,27],[26,0,27,3],[26,12,26,14],[31,25,31,36],[30,12,30,36],[28,28,28,29],[28,30,28,36],[27,25,27,27],[27,28,27,36],[34,53,34,64],[29,63,29,64],[31,0,31,3],[31,4,31,10],[30,4,30,10],[29,0,29,3],[28,0,28,3],[30,0,30,3],[28,4,28,10],[29,4,29,10],[35,0,35,3],[35,4,35,10],[34,38,34,49],[34,12,35,24],[21,44,21,49],[35,42,35,43],[35,44,35,45],[28,38,32,49],[35,38,35,39],[23,44,23,46],[33,0,33,3],[33,4,33,10],[33,12,33,13],[33,14,33,24],[24,44,24,46],[25,44,25,47],[27,38,27,49],[28,15,28,16],[28,12,28,14],[24,4,24,10],[25,4,25,10],[27,12,27,14],[27,15,27,23],[25,48,25,49],[12,61,12,62],[40,51,40,64],[37,0,37,3],[37,4,37,10],[38,26,38,27],[39,17,39,21],[39,23,39,25],[40,23,40,25],[38,23,38,25],[40,17,40,21],[40,26,40,27],[37,63,37,64],[37,52,37,62],[38,52,38,62],[37,44,37,49],[38,28,40,36],[39,52,39,62],[37,38,37,41],[39,63,39,64],[35,51,39,51],[38,63,38,64],[36,46,36,47],[38,0,38,3],[38,4,38,10],[14,61,14,62],[15,61,15,62],[18,61,18,62],[13,59,13,60],[19,59,19,60],[20,59,20,60],[20,61,20,62],[21,59,21,60],[21,61,21,62],[13,61,13,62],[40,0,40,3],[40,4,40,10],[39,12,39,13],[39,14,39,15],[39,0,39,3],[36,0,36,3],[36,4,36,10],[36,12,37,18],[38,12,38,16],[38,17,38,21],[39,4,39,10],[40,12,40,13],[40,14,40,15],[37,29,37,32],[37,33,37,36],[32,12,32,13],[32,25,35,36],[37,19,37,20],[37,21,37,23],[37,24,37,25],[37,26,37,27],[36,21,36,22],[36,26,36,27],[36,29,36,32],[36,19,36,20],[39,26,39,27],[36,24,36,25],[37,42,37,43],[32,14,32,24],[15,22,15,23],[36,38,36,39],[36,40,36,41],[18,38,18,43],[16,38,16,43],[17,22,17,23],[16,18,16,19],[16,22,16,23],[24,38,24,43],[25,28,25,36],[25,25,25,27],[26,28,26,36],[17,25,17,26],[16,25,16,26],[17,27,17,28],[16,33,16,34],[16,31,16,32],[29,12,29,14],[17,14,17,15],[15,12,15,14],[31,12,31,24],[29,19,29,23],[26,15,26,23],[25,12,25,14],[25,15,25,23],[36,33,36,36],[23,59,23,60],[11,58,23,58],[24,52,28,64],[23,38,23,43],[29,15,29,18],[22,38,22,43],[29,32,29,36],[25,38,25,43],[29,25,29,27],[29,28,29,31],[28,17,28,23],[23,61,23,62],[22,44,22,49],[24,47,24,49],[23,47,23,49],[16,59,16,60],[17,59,17,60],[18,59,18,60],[14,1,14,2],[11,12,14,13],[12,14,12,15],[13,0,17,0],[23,0,23,3],[23,4,23,10],[15,1,15,2],[17,12,17,13],[16,1,16,2],[17,1,17,2],[16,14,16,15],[15,3,15,10],[18,0,18,10],[16,12,16,13],[17,3,17,10],[19,0,22,10],[16,3,16,10],[15,44,15,49],[17,35,17,36],[17,33,17,34],[17,18,17,19],[17,20,17,21],[19,44,19,49],[17,38,17,43],[25,0,25,3],[24,0,24,3],[18,44,18,49],[20,38,20,43],[20,44,20,49],[15,16,15,17],[19,38,19,43],[23,63,23,64],[16,61,16,62],[17,61,17,62],[19,61,19,62],[22,61,22,62],[11,63,21,64],[11,61,11,62],[26,4,27,10],[17,16,17,17],[15,25,15,27],[14,56,14,57],[15,35,15,36],[15,59,15,60],[14,51,14,55],[15,19,15,20],[16,20,16,21],[16,16,16,17],[16,27,16,28],[22,59,22,60],[15,51,15,55],[15,56,15,57],[16,51,23,57],[21,38,21,43],[15,38,15,43],[9,16,9,18],[9,23,9,25],[9,30,9,32],[9,37,9,39],[9,44,9,46],[9,51,9,53],[9,58,9,60],[39,38,39,49],[40,38,40,40],[40,41,40,43],[40,44,40,46],[40,47,40,49],[10,58,10,64],[10,51,10,57],[11,51,11,55],[12,51,12,55],[12,56,12,57],[13,51,13,55],[13,56,13,57],[14,59,14,60],[11,59,11,60],[12,59,12,60],[35,46,35,47],[22,63,22,64]]}
[]
["脳卒中地域連携パス（フェーズ２：回復期） 身体機能リハ150日まで・高次機能リハ180日まで",null,null,null,null,null,null,null,null,null,null,null,null,null,null,null,null,null,null,null,null,null,null,null,null,null,null,null,null,null,null,null,null,null,null,null,null,null,null,null,null,null,null,null,null,null,null,null,null,null,null,null,null,null,"施設名",null,{"$f":"IF(患者基本情報!P22=\"\",\"\",患者基本情報!P22)","v":""}]
["患者ID",null,{"$f":"IF(患者基本情報!E6=\"\",\"\",患者基本情報!E6)","v":0},null,null,null,"患者氏名",null,null,{"$f":"IF(患者基本情報!E8=\"\",\"\",患者基本情報!E8)","v":0},null,null,null,null,null,"生年月日",null,null,{"$f":"IF(患者基本情報!E10=\"\",\"\",患者基本情報!E10)","v":"00:00:00"},null,null,null,null,null,"身長",null,null,{"$f":"IF(患者基本情報!P24=\"\",\"\",患者基本情報!P24)","v":""},null,null,"cm","体重",null,{"$f":"IF(患者基本情報!P26=\"\",\"\",患者基本情報!P26)","v":""},null,"kg","アレルギー",null,null,{"$f":"IF(患者基本情報!E12=\"\",\"\",患者基本情報!E12)","v":""},null,null,null,null,null,null,null,null,"入院日",null,{"$f":"IF(患者基本情報!P30=\"\",\"\",患者基本情報!P30)","v":""},null,null,null,"退・転院日",null,{"$f":"IF(患者基本情報!P32=\"\",\"\",患者基本情報!P32)","v":""},null,null,null,"在院日数",null,{"$f":"IF(BE3=\"\",\"\",BE3-AY3+1)","v":""},null,"日"]
["病名",null,{"$f":"IF(医師記入2!E7=\"\",\"\",医師記入2!E7)","v":""},null,null,null,null,null,null,"部位",null,null,{"$f":"IF(医師記入2!E8=\"\",\"\",医師記入2!E8)","v":""},null,null,null,null,null,null,"（",{"$f":"IF(医師記入2!Q8=\"\",\"\",医師記入2!Q8)","v":""},null,"）",{"$f":"IF(医師記入2!E9=\"\",\"\",医師記入2!E9)","v":""},null,null,null,null,null,null,"（",{"$f":"IF(医師記入2!Q9=\"\",\"\",医師記入2!Q9)","v":""},null,"）",{"$f":"IF(医師記入2!E10=\"\",\"\",医師記入2!E10)","v":""},null,null,null,null,null,null,"（",{"$f":"IF(医師記入2!Q10=\"\",\"\",医師記入2!Q10)","v":""},null,"）","（その他）",null,{"$f":"IF(医師記入2!G11=\"\",\"\",医師記入2!G11)","v":""},null,null,null,null,null,null,null,"（",{"$f":"IF(医師記入2!Q11=\"\",\"\",医師記入2!Q11)","v":""},null,"）","発症区分",null,null,{"$f":"IF(急性期ｵｰﾊﾞｰﾋﾞｭｰ!BK4=\"\",\"\",急性期ｵｰﾊﾞｰﾋﾞｭｰ!BK4)","v":""}]
["感染症",null,{"$f":"IF(患者基本情報!E14=\"\",\"\",患者基本情報!E14)","v":""},null,null,null,null,null,null,null,null,"治療法",null,{"$f":"IF(医師記入2!E12=\"\",\"\",医師記入2!E12)","v":""},null,null,null,null,null,{"$f":"IF(医師記入2!J12=\"\",\"\",医師記入2!J12)","v":""},null,null,null,null,null,{"$f":"IF(医師記入2!O12=\"\",\"\",医師記入2!O12)","v":""},null,null,null,null,null,"手術",null,{"$f":"IF(医師記入2!E13=\"\",\"\",医師記入2!E13)","v":""},null,null,null,null,null,{"$f":"IF(医師記入2!J13=\"\",\"\",医師記入2!J13)","v":""},null,null,null,null,null,{"$f":"IF(医師記入2!O13=\"\",\"\",医師記入2!O13)","v":""},null,null,null,null,null,"備考"]
["入院時年齢",null,null,null,{"$f":"患者基本情報!Q41","v":""},null,null,null,null,"性別",null,{"$f":"IF(患者基本情報!M8=\"\",\"\",患者基本情報!M8)","v":""},null,"t-PA使用",null,null,{"$f":"IF(急性期ｵｰﾊﾞｰﾋﾞｭｰ!Q6=\"\",\"\",急性期ｵｰﾊﾞｰﾋﾞｭｰ!Q6)","v":""},null,null,"t-PA投与後出血性合併症",null,null,null,null,{"$f":"IF(急性期ｵｰﾊﾞｰﾋﾞｭｰ!Y6=\"\",\"\",急性期ｵｰﾊﾞｰﾋﾞｭｰ!Y6)","v":""},null,"発症日時",null,null,{"$f":"IF(急性期ｵｰﾊﾞｰﾋﾞｭｰ!AD6=\"\",\"\",急性期ｵｰﾊﾞｰﾋﾞｭｰ!AD6)","v":""},null,null,null,"来院日時",null,null,{"$f":"IF(急性期ｵｰﾊﾞｰﾋﾞｭｰ!AK6=\"\",\"\",急性期ｵｰﾊﾞｰﾋﾞｭｰ!AK6)","v":""},null,null,null,"搬送・入院区分",null,null,null,{"$f":"IF(急性期ｵｰﾊﾞｰﾋﾞｭｰ!AS6=\"\",\"\",急性期ｵｰﾊﾞｰﾋﾞｭｰ!AS6)","v":""}]
["発症時情報",null,null,null,null,null,null,null,null,null,null,null,null,null,null,null,"ステップ１",null,null,null,null,null,null,"ステップ２",null,null,null,null,null,null,"ステップ３",null,null,null,null,null,null,"ステップ４",null,null,null,null,null,null,"ステップ５",null,null,null,null,null,null,"ステップ６",null,null,null,null,null,null,"ステップ７"]
["病歴",null,null,null,null,null,null,null,null,null,null,null,"進行度",null,null,null,"ベッド上全介助",null,null,null,null,null,null,"ベッド上（端座位まで）",null,null,null,null,null,null,"車椅子（移乗・駆動）",null,null,null,null,null,null,"立位",null,null,null,null,null,null,"平行棒歩行",null,null,null,null,null,null,"歩行（歩行器・杖・独歩）",null,null,null,null,null,null,"応用歩行（屋外・階段）"]
[{"$f":"IF(急性期ｵｰﾊﾞｰﾋﾞｭｰ!A9=\"\",\"\",急性期ｵｰﾊﾞｰﾋﾞｭｰ!A9)","v":""},null,null,null,null,null,null,null,null,null,null,null,"開始日",null,null,null,{"$f":"IF(急性期ｵｰﾊﾞｰﾋﾞｭｰ!Q9=\"\",\"\",急性期ｵｰﾊﾞｰﾋﾞｭｰ!Q9)","v":""},null,null,null,"(",{"$f":"IF(Q9=\"\",\"\",Q9-急性期ｵｰﾊﾞｰﾋﾞｭｰ!AY3)","v":""},"日後）",{"$f":"IF(急性期ｵｰﾊﾞｰﾋﾞｭｰ!X9=\"\",\"\",急性期ｵｰﾊﾞｰﾋﾞｭｰ!X9)","v":""},null,null,null,"(",{"$f":"IF(X9=\"\",\"\",X9-急性期ｵｰﾊﾞｰﾋﾞｭｰ!AY3)","v":""},"日後）",{"$f":"IF(急性期ｵｰﾊﾞｰﾋﾞｭｰ!AE9=\"\",\"\",急性期ｵｰﾊﾞｰﾋﾞｭｰ!AE9)","v":""},null,null,null,"(",{"$f":"IF(AE9=\"\",\"\",AE9-急性期ｵｰﾊﾞｰﾋﾞｭｰ!AY3)","v":""},"日後）",{"$f":"IF(急性期ｵｰﾊﾞｰﾋﾞｭｰ!AL9=\"\",\"\",急性期ｵｰﾊﾞｰﾋﾞｭｰ!AL9)","v":""},null,null,null,"(",{"$f":"IF(AL9=\"\",\"\",AL9-急性期ｵｰﾊﾞｰﾋﾞｭｰ!AY3)","v":""},"日後）",{"$f":"IF(急性期ｵｰﾊﾞｰﾋﾞｭｰ!AS9=\"\",\"\",急性期ｵｰﾊﾞｰﾋﾞｭｰ!AS9)","v":""},null,null,null,"(",{"$f":"IF(AS9=\"\",\"\",AS9-急性期ｵｰﾊﾞｰﾋﾞｭｰ!AY3)","v":""},"日後）",{"$f":"IF(急性期ｵｰﾊﾞｰﾋﾞｭｰ!AZ9=\"\",\"\",急性期ｵｰﾊﾞｰﾋﾞｭｰ!AZ9)","v":""},null,null,null,"(",{"$f":"IF(AZ9=\"\",\"\",AZ9-急性期ｵｰﾊﾞｰﾋﾞｭｰ!AY3)","v":""},"日後）",{"$f":"IF(急性期ｵｰﾊﾞｰﾋﾞｭｰ!BG9=\"\",\"\",急性期ｵｰﾊﾞｰﾋﾞｭｰ!BG9)","v":""},null,null,null,"(",{"$f":"IF(BG9=\"\",\"\",BG9-急性期ｵｰﾊﾞｰﾋﾞｭｰ!AY3)","v":""},"日後）"]
[null,null,null,null,null,null,null,null,null,null,null,null,"MAS",null,null,null,"項目",null,null,"7日","14日","30日","90日","肘関節伸展",null,null,{"$f":"IF(MAS!D4=\"\",\"\",MAS!D4)","v":""},{"$f":"IF(MAS!D5=\"\",\"\",MAS!D5)","v":""},{"$f":"IF(MAS!D6=\"\",\"\",MAS!D6)","v":""},{"$f":"IF(MAS!D7=\"\",\"\",MAS!D7)","v":""},"手関節背屈",null,null,{"$f":"IF(MAS!E4=\"\",\"\",MAS!E4)","v":""},{"$f":"IF(MAS!E5=\"\",\"\",MAS!E5)","v":""},{"$f":"IF(MAS!E6=\"\",\"\",MAS!E6)","v":""},{"$f":"IF(MAS!E7=\"\",\"\",MAS!E7)","v":""},"膝関節屈曲",null,null,{"$f":"IF(MAS!F4=\"\",\"\",MAS!F4)","v":""},{"$f":"IF(MAS!F5=\"\",\"\",MAS!F5)","v":""},{"$f":"IF(MAS!F6=\"\",\"\",MAS!F6)","v":""},{"$f":"IF(MAS!F7=\"\",\"\",MAS!F7)","v":""},"膝関節伸展",null,null,{"$f":"IF(MAS!G4=\"\",\"\",MAS!G4)","v":""},{"$f":"IF(MAS!G5=\"\",\"\",MAS!G5)","v":""},{"$f":"IF(MAS!G6=\"\",\"\",MAS!G6)","v":""},{"$f":"IF(MAS!G7=\"\",\"\",MAS!G7)","v":""},"足関節底屈",null,null,{"$f":"IF(MAS!H4=\"\",\"\",MAS!H4)","v":""},{"$f":"IF(MAS!H5=\"\",\"\",MAS!H5)","v":""},{"$f":"IF(MAS!H6=\"\",\"\",MAS!H6)","v":""},{"$f":"IF(MAS!H7=\"\",\"\",MAS!H7)","v":""},"足関節背屈",null,null,{"$f":"IF(MAS!I4=\"\",\"\",MAS!I4)","v":""},{"$f":"IF(MAS!I5=\"\",\"\",MAS!I5)","v":""},{"$f":"IF(MAS!I6=\"\",\"\",MAS!I6)","v":""},{"$f":"IF(MAS!I7=\"\",\"\",MAS!I7)","v":""}]
[null,null,null,null,null,null,null,null,null,null,null,null,"【初期評価】",null,null,null,null,null,null,null,null,null,null,null,null,"【退・転院時評価】",null,null,null,null,null,null,null,null,null,null,null,null,"退院時情報",null,null,null,null,null,null,null,null,null,null,null,null,"口腔情報",null,null,null,null,null,null,"日常生活機能評価"]
[null,null,null,null,null,null,null,null,null,null,null,null,"運動機能",null,null,null,"MMT",null,"左","右","BS",null,"左","右",null,"運動機能",null,null,null,"MMT",null,"左","右","BS",null,"左","右",null,"かかりつけ医",null,null,null,null,null,{"$f":"IF(E35=\"\",\"\",E35)","v":""},null,null,null,null,null,null,"自歯",null,null,null,null,null,"本","退・転院時","床上安静",null,{"$f":"IF(日常生活機能評価!K7=\"\",\"\",日常生活機能評価!K7)","v":""}]
[null,null,null,null,null,null,null,null,null,null,null,null,null,null,"上肢",null,null,null,{"$f":"IF(MMT!J12=\"\",\"\",MMT!J12)","v":""},{"$f":"IF(MMT!K12=\"\",\"\",MMT!K12)","v":""},null,null,{"$f":"IF(Brunnstrom!J10=\"\",\"\",Brunnstrom!J10)","v":""},{"$f":"IF(Brunnstrom!K10=\"\",\"\",Brunnstrom!K10)","v":""},null,null,null,"上肢",null,null,null,{"$f":"IF(MMT!L12=\"\",\"\",MMT!L12)","v":""},{"$f":"IF(MMT!M12=\"\",\"\",MMT!M12)","v":""},null,null,{"$f":"IF(Brunnstrom!L10=\"\",\"\",Brunnstrom!L10)","v":""},{"$f":"IF(Brunnstrom!M10=\"\",\"\",Brunnstrom!M10)","v":""},null,"転帰",null,null,null,null,null,{"$f":"IF(患者基本情報!Q34=\"\",\"\",患者基本情報!Q34)","v":""},null,null,null,null,null,null,"義歯",null,null,null,null,null,null,null,"手を上げる",null,{"$f":"IF(日常生活機能評価!K8=\"\",\"\",日常生活機能評価!K8)","v":""}]
["基礎疾患","高血圧症",null,{"$f":"IF(急性期ｵｰﾊﾞｰﾋﾞｭｰ!D12=\"\",\"\",急性期ｵｰﾊﾞｰﾋﾞｭｰ!D12)","v":""},null,null,null,null,null,null,null,null,null,null,"手指",null,null,null,{"$f":"IF(MMT!J13=\"\",\"\",MMT!J13)","v":""},{"$f":"IF(MMT!K13=\"\",\"\",MMT!K13)","v":""},null,null,{"$f":"IF(Brunnstrom!J11=\"\",\"\",Brunnstrom!J11)","v":""},{"$f":"IF(Brunnstrom!K11=\"\",\"\",Brunnstrom!K11)","v":""},null,null,null,"手指",null,null,null,{"$f":"IF(MMT!L13=\"\",\"\",MMT!L13)","v":""},{"$f":"IF(MMT!M13=\"\",\"\",MMT!M13)","v":""},null,null,{"$f":"IF(Brunnstrom!L11=\"\",\"\",Brunnstrom!L11)","v":""},{"$f":"IF(Brunnstrom!M11=\"\",\"\",Brunnstrom!M11)","v":""},null,"転帰区分",null,null,null,null,null,{"$f":"IF(患者基本情報!Q36=\"\",\"\",患者基本情報!Q36)","v":""},null,null,null,null,null,null,"衛生状態",null,null,null,null,null,null,null,"寝返り",null,{"$f":"IF(日常生活機能評価!K9=\"\",\"\",日常生活機能評価!K9)","v":""}]
[null,"糖尿病",null,{"$f":"IF(急性期ｵｰﾊﾞｰﾋﾞｭｰ!D13=\"\",\"\",急性期ｵｰﾊﾞｰﾋﾞｭｰ!D13)","v":""},null,null,null,null,null,null,null,null,null,null,"下肢",null,null,null,{"$f":"IF(MMT!J14=\"\",\"\",MMT!J14)","v":""},{"$f":"IF(MMT!K14=\"\",\"\",MMT!K14)","v":""},null,null,{"$f":"IF(Brunnstrom!J12=\"\",\"\",Brunnstrom!J12)","v":""},{"$f":"IF(Brunnstrom!K12=\"\",\"\",Brunnstrom!K12)","v":""},null,null,null,"下肢",null,null,null,{"$f":"IF(MMT!L14=\"\",\"\",MMT!L14)","v":""},{"$f":"IF(MMT!M14=\"\",\"\",MMT!M14)","v":""},null,null,{"$f":"IF(Brunnstrom!L12=\"\",\"\",Brunnstrom!L12)","v":""},{"$f":"IF(Brunnstrom!M12=\"\",\"\",Brunnstrom!M12)","v":""},null,"転帰先医療機関",null,null,null,null,null,{"$f":"IF(患者基本情報!Q38=\"\",\"\",患者基本情報!Q38)","v":""},null,null,null,null,null,null,"口腔内乾燥",null,null,null,null,null,null,null,"起き上がり",null,{"$f":"IF(日常生活機能評価!K10=\"\",\"\",日常生活機能評価!K10)","v":""}]
[null,"心房細動",null,{"$f":"IF(急性期ｵｰﾊﾞｰﾋﾞｭｰ!D14=\"\",\"\",急性期ｵｰﾊﾞｰﾋﾞｭｰ!D14)","v":""},null,null,null,null,null,null,null,null,"FIM",null,null,"運動",{"$f":"O17+O18+S17+W17","v":0},null,"認知",{"$f":"S18+W18","v":0},null,"合計",{"$f":"Q16+T16","v":0},null,null,"FIM",null,null,"運動",{"$f":"AB17+AB18+AF17+AJ17","v":0},null,"認知",{"$f":"AF18+AJ18","v":0},null,"合計",{"$f":"AD16+AG16","v":0},null,null,"担当ケアマネージャ",null,null,null,null,null,null,null,null,null,null,null,null,"歯科的治療の必要性",null,null,null,null,null,null,null,"座位保持",null,{"$f":"IF(日常生活機能評価!K11=\"\",\"\",日常生活機能評価!K11)","v":""}]
[null,"脂質異常",null,{"$f":"IF(急性期ｵｰﾊﾞｰﾋﾞｭｰ!D15=\"\",\"\",急性期ｵｰﾊﾞｰﾋﾞｭｰ!D15)","v":""},null,null,null,null,null,null,null,null,"セルフケア\n(42点)",null,{"$f":"IF(FIM!U34=\"\",\"\",FIM!U34)","v":0},null,"排泄\n（14点）",null,{"$f":"IF(FIM!U35=\"\",\"\",FIM!U35)","v":0},null,"移乗\n(21点）",null,{"$f":"IF(FIM!U36=\"\",\"\",FIM!U36)","v":0},null,null,"セルフケア\n(42点)",null,{"$f":"IF(FIM!U52=\"\",\"\",FIM!U52)","v":0},null,"排泄\n（14点）",null,{"$f":"IF(FIM!U53=\"\",\"\",FIM!U53)","v":0},null,"移乗\n(21点）",null,{"$f":"IF(FIM!U54=\"\",\"\",FIM!U54)","v":0},null,null,"キーパーソン",null,null,null,null,null,null,null,null,null,null,null,null,"その他注意事項：",null,null,null,null,null,null,null,"移乗",null,{"$f":"IF(日常生活機能評価!K12=\"\",\"\",日常生活機能評価!K12)","v":""}]
[null,"その他",null,{"$f":"IF(急性期ｵｰﾊﾞｰﾋﾞｭｰ!D16=\"\",\"\",急性期ｵｰﾊﾞｰﾋﾞｭｰ!D16)","v":""},null,null,null,null,null,null,null,null,"移動\n（14点）",null,{"$f":"IF(FIM!U37=\"\",\"\",FIM!U37)","v":0},null,"コミュニ\n（14点）",null,{"$f":"IF(FIM!U38=\"\",\"\",FIM!U38)","v":0},null,"社会認識\n(21点）",null,{"$f":"IF(FIM!U39=\"\",\"\",FIM!U39)","v":0},null,null,"移動\n（14点）",null,{"$f":"IF(FIM!U55=\"\",\"\",FIM!U55)","v":0},null,"コミュニ\n（14点）",null,{"$f":"IF(FIM!U56=\"\",\"\",FIM!U56)","v":0},null,"社会認識\n(21点）",null,{"$f":"IF(FIM!U57=\"\",\"\",FIM!U57)","v":0},null,null,"介護認定",null,null,null,null,null,null,null,null,null,null,null,null,null,null,null,null,null,null,null,null,"移動方法",null,{"$f":"IF(日常生活機能評価!K13=\"\",\"\",日常生活機能評価!K13)","v":""}]
["薬剤",null,null,null,null,null,null,null,null,null,null,null,null,null,null,null,null,null,null,null,null,null,null,null,null,null,null,null,null,null,null,null,null,null,null,null,null,null,"寝たきり度",null,null,null,null,null,null,null,null,null,null,null,null,null,null,null,null,null,null,null,null,"口腔清潔",null,{"$f":"IF(日常生活機能評価!K14=\"\",\"\",日常生活機能評価!K14)","v":""}]
[{"$f":"IF(急性期ｵｰﾊﾞｰﾋﾞｭｰ!B20=\"\",\"\",急性期ｵｰﾊﾞｰﾋﾞｭｰ!B20)","v":""},null,null,null,null,null,null,null,null,null,null,null,null,null,null,null,null,null,null,null,null,null,null,null,null,null,null,null,null,null,null,null,null,null,null,null,null,null,"認知症自立度",null,null,null,null,null,null,null,null,null,null,null,null,null,null,null,null,null,null,null,null,"食事摂取",null,{"$f":"IF(日常生活機能評価!K15=\"\",\"\",日常生活機能評価!K15)","v":""}]
[null,null,null,null,null,null,null,null,null,null,null,null,null,null,null,null,null,null,null,null,null,null,null,null,null,null,null,null,null,null,null,null,null,null,null,null,null,null,"HDS-R",null,null,null,null,null,{"$f":"IF('HDS-R'!G47<>\"\",'HDS-R'!G47,IF('HDS-R'!E48=0,\"\",'HDS-R'!E47))","v":""},null,null,null,null,null,null,null,null,null,null,null,null,null,null,"衣服着脱",null,{"$f":"IF(日常生活機能評価!K16=\"\",\"\",日常生活機能評価!K16)","v":""}]
[null,null,null,null,null,null,null,null,null,null,null,null,null,null,null,null,null,null,null,null,null,null,null,null,null,null,null,null,null,null,null,null,null,null,null,null,null,null,"認知症周辺症状",null,null,null,null,null,null,null,null,null,null,null,null,null,null,null,null,null,null,null,null,"意思の伝達",null,{"$f":"IF(日常生活機能評価!K17=\"\",\"\",日常生活機能評価!K17)","v":""}]
[null,null,null,null,null,null,null,null,null,null,null,null,null,null,null,null,null,null,null,null,null,null,null,null,null,null,null,null,null,null,null,null,null,null,null,null,null,null,"多剤耐性菌",null,null,null,null,null,null,null,null,null,null,null,null,null,null,null,null,null,null,null,null,"指示が通じる",null,{"$f":"IF(日常生活機能評価!K18=\"\",\"\",日常生活機能評価!K18)","v":""},null,"合計"]
["生活場所",null,null,null,{"$f":"IF(急性期ｵｰﾊﾞｰﾋﾞｭｰ!E24=\"\",\"\",急性期ｵｰﾊﾞｰﾋﾞｭｰ!E24)","v":""},null,null,null,null,null,null,null,null,null,null,null,null,null,null,null,null,null,null,null,null,null,null,null,null,null,null,null,null,null,null,null,null,null,"最終排便",null,null,null,null,null,null,null,null,null,null,null,null,null,null,null,null,null,null,null,null,"危険行動",null,{"$f":"IF(日常生活機能評価!K19=\"\",\"\",日常生活機能評価!K19)","v":""},null,{"$f":"IF(日常生活機能評価!K20=\"\",\"\",日常生活機能評価!K20)","v":0}]
["同居者",null,null,null,{"$f":"IF(急性期ｵｰﾊﾞｰﾋﾞｭｰ!E25=\"\",\"\",急性期ｵｰﾊﾞｰﾋﾞｭｰ!E25)","v":""},null,null,null,null,null,null,null,null,null,null,null,null,null,null,null,null,null,null,null,null,null,null,null,null,null,null,null,null,null,null,null,null,null,"最終清拭",null,null,null,null,null,null,null,null,null,null,null,null,"説明内容",{"$f":"IF(急性期ｵｰﾊﾞｰﾋﾞｭｰ!BA25=\"\",\"\",急性期ｵｰﾊﾞｰﾋﾞｭｰ!BA25)","v":"Ｄｒ："}]
["キーパーソン",null,null,null,{"$f":"IF(急性期ｵｰﾊﾞｰﾋﾞｭｰ!E26=\"\",\"\",急性期ｵｰﾊﾞｰﾋﾞｭｰ!E26)","v":""},null,null,null,null,null,null,null,"感覚障害",null,null,{"$f":"IF(障害!J10=\"\",\"\",障害!J10)","v":""},null,null,null,null,null,null,null,null,null,"感覚障害",null,null,{"$f":"IF(障害!L10=\"\",\"\",障害!L10)","v":""},null,null,null,null,null,null,null,null,null,"次回予約"]
["住所",null,null,null,{"$f":"IF(急性期ｵｰﾊﾞｰﾋﾞｭｰ!E27=\"\",\"\",急性期ｵｰﾊﾞｰﾋﾞｭｰ!E27)","v":""},null,null,null,null,null,null,null,"言語障害",null,null,{"$f":"IF(障害!J9=\"\",\"\",障害!J9)","v":""},null,null,null,null,null,null,null,null,null,"言語障害",null,null,{"$f":"IF(障害!L9=\"\",\"\",障害!L9)","v":""}]
[null,null,null,null,null,null,null,null,null,null,null,null,"高次脳機能障害",null,null,{"$f":"IF(障害!J11=\"\",\"\",障害!J11)","v":""},null,null,null,null,null,null,null,null,null,"高次脳機能障害",null,null,{"$f":"IF(障害!L11=\"\",\"\",障害!L11)","v":""},null,null,null,null,null,null,null,null,null,"薬剤情報"]
["連絡先",null,null,null,{"$f":"IF(急性期ｵｰﾊﾞｰﾋﾞｭｰ!E29=\"\",\"\",急性期ｵｰﾊﾞｰﾋﾞｭｰ!E29)","v":""},null,null,null,null,null,null,null,"嚥下障害",null,null,{"$f":"IF(障害!J12=\"\",\"\",障害!J12)","v":""},null,null,null,null,null,null,null,null,null,"嚥下障害",null,null,{"$f":"IF(障害!L12=\"\",\"\",障害!L12)","v":""}]
["職業",null,null,null,{"$f":"IF(急性期ｵｰﾊﾞｰﾋﾞｭｰ!E30=\"\",\"\",急性期ｵｰﾊﾞｰﾋﾞｭｰ!E30)","v":""},null,null,null,null,null,null,null,"褥瘡",null,null,{"$f":"IF(NPUAP!C14=\"\",\"\",NPUAP!C14)","v":""},null,null,null,{"$f":"IF(NPUAP!C13=\"\",\"\",NPUAP!C13)","v":""},null,null,null,null,null,"褥瘡",null,null,{"$f":"IF(NPUAP!D14=\"\",\"\",NPUAP!D14)","v":""},null,null,null,{"$f":"IF(NPUAP!D13=\"\",\"\",NPUAP!D13)","v":""},null,null,null,null,null,null,null,null,null,null,null,null,null,null,null,null,null,null,null,"キーパーソンへの説明",null,null,null,null,{"$f":"IF(急性期ｵｰﾊﾞｰﾋﾞｭｰ!BF30=\"\",\"\",急性期ｵｰﾊﾞｰﾋﾞｭｰ!BF30)","v":""},null,"本人への説明",null,null,null,{"$f":"IF(急性期ｵｰﾊﾞｰﾋﾞｭｰ!BL30=\"\",\"\",急性期ｵｰﾊﾞｰﾋﾞｭｰ!BL30)","v":""}]
["介護認定",null,null,null,{"$f":"IF(急性期ｵｰﾊﾞｰﾋﾞｭｰ!E31=\"\",\"\",急性期ｵｰﾊﾞｰﾋﾞｭｰ!E31)","v":""},null,null,null,null,null,null,null,"退・転院時栄養サマリー",null,null,null,null,null,null,null,null,null,null,null,null,null,null,null,null,null,null,null,null,null,null,null,null,null,null,null,null,null,null,null,null,null,null,null,null,null,null,"延命治療希望",null,null,null,{"$f":"IF(急性期ｵｰﾊﾞｰﾋﾞｭｰ!BD31=\"\",\"\",急性期ｵｰﾊﾞｰﾋﾞｭｰ!BD31)","v":""}]
["寝たきり度",null,null,null,{"$f":"IF(急性期ｵｰﾊﾞｰﾋﾞｭｰ!E32=\"\",\"\",急性期ｵｰﾊﾞｰﾋﾞｭｰ!E32)","v":""},null,null,null,null,null,null,null,"＜現在の食事内容＞",null,null,null,null,null,null,null,null,null,null,null,null,"＜食物アレルギー＞",null,null,null,null,null,null,null,null,null,null,null,null,null,null,null,null,null,null,null,null,null,null,null,null,null,"各種ドレーン","種類",null,null,null,null,"挿入日",null,null,null,"最終交換日"]
["自立度",null,null,null,{"$f":"IF(急性期ｵｰﾊﾞｰﾋﾞｭｰ!E33=\"\",\"\",急性期ｵｰﾊﾞｰﾋﾞｭｰ!E33)","v":""},null,null,null,null,null,null,null,"主食",null,null,null,null,null,null,null,null,null,null,null,null,null,null,null,null,null,null,null,null,null,null,null,null,null,null,null,null,null,null,null,null,null,null,null,null,null,null,null,{"$f":"IF(急性期ｵｰﾊﾞｰﾋﾞｭｰ!BA33=\"\",\"\",急性期ｵｰﾊﾞｰﾋﾞｭｰ!BA33)","v":""},null,null,null,null,{"$f":"IF(急性期ｵｰﾊﾞｰﾋﾞｭｰ!BF33=\"\",\"\",急性期ｵｰﾊﾞｰﾋﾞｭｰ!BF33)","v":""},null,null,null,{"$f":"IF(急性期ｵｰﾊﾞｰﾋﾞｭｰ!BJ33=\"\",\"\",急性期ｵｰﾊﾞｰﾋﾞｭｰ!BJ33)","v":""}]
["担当ケアマネ",null,null,null,{"$f":"IF(急性期ｵｰﾊﾞｰﾋﾞｭｰ!E34=\"\",\"\",急性期ｵｰﾊﾞｰﾋﾞｭｰ!E34)","v":""},null,null,null,null,null,null,null,"副食",null,null,null,null,null,null,null,null,null,null,null,null,null,null,null,null,null,null,null,null,null,null,null,null,null,null,null,null,null,null,null,null,null,null,null,null,null,null,null,{"$f":"IF(急性期ｵｰﾊﾞｰﾋﾞｭｰ!BA34=\"\",\"\",急性期ｵｰﾊﾞｰﾋﾞｭｰ!BA34)","v":""},null,null,null,null,{"$f":"IF(急性期ｵｰﾊﾞｰﾋﾞｭｰ!BF34=\"\",\"\",急性期ｵｰﾊﾞｰﾋﾞｭｰ!BF34)","v":""},null,null,null,{"$f":"IF(急性期ｵｰﾊﾞｰﾋﾞｭｰ!BJ34=\"\",\"\",急性期ｵｰﾊﾞｰﾋﾞｭｰ!BJ34)","v":""}]
["かかりつけ医",null,null,null,{"$f":"IF(急性期ｵｰﾊﾞｰﾋﾞｭｰ!E35=\"\",\"\",急性期ｵｰﾊﾞｰﾋﾞｭｰ!E35)","v":""},null,null,null,null,null,null,null,"詳細：",null,null,null,null,null,null,null,null,null,null,null,null,null,null,null,null,null,null,null,null,null,null,null,null,null,"検査情報",null,null,null,null,null,null,null,null,null,null,null,null,null,"備考",{"$f":"IF(急性期ｵｰﾊﾞｰﾋﾞｭｰ!BB35=\"\",\"\",急性期ｵｰﾊﾞｰﾋﾞｭｰ!BB35)","v":""}]
["食事",null,null,null,{"$f":"IF(急性期ｵｰﾊﾞｰﾋﾞｭｰ!E36=\"\",\"\",急性期ｵｰﾊﾞｰﾋﾞｭｰ!E36)","v":""},null,null,null,null,null,null,null,null,null,null,null,null,null,null,null,null,null,null,null,null,null,null,null,null,null,null,null,null,null,null,null,null,null,"INR",null,{"$f":"IF(検査情報!C22=\"\",\"\",検査情報!C22)","v":""},null,"LDL",null,{"$f":"IF(検査情報!C23=\"\",\"\",検査情報!C23)","v":""},null,"HDL",null,{"$f":"IF(検査情報!C24=\"\",\"\",検査情報!C24)","v":""},null,null,"生活指導","１）血圧自己測定"]
["排泄",null,null,null,{"$f":"IF(急性期ｵｰﾊﾞｰﾋﾞｭｰ!E37=\"\",\"\",急性期ｵｰﾊﾞｰﾋﾞｭｰ!E37)","v":""},null,null,null,null,null,null,null,"＜栄養アセスメント＞",null,null,null,null,null,null,"身長",null,{"$f":"IF(患者基本情報!P24=\"\",\"\",患者基本情報!P24)","v":""},null,"㎝","体重",null,{"$f":"IF(患者基本情報!P26=\"\",\"\",患者基本情報!P26)","v":""},null,"㎏","体重測定日",null,null,null,{"$f":"IF(患者基本情報!T26=\"\",\"\",患者基本情報!T26)","v":""},null,null,null,null,"TG",null,{"$f":"IF(検査情報!C25=\"\",\"\",検査情報!C25)","v":""},null,"Alb",null,{"$f":"IF(検査情報!C28=\"\",\"\",検査情報!C28)","v":""},null,null,null,null,null,null,null,"２）内服自己管理"]
["入浴",null,null,null,{"$f":"IF(急性期ｵｰﾊﾞｰﾋﾞｭｰ!E38=\"\",\"\",急性期ｵｰﾊﾞｰﾋﾞｭｰ!E38)","v":""},null,null,null,null,null,null,null,null,null,null,null,null,null,null,"BMI",null,{"$f":"IF(患者基本情報!P24=\"\",\"\",患者基本情報!P26/(患者基本情報!P24*患者基本情報!P24)*10000)","v":""},null,null,"標準体重",null,{"$f":"IF(患者基本情報!P24=\"\",\"\",(患者基本情報!P24*患者基本情報!P24*22)/10000)","v":""},null,"㎏","体重測定",null,null,null,{"$f":"IF(患者基本情報!P28=\"\",\"\",患者基本情報!P28)","v":""},null,null,null,null,"HbA1C(NGSP)",null,null,null,{"$f":"IF(検査情報!C27=\"\",\"\",検査情報!C27)","v":""},null,null,null,null,null,null,null,null,null,"３）パンフレット指導"]
["整容",null,null,null,{"$f":"IF(急性期ｵｰﾊﾞｰﾋﾞｭｰ!E39=\"\",\"\",急性期ｵｰﾊﾞｰﾋﾞｭｰ!E39)","v":""},null,null,null,null,null,null,null,"＜平均摂取率＞",null,null,null,null,"●目標エネルギー",null,null,null,null,"⇒",null,null,null,"Kcal/日",null,null,null,null,null,null,null,null,null,null,null,null,null,null,null,null,null,null,null,null,null,null,null,null,null,"４）食事指導（栄養科）"]
["更衣",null,null,null,{"$f":"IF(急性期ｵｰﾊﾞｰﾋﾞｭｰ!E40=\"\",\"\",急性期ｵｰﾊﾞｰﾋﾞｭｰ!E40)","v":""},null,null,null,null,null,null,null,"主食⇒",null,null,null,"％","栄養給与量",null,null,null,null,"⇒",null,null,null,"Kcal/日",null,null,null,null,null,null,null,null,null,null,null,"急性期入院90日後ADL",null,null,null,null,null,null,null,null,null,null,null,null,null,"５）服薬指導（薬剤科）"]
["移動",null,null,null,{"$f":"IF(急性期ｵｰﾊﾞｰﾋﾞｭｰ!E41=\"\",\"\",急性期ｵｰﾊﾞｰﾋﾞｭｰ!E41)","v":""},null,null,null,null,null,null,null,"副食⇒",null,null,null,"％","栄養摂取量",null,null,null,null,"⇒",null,null,null,"Kcal/日",null,null,null,null,null,null,null,null,null,null,null,"FIM",null,null,{"$f":"FIM!E52","v":0},null,null,"ｍRS",null,null,{"$f":"IF(mRS!C3=\"\",\"\",mRS!C3)","v":""},null,null,null,"職種別コメント（別紙）"]

{"sheet":"維持期ｵｰﾊﾞｰﾋﾞｭｰ","index":4,"n_rows":41,"n_cols":65,"rows_kept":41,"cut":false,"hidden":false,"merged":[[14,51,14,55],[14,56,14,57],[15,51,15,55],[15,56,15,57],[13,56,13,57],[23,47,23,49],[25,48,25,49],[21,44,21,49],[24,44,24,46],[35,63,35,64],[35,51,39,51],[39,63,39,64],[37,63,37,64],[30,57,30,64],[38,52,38,62],[38,63,38,64],[18,59,18,60],[15,59,15,60],[35,52,35,62],[30,51,30,54],[39,52,39,62],[22,61,22,62],[22,59,22,60],[16,51,23,57],[16,61,16,62],[17,61,17,62],[18,61,18,62],[40,12,40,13],[40,14,40,15],[40,17,40,21],[40,23,40,25],[40,26,40,27],[39,23,39,25],[29,52,29,56],[29,63,29,64],[22,63,22,64],[24,51,29,51],[23,59,23,60],[23,61,23,62],[29,59,29,62],[30,55,30,56],[24,52,28,64],[23,63,23,64],[29,57,29,58],[23,44,23,46],[27,38,27,49],[39,14,39,15],[39,12,39,13],[36,24,36,25],[37,44,37,49],[36,33,36,36],[36,48,36,49],[37,38,37,41],[38,26,38,27],[37,26,37,27],[39,17,39,21],[36,42,36,43],[36,46,36,47],[39,26,39,27],[36,26,36,27],[37,19,37,20],[36,29,36,32],[38,28,40,36],[36,19,36,20],[37,42,37,43],[37,33,37,36],[36,44,36,45],[38,23,38,25],[37,24,37,25],[39,38,39,49],[40,38,40,40],[40,41,40,43],[40,44,40,46],[40,47,40,49],[2,18,2,23],[2,2,2,5],[2,6,2,8],[8,0,12,10],[6,0,6,10],[3,2,3,8],[5,9,5,10],[4,2,4,10],[8,16,8,19],[10,12,10,23],[5,19,5,23],[5,16,5,18],[13,0,17,0],[13,3,13,10],[16,3,16,10],[2,31,2,32],[13,27,13,28],[7,12,7,15],[5,0,5,3],[5,4,5,8],[4,11,4,12],[4,19,4,24],[16,25,16,26],[16,27,16,28],[17,27,17,28],[5,11,5,12],[12,27,12,28],[6,12,6,15],[4,31,4,32],[5,26,5,28],[5,29,5,32],[2,0,2,1],[2,15,2,17],[8,12,8,15],[3,0,3,1],[7,0,7,10],[2,33,2,34],[2,60,2,61],[2,39,2,47],[2,9,2,14],[3,9,3,11],[2,24,2,26],[3,31,3,32],[6,58,6,64],[6,30,6,36],[6,51,6,57],[6,37,6,43],[2,36,2,38],[2,54,2,55],[2,56,2,59],[3,34,3,40],[3,42,3,43],[2,27,2,29],[3,12,3,18],[6,23,6,29],[5,13,5,15],[4,25,4,30],[3,20,3,21],[6,16,6,22],[3,23,3,29],[11,59,11,60],[2,50,2,53],[2,48,2,49],[2,62,2,63],[14,61,14,62],[19,59,19,60],[20,61,20,62],[11,63,21,64],[11,61,11,62],[20,59,20,60],[21,61,21,62],[15,61,15,62],[13,51,13,55],[16,59,16,60],[19,61,19,62],[21,59,21,60],[17,44,17,49],[18,44,18,49],[17,59,17,60],[3,45,3,46],[12,51,12,55],[13,61,13,62],[13,59,13,60],[14,59,14,60],[7,58,7,64],[7,51,7,57],[7,44,7,50],[3,59,3,61],[3,56,3,57],[3,62,3,64],[12,61,12,62],[10,58,10,64],[10,38,10,49],[12,56,12,57],[4,39,4,44],[5,44,5,64],[4,45,4,50],[4,51,4,52],[4,53,4,64],[6,44,6,50],[3,47,3,54],[5,36,5,39],[5,40,5,43],[4,33,4,38],[12,38,12,43],[10,51,10,57],[11,51,11,55],[11,58,23,58],[38,12,38,16],[37,21,37,23],[36,21,36,22],[36,12,37,18],[38,17,38,21],[15,38,15,43],[18,38,18,43],[24,38,24,43],[20,38,20,43],[29,32,29,36],[33,14,33,24],[29,28,29,31],[31,12,31,24],[28,25,28,27],[32,25,35,36],[32,12,32,13],[37,29,37,32],[36,38,36,39],[36,40,36,41],[23,38,23,43],[22,38,22,43],[21,38,21,43],[17,38,17,43],[36,4,36,10],[35,0,35,3],[32,0,32,3],[33,0,33,3],[34,0,34,3],[31,4,31,10],[34,4,34,10],[32,4,32,10],[36,0,36,3],[40,51,40,64],[36,52,36,62],[36,63,36,64],[37,52,37,62],[34,38,34,49],[23,0,23,3],[30,0,30,3],[28,4,28,10],[28,0,28,3],[29,4,29,10],[30,4,30,10],[26,4,27,10],[25,4,25,10],[40,0,40,3],[37,0,37,3],[38,0,38,3],[39,0,39,3],[40,4,40,10],[37,4,37,10],[38,4,38,10],[39,4,39,10],[28,30,28,36],[33,12,33,13],[33,4,33,10],[1,56,1,64],[1,54,1,55],[1,0,1,53],[11,25,14,26],[11,27,11,28],[27,28,27,36],[8,37,8,40],[15,44,15,49],[8,44,8,47],[7,16,7,22],[27,25,27,27],[17,25,17,26],[4,0,4,1],[17,3,17,10],[4,13,4,18],[14,3,14,10],[26,28,26,36],[11,44,11,49],[22,44,22,49],[25,44,25,47],[24,47,24,49],[8,58,8,61],[12,59,12,60],[12,44,12,49],[13,38,13,43],[31,25,31,36],[34,12,35,24],[19,0,22,10],[23,4,23,10],[29,0,29,3],[26,0,27,3],[25,0,25,3],[30,12,30,36],[31,0,31,3],[35,4,35,10],[32,14,32,24],[24,4,24,10],[24,0,24,3],[18,0,18,10],[25,38,25,43],[25,28,25,36],[15,35,15,36],[26,25,26,27],[16,33,16,34],[16,35,16,36],[17,35,17,36],[11,29,14,30],[15,3,15,10],[35,48,35,49],[8,51,8,54],[20,44,20,49],[16,38,16,43],[17,29,17,30],[17,31,17,32],[17,33,17,34],[16,31,16,32],[14,44,14,49],[14,38,14,43],[13,44,13,49],[35,42,35,43],[28,38,32,49],[35,38,35,39],[35,40,35,41],[35,44,35,45],[35,46,35,47],[16,44,16,49],[19,38,19,43],[19,44,19,49],[16,29,16,30],[11,38,11,43],[11,33,14,34],[31,51,34,64],[9,37,9,39],[9,44,9,46],[9,51,9,53],[9,58,9,60],[5,24,5,25],[7,30,7,36],[8,23,8,26],[8,30,8,33],[11,12,29,23],[29,25,29,27],[7,23,7,29],[10,25,10,36],[15,25,15,27],[14,27,14,28],[15,32,15,33],[25,25,25,27],[15,29,15,30],[28,28,28,29],[5,33,5,35],[9,12,9,15],[9,16,9,18],[9,23,9,25],[9,30,9,32],[7,37,7,43]]}
[]
["脳卒中地域連携パス（フェーズ３：維持期）　半年～１年以内",null,null,null,null,null,null,null,null,null,null,null,null,null,null,null,null,null,null,null,null,null,null,null,null,null,null,null,null,null,null,null,null,null,null,null,null,null,null,null,null,null,null,null,null,null,null,null,null,null,null,null,null,null,"施設名",null,{"$f":"IF(患者基本情報!AA22=\"\",\"\",患者基本情報!AA22)","v":""}]
["患者ID",null,{"$f":"IF(患者基本情報!E6=\"\",\"\",患者基本情報!E6)","v":0},null,null,null,"患者氏名",null,null,{"$f":"IF(患者基本情報!E8=\"\",\"\",患者基本情報!E8)","v":0},null,null,null,null,null,"生年月日",null,null,{"$f":"IF(患者基本情報!E10=\"\",\"\",患者基本情報!E10)","v":"00:00:00"},null,null,null,null,null,"身長",null,null,{"$f":"IF(患者基本情報!AA24=\"\",\"\",患者基本情報!AA24)","v":""},null,null,"cm","体重",null,{"$f":"IF(患者基本情報!AA26=\"\",\"\",患者基本情報!AA26)","v":""},null,"kg","アレルギー",null,null,{"$f":"IF(患者基本情報!E12=\"\",\"\",患者基本情報!E12)","v":""},null,null,null,null,null,null,null,null,"入院日",null,{"$f":"IF(患者基本情報!AA30=\"\",\"\",患者基本情報!AA30)","v":""},null,null,null,"退・転院日",null,{"$f":"IF(患者基本情報!AA32=\"\",\"\",患者基本情報!AA32)","v":""},null,null,null,"在院日数",null,{"$f":"IF(BE3=\"\",\"\",BE3-AY3+1)","v":""},null,"日"]
["病名",null,{"$f":"IF(医師記入3!E7=\"\",\"\",医師記入3!E7)","v":""},null,null,null,null,null,null,"部位",null,null,{"$f":"IF(医師記入3!E8=\"\",\"\",医師記入3!E8)","v":""},null,null,null,null,null,null,"（",{"$f":"IF(医師記入3!Q8=\"\",\"\",医師記入3!Q8)","v":""},null,"）",{"$f":"IF(医師記入3!E9=\"\",\"\",医師記入3!E9)","v":""},null,null,null,null,null,null,"（",{"$f":"IF(医師記入3!Q9=\"\",\"\",医師記入3!Q9)","v":""},null,"）",{"$f":"IF(医師記入3!E10=\"\",\"\",医師記入3!E10)","v":""},null,null,null,null,null,null,"（",{"$f":"IF(医師記入3!Q10=\"\",\"\",医師記入3!Q10)","v":""},null,"）","（その他）",null,{"$f":"IF(医師記入3!G11=\"\",\"\",医師記入3!G11)","v":""},null,null,null,null,null,null,null,"（",{"$f":"IF(医師記入3!Q11=\"\",\"\",医師記入3!Q11)","v":""},null,"）","発症区分",null,null,{"$f":"IF(急性期ｵｰﾊﾞｰﾋﾞｭｰ!BK4=\"\",\"\",急性期ｵｰﾊﾞｰﾋﾞｭｰ!BK4)","v":""}]
["感染症",null,{"$f":"IF(患者基本情報!E14=\"\",\"\",患者基本情報!E14)","v":""},null,null,null,null,null,null,null,null,"治療法",null,{"$f":"IF(医師記入3!E12=\"\",\"\",医師記入3!E12)","v":""},null,null,null,null,null,{"$f":"IF(医師記入3!J12=\"\",\"\",医師記入3!J12)","v":""},null,null,null,null,null,{"$f":"IF(医師記入3!O12=\"\",\"\",医師記入3!O12)","v":""},null,null,null,null,null,"手術",null,{"$f":"IF(医師記入3!E13=\"\",\"\",医師記入3!E13)","v":""},null,null,null,null,null,{"$f":"IF(医師記入3!J13=\"\",\"\",医師記入3!J13)","v":""},null,null,null,null,null,{"$f":"IF(医師記入3!O13=\"\",\"\",医師記入3!O13)","v":""},null,null,null,null,null,"備考"]
["入院時年齢",null,null,null,{"$f":"患者基本情報!AB41","v":""},null,null,null,null,"性別",null,{"$f":"IF(患者基本情報!M8=\"\",\"\",患者基本情報!M8)","v":""},null,"t-PA使用",null,null,{"$f":"IF(急性期ｵｰﾊﾞｰﾋﾞｭｰ!Q6=\"\",\"\",急性期ｵｰﾊﾞｰﾋﾞｭｰ!Q6)","v":""},null,null,"t-PA投与後出血性合併症",null,null,null,null,{"$f":"IF(急性期ｵｰﾊﾞｰﾋﾞｭｰ!Y6=\"\",\"\",急性期ｵｰﾊﾞｰﾋﾞｭｰ!Y6)","v":""},null,"発症日時",null,null,{"$f":"IF(急性期ｵｰﾊﾞｰﾋﾞｭｰ!AD6=\"\",\"\",急性期ｵｰﾊﾞｰﾋﾞｭｰ!AD6)","v":""},null,null,null,"来院日時",null,null,{"$f":"IF(急性期ｵｰﾊﾞｰﾋﾞｭｰ!AK6=\"\",\"\",急性期ｵｰﾊﾞｰﾋﾞｭｰ!AK6)","v":""},null,null,null,"搬送・入院区分",null,null,null,{"$f":"IF(急性期ｵｰﾊﾞｰﾋﾞｭｰ!AS6=\"\",\"\",急性期ｵｰﾊﾞｰﾋﾞｭｰ!AS6)","v":""}]
["発症時情報",null,null,null,null,null,null,null,null,null,null,null,null,null,null,null,"ステップ１",null,null,null,null,null,null,"ステップ２",null,null,null,null,null,null,"ステップ３",null,null,null,null,null,null,"ステップ４",null,null,null,null,null,null,"ステップ５",null,null,null,null,null,null,"ステップ６",null,null,null,null,null,null,"ステップ７"]
["病歴",null,null,null,null,null,null,null,null,null,null,null,"進行度",null,null,null,"ベッド上全介助",null,null,null,null,null,null,"ベッド上（端座位まで）",null,null,null,null,null,null,"車椅子（移乗・駆動）",null,null,null,null,null,null,"立位",null,null,null,null,null,null,"平行棒歩行",null,null,null,null,null,null,"歩行（歩行器・杖・独歩）",null,null,null,null,null,null,"応用歩行（屋外・階段）"]
[{"$f":"IF(急性期ｵｰﾊﾞｰﾋﾞｭｰ!A9=\"\",\"\",急性期ｵｰﾊﾞｰﾋﾞｭｰ!A9)","v":""},null,null,null,null,null,null,null,null,null,null,null,"開始日",null,null,null,{"$f":"IF(回復期ｵｰﾊﾞｰﾋﾞｭｰ!Q9=\"\",\"\",回復期ｵｰﾊﾞｰﾋﾞｭｰ!Q9)","v":""},null,null,null,"(",{"$f":"IF(Q9=\"\",\"\",Q9-急性期ｵｰﾊﾞｰﾋﾞｭｰ!AY3)","v":""},"日後）",{"$f":"IF(回復期ｵｰﾊﾞｰﾋﾞｭｰ!X9=\"\",\"\",回復期ｵｰﾊﾞｰﾋﾞｭｰ!X9)","v":""},null,null,null,"(",{"$f":"IF(X9=\"\",\"\",X9-急性期ｵｰﾊﾞｰﾋﾞｭｰ!AY3)","v":""},"日後）",{"$f":"IF(回復期ｵｰﾊﾞｰﾋﾞｭｰ!AE9=\"\",\"\",回復期ｵｰﾊﾞｰﾋﾞｭｰ!AE9)","v":""},null,null,null,"(",{"$f":"IF(AE9=\"\",\"\",AE9-急性期ｵｰﾊﾞｰﾋﾞｭｰ!AY3)","v":""},"日後）",{"$f":"IF(回復期ｵｰﾊﾞｰﾋﾞｭｰ!AL9=\"\",\"\",回復期ｵｰﾊﾞｰﾋﾞｭｰ!AL9)","v":""},null,null,null,"(",{"$f":"IF(AL9=\"\",\"\",AL9-急性期ｵｰﾊﾞｰﾋﾞｭｰ!AY3)","v":""},"日後）",{"$f":"IF(回復期ｵｰﾊﾞｰﾋﾞｭｰ!AS9=\"\",\"\",回復期ｵｰﾊﾞｰﾋﾞｭｰ!AS9)","v":""},null,null,null,"(",{"$f":"IF(AS9=\"\",\"\",AS9-急性期ｵｰﾊﾞｰﾋﾞｭｰ!AY3)","v":""},"日後）",{"$f":"IF(回復期ｵｰﾊﾞｰﾋﾞｭｰ!AZ9=\"\",\"\",回復期ｵｰﾊﾞｰﾋﾞｭｰ!AZ9)","v":""},null,null,null,"(",{"$f":"IF(AZ9=\"\",\"\",AZ9-急性期ｵｰﾊﾞｰﾋﾞｭｰ!AY3)","v":""},"日後）",{"$f":"IF(回復期ｵｰﾊﾞｰﾋﾞｭｰ!BG9=\"\",\"\",回復期ｵｰﾊﾞｰﾋﾞｭｰ!BG9)","v":""},null,null,null,"(",{"$f":"IF(BG9=\"\",\"\",BG9-急性期ｵｰﾊﾞｰﾋﾞｭｰ!AY3)","v":""},"日後）"]
[null,null,null,null,null,null,null,null,null,null,null,null,"MAS",null,null,null,"項目",null,null,"7日","14日","30日","90日","肘関節伸展",null,null,{"$f":"IF(MAS!D4=\"\",\"\",MAS!D4)","v":""},{"$f":"IF(MAS!D5=\"\",\"\",MAS!D5)","v":""},{"$f":"IF(MAS!D6=\"\",\"\",MAS!D6)","v":""},{"$f":"IF(MAS!D7=\"\",\"\",MAS!D7)","v":""},"手関節背屈",null,null,{"$f":"IF(MAS!E4=\"\",\"\",MAS!E4)","v":""},{"$f":"IF(MAS!E5=\"\",\"\",MAS!E5)","v":""},{"$f":"IF(MAS!E6=\"\",\"\",MAS!E6)","v":""},{"$f":"IF(MAS!E7=\"\",\"\",MAS!E7)","v":""},"膝関節屈曲",null,null,{"$f":"IF(MAS!F4=\"\",\"\",MAS!F4)","v":""},{"$f":"IF(MAS!F5=\"\",\"\",MAS!F5)","v":""},{"$f":"IF(MAS!F6=\"\",\"\",MAS!F6)","v":""},{"$f":"IF(MAS!F7=\"\",\"\",MAS!F7)","v":""},"膝関節伸展",null,null,{"$f":"IF(MAS!G4=\"\",\"\",MAS!G4)","v":""},{"$f":"IF(MAS!G5=\"\",\"\",MAS!G5)","v":""},{"$f":"IF(MAS!G6=\"\",\"\",MAS!G6)","v":""},{"$f":"IF(MAS!G7=\"\",\"\",MAS!G7)","v":""},"足関節底屈",null,null,{"$f":"IF(MAS!H4=\"\",\"\",MAS!H4)","v":""},{"$f":"IF(MAS!H5=\"\",\"\",MAS!H5)","v":""},{"$f":"IF(MAS!H6=\"\",\"\",MAS!H6)","v":""},{"$f":"IF(MAS!H7=\"\",\"\",MAS!H7)","v":""},"足関節背屈",null,null,{"$f":"IF(MAS!I4=\"\",\"\",MAS!I4)","v":""},{"$f":"IF(MAS!I5=\"\",\"\",MAS!I5)","v":""},{"$f":"IF(MAS!I6=\"\",\"\",MAS!I6)","v":""},{"$f":"IF(MAS!I7=\"\",\"\",MAS!I7)","v":""}]
[null,null,null,null,null,null,null,null,null,null,null,null,null,null,null,null,null,null,null,null,null,null,null,null,null,"【退・転院時評価】",null,null,null,null,null,null,null,null,null,null,null,null,"退院時情報",null,null,null,null,null,null,null,null,null,null,null,null,"口腔情報",null,null,null,null,null,null,"日常生活機能評価"]
[null,null,null,null,null,null,null,null,null,null,null,null,null,null,null,null,null,null,null,null,null,null,null,null,null,"運動機能",null,null,null,"MMT",null,"左","右","BS",null,"左","右",null,"かかりつけ医",null,null,null,null,null,{"$f":"IF(E35=\"\",\"\",E35)","v":""},null,null,null,null,null,null,"自歯",null,null,null,null,null,"本","退・転院時","床上安静",null,{"$f":"IF(日常生活機能評価!E27=\"\",\"\",日常生活機能評価!E27)","v":""}]
[null,null,null,null,null,null,null,null,null,null,null,null,null,null,null,null,null,null,null,null,null,null,null,null,null,null,null,"上肢",null,null,null,{"$f":"IF(MMT!E20=\"\",\"\",MMT!E20)","v":""},{"$f":"IF(MMT!F20=\"\",\"\",MMT!F20)","v":""},null,null,{"$f":"IF(Brunnstrom!E19=\"\",\"\",Brunnstrom!E19)","v":""},{"$f":"IF(Brunnstrom!F19=\"\",\"\",Brunnstrom!F19)","v":""},null,"転帰",null,null,null,null,null,{"$f":"IF(患者基本情報!AB34=\"\",\"\",患者基本情報!AB34)","v":""},null,null,null,null,null,null,"義歯",null,null,null,null,null,null,null,"手を上げる",null,{"$f":"IF(日常生活機能評価!E28=\"\",\"\",日常生活機能評価!E28)","v":""}]
["基礎疾患","高血圧症",null,{"$f":"IF(急性期ｵｰﾊﾞｰﾋﾞｭｰ!D12=\"\",\"\",急性期ｵｰﾊﾞｰﾋﾞｭｰ!D12)","v":""},null,null,null,null,null,null,null,null,null,null,null,null,null,null,null,null,null,null,null,null,null,null,null,"手指",null,null,null,{"$f":"IF(MMT!E21=\"\",\"\",MMT!E21)","v":""},{"$f":"IF(MMT!F21=\"\",\"\",MMT!F21)","v":""},null,null,{"$f":"IF(Brunnstrom!E20=\"\",\"\",Brunnstrom!E20)","v":""},{"$f":"IF(Brunnstrom!F20=\"\",\"\",Brunnstrom!F20)","v":""},null,"転帰区分",null,null,null,null,null,{"$f":"IF(患者基本情報!AB36=\"\",\"\",患者基本情報!AB36)","v":""},null,null,null,null,null,null,"衛生状態",null,null,null,null,null,null,null,"寝返り",null,{"$f":"IF(日常生活機能評価!E29=\"\",\"\",日常生活機能評価!E29)","v":""}]
[null,"糖尿病",null,{"$f":"IF(急性期ｵｰﾊﾞｰﾋﾞｭｰ!D13=\"\",\"\",急性期ｵｰﾊﾞｰﾋﾞｭｰ!D13)","v":""},null,null,null,null,null,null,null,null,null,null,null,null,null,null,null,null,null,null,null,null,null,null,null,"下肢",null,null,null,{"$f":"IF(MMT!E22=\"\",\"\",MMT!E22)","v":""},{"$f":"IF(MMT!F22=\"\",\"\",MMT!F22)","v":""},null,null,{"$f":"IF(Brunnstrom!E21=\"\",\"\",Brunnstrom!E21)","v":""},{"$f":"IF(Brunnstrom!F21=\"\",\"\",Brunnstrom!F21)","v":""},null,"転帰先医療機関",null,null,null,null,null,{"$f":"IF(患者基本情報!AB38=\"\",\"\",患者基本情報!AB38)","v":""},null,null,null,null,null,null,"口腔内乾燥",null,null,null,null,null,null,null,"起き上がり",null,{"$f":"IF(日常生活機能評価!E30=\"\",\"\",日常生活機能評価!E30)","v":""}]
[null,"心房細動",null,{"$f":"IF(急性期ｵｰﾊﾞｰﾋﾞｭｰ!D14=\"\",\"\",急性期ｵｰﾊﾞｰﾋﾞｭｰ!D14)","v":""},null,null,null,null,null,null,null,null,null,null,null,null,null,null,null,null,null,null,null,null,null,"FIM",null,null,"運動",{"$f":"AB17+AB18+AF17+AJ17","v":0},null,"認知",{"$f":"AF18+AJ18","v":0},null,"合計",{"$f":"AD16+AG16","v":0},null,null,"担当ケアマネージャ",null,null,null,null,null,{"$f":"IF(E34=\"\",\"\",E34)","v":""},null,null,null,null,null,null,"歯科的治療の必要性",null,null,null,null,null,null,null,"座位保持",null,{"$f":"IF(日常生活機能評価!E31=\"\",\"\",日常生活機能評価!E31)","v":""}]
[null,"脂質異常",null,{"$f":"IF(急性期ｵｰﾊﾞｰﾋﾞｭｰ!D15=\"\",\"\",急性期ｵｰﾊﾞｰﾋﾞｭｰ!D15)","v":""},null,null,null,null,null,null,null,null,null,null,null,null,null,null,null,null,null,null,null,null,null,"セルフケア\n(42点)",null,{"$f":"IF(FIM!U63=\"\",\"\",FIM!U63)","v":0},null,"排泄\n（14点）",null,{"$f":"IF(FIM!U64=\"\",\"\",FIM!U64)","v":0},null,"移乗\n(21点）",null,{"$f":"IF(FIM!U65=\"\",\"\",FIM!U65)","v":0},null,null,"キーパーソン",null,null,null,null,null,null,null,null,null,null,null,null,"その他注意事項：",null,null,null,null,null,null,null,"移乗",null,{"$f":"IF(日常生活機能評価!E32=\"\",\"\",日常生活機能評価!E32)","v":""}]
[null,"その他",null,{"$f":"IF(急性期ｵｰﾊﾞｰﾋﾞｭｰ!D16=\"\",\"\",急性期ｵｰﾊﾞｰﾋﾞｭｰ!D16)","v":""},null,null,null,null,null,null,null,null,null,null,null,null,null,null,null,null,null,null,null,null,null,"移動\n（14点）",null,{"$f":"IF(FIM!U66=\"\",\"\",FIM!U66)","v":0},null,"コミュニ\n（14点）",null,{"$f":"IF(FIM!U67=\"\",\"\",FIM!U67)","v":0},null,"社会認識\n(21点）",null,{"$f":"IF(FIM!U68=\"\",\"\",FIM!U68)","v":0},null,null,"介護認定",null,null,null,null,null,null,null,null,null,null,null,null,null,null,null,null,null,null,null,null,"移動方法",null,{"$f":"IF(日常生活機能評価!E33=\"\",\"\",日常生活機能評価!E33)","v":""}]
["薬剤",null,null,null,null,null,null,null,null,null,null,null,null,null,null,null,null,null,null,null,null,null,null,null,null,null,null,null,null,null,null,null,null,null,null,null,null,null,"寝たきり度",null,null,null,null,null,null,null,null,null,null,null,null,null,null,null,null,null,null,null,null,"口腔清潔",null,{"$f":"IF(日常生活機能評価!E34=\"\",\"\",日常生活機能評価!E34)","v":""}]
[{"$f":"IF(急性期ｵｰﾊﾞｰﾋﾞｭｰ!B20=\"\",\"\",急性期ｵｰﾊﾞｰﾋﾞｭｰ!B20)","v":""},null,null,null,null,null,null,null,null,null,null,null,null,null,null,null,null,null,null,null,null,null,null,null,null,null,null,null,null,null,null,null,null,null,null,null,null,null,"認知症自立度",null,null,null,null,null,null,null,null,null,null,null,null,null,null,null,null,null,null,null,null,"食事摂取",null,{"$f":"IF(日常生活機能評価!E35=\"\",\"\",日常生活機能評価!E35)","v":""}]
[null,null,null,null,null,null,null,null,null,null,null,null,null,null,null,null,null,null,null,null,null,null,null,null,null,null,null,null,null,null,null,null,null,null,null,null,null,null,"HDS-R",null,null,null,null,null,{"$f":"IF('HDS-R'!G68<>\"\",'HDS-R'!G68,IF('HDS-R'!E69=0,\"\",'HDS-R'!E68))","v":""},null,null,null,null,null,null,null,null,null,null,null,null,null,null,"衣服着脱",null,{"$f":"IF(日常生活機能評価!E36=\"\",\"\",日常生活機能評価!E36)","v":""}]
[null,null,null,null,null,null,null,null,null,null,null,null,null,null,null,null,null,null,null,null,null,null,null,null,null,null,null,null,null,null,null,null,null,null,null,null,null,null,"認知症周辺症状",null,null,null,null,null,null,null,null,null,null,null,null,null,null,null,null,null,null,null,null,"意思の伝達",null,{"$f":"IF(日常生活機能評価!E37=\"\",\"\",日常生活機能評価!E37)","v":""}]
[null,null,null,null,null,null,null,null,null,null,null,null,null,null,null,null,null,null,null,null,null,null,null,null,null,null,null,null,null,null,null,null,null,null,null,null,null,null,"多剤耐性菌",null,null,null,null,null,null,null,null,null,null,null,null,null,null,null,null,null,null,null,null,"指示が通じる",null,{"$f":"IF(日常生活機能評価!E38=\"\",\"\",日常生活機能評価!E38)","v":""},null,"合計"]
["生活場所",null,null,null,{"$f":"IF(急性期ｵｰﾊﾞｰﾋﾞｭｰ!E24=\"\",\"\",急性期ｵｰﾊﾞｰﾋﾞｭｰ!E24)","v":""},null,null,null,null,null,null,null,null,null,null,null,null,null,null,null,null,null,null,null,null,null,null,null,null,null,null,null,null,null,null,null,null,null,"最終排便",null,null,null,null,null,null,null,null,null,null,null,null,null,null,null,null,null,null,null,null,"危険行動",null,{"$f":"IF(日常生活機能評価!E39=\"\",\"\",日常生活機能評価!E39)","v":""},null,{"$f":"IF(日常生活機能評価!E40=\"\",\"\",日常生活機能評価!E40)","v":0}]
["同居者",null,null,null,{"$f":"IF(急性期ｵｰﾊﾞｰﾋﾞｭｰ!E25=\"\",\"\",急性期ｵｰﾊﾞｰﾋﾞｭｰ!E25)","v":""},null,null,null,null,null,null,null,null,null,null,null,null,null,null,null,null,null,null,null,null,null,null,null,null,null,null,null,null,null,null,null,null,null,"最終清拭",null,null,null,null,null,null,null,null,null,null,null,null,"説明内容",{"$f":"IF(急性期ｵｰﾊﾞｰﾋﾞｭｰ!BA25=\"\",\"\",急性期ｵｰﾊﾞｰﾋﾞｭｰ!BA25)","v":"Ｄｒ："}]
["キーパーソン",null,null,null,{"$f":"IF(急性期ｵｰﾊﾞｰﾋﾞｭｰ!E26=\"\",\"\",急性期ｵｰﾊﾞｰﾋﾞｭｰ!E26)","v":""},null,null,null,null,null,null,null,null,null,null,null,null,null,null,null,null,null,null,null,null,"感覚障害",null,null,{"$f":"IF(障害!E18=\"\",\"\",障害!E18)","v":""},null,null,null,null,null,null,null,null,null,"次回予約"]
["住所",null,null,null,{"$f":"IF(急性期ｵｰﾊﾞｰﾋﾞｭｰ!E27=\"\",\"\",急性期ｵｰﾊﾞｰﾋﾞｭｰ!E27)","v":""},null,null,null,null,null,null,null,null,null,null,null,null,null,null,null,null,null,null,null,null,"言語障害",null,null,{"$f":"IF(障害!E17=\"\",\"\",障害!E17)","v":""}]
[null,null,null,null,null,null,null,null,null,null,null,null,null,null,null,null,null,null,null,null,null,null,null,null,null,"高次脳機能障害",null,null,{"$f":"IF(障害!E19=\"\",\"\",障害!E19)","v":""},null,null,null,null,null,null,null,null,null,"薬剤情報"]
["連絡先",null,null,null,{"$f":"IF(急性期ｵｰﾊﾞｰﾋﾞｭｰ!E29=\"\",\"\",急性期ｵｰﾊﾞｰﾋﾞｭｰ!E29)","v":""},null,null,null,null,null,null,null,null,null,null,null,null,null,null,null,null,null,null,null,null,"嚥下障害",null,null,{"$f":"IF(障害!E20=\"\",\"\",障害!E20)","v":""}]
["職業",null,null,null,{"$f":"IF(急性期ｵｰﾊﾞｰﾋﾞｭｰ!E30=\"\",\"\",急性期ｵｰﾊﾞｰﾋﾞｭｰ!E30)","v":""},null,null,null,null,null,null,null,null,null,null,null,null,null,null,null,null,null,null,null,null,"褥瘡",null,null,{"$f":"IF(NPUAP!D20=\"\",\"\",NPUAP!D20)","v":""},null,null,null,{"$f":"IF(NPUAP!D19=\"\",\"\",NPUAP!D19)","v":""},null,null,null,null,null,null,null,null,null,null,null,null,null,null,null,null,null,null,null,"キーパーソンへの説明",null,null,null,null,{"$f":"IF(急性期ｵｰﾊﾞｰﾋﾞｭｰ!BF30=\"\",\"\",急性期ｵｰﾊﾞｰﾋﾞｭｰ!BF30)","v":""},null,"本人への説明",null,null,null,{"$f":"IF(急性期ｵｰﾊﾞｰﾋﾞｭｰ!BL30=\"\",\"\",急性期ｵｰﾊﾞｰﾋﾞｭｰ!BL30)","v":""}]
["介護認定",null,null,null,{"$f":"IF(急性期ｵｰﾊﾞｰﾋﾞｭｰ!E31=\"\",\"\",急性期ｵｰﾊﾞｰﾋﾞｭｰ!E31)","v":""},null,null,null,null,null,null,null,"退・転院時栄養サマリー",null,null,null,null,null,null,null,null,null,null,null,null,null,null,null,null,null,null,null,null,null,null,null,null,null,null,null,null,null,null,null,null,null,null,null,null,null,null,"延命治療希望",null,null,null,{"$f":"IF(急性期ｵｰﾊﾞｰﾋﾞｭｰ!BD31=\"\",\"\",急性期ｵｰﾊﾞｰﾋﾞｭｰ!BD31)","v":""}]
["寝たきり度",null,null,null,{"$f":"IF(急性期ｵｰﾊﾞｰﾋﾞｭｰ!E32=\"\",\"\",急性期ｵｰﾊﾞｰﾋﾞｭｰ!E32)","v":""},null,null,null,null,null,null,null,"＜現在の食事内容＞",null,null,null,null,null,null,null,null,null,null,null,null,"＜食物アレルギー＞"]
["自立度",null,null,null,{"$f":"IF(急性期ｵｰﾊﾞｰﾋﾞｭｰ!E33=\"\",\"\",急性期ｵｰﾊﾞｰﾋﾞｭｰ!E33)","v":""},null,null,null,null,null,null,null,"主食"]
["担当ケアマネ",null,null,null,{"$f":"IF(急性期ｵｰﾊﾞｰﾋﾞｭｰ!E34=\"\",\"\",急性期ｵｰﾊﾞｰﾋﾞｭｰ!E34)","v":""},null,null,null,null,null,null,null,"副食"]
["かかりつけ医",null,null,null,{"$f":"IF(急性期ｵｰﾊﾞｰﾋﾞｭｰ!E35=\"\",\"\",急性期ｵｰﾊﾞｰﾋﾞｭｰ!E35)","v":""},null,null,null,null,null,null,null,"詳細：",null,null,null,null,null,null,null,null,null,null,null,null,null,null,null,null,null,null,null,null,null,null,null,null,null,"検査情報"]
["食事",null,null,null,{"$f":"IF(急性期ｵｰﾊﾞｰﾋﾞｭｰ!E36=\"\",\"\",急性期ｵｰﾊﾞｰﾋﾞｭｰ!E36)","v":""},null,null,null,null,null,null,null,null,null,null,null,null,null,null,null,null,null,null,null,null,null,null,null,null,null,null,null,null,null,null,null,null,null,"INR",null,{"$f":"IF(検査情報!C35=\"\",\"\",検査情報!C35)","v":""},null,"LDL",null,{"$f":"IF(検査情報!C36=\"\",\"\",検査情報!C36)","v":""},null,"HDL",null,{"$f":"IF(検査情報!C37=\"\",\"\",検査情報!C37)","v":""},null,null,"生活指導","１）血圧自己測定"]
["排泄",null,null,null,{"$f":"IF(急性期ｵｰﾊﾞｰﾋﾞｭｰ!E37=\"\",\"\",急性期ｵｰﾊﾞｰﾋﾞｭｰ!E37)","v":""},null,null,null,null,null,null,null,"＜栄養アセスメント＞",null,null,null,null,null,null,"身長",null,{"$f":"IF(患者基本情報!AA24=\"\",\"\",患者基本情報!AA24)","v":""},null,"㎝","体重",null,{"$f":"IF(患者基本情報!AA26=\"\",\"\",患者基本情報!AA26)","v":""},null,"㎏","体重測定日",null,null,null,{"$f":"IF(患者基本情報!AE26=\"\",\"\",患者基本情報!AE26)","v":""},null,null,null,null,"TG",null,{"$f":"IF(検査情報!C38=\"\",\"\",検査情報!C38)","v":""},null,"Alb",null,{"$f":"IF(検査情報!C41=\"\",\"\",検査情報!C41)","v":""},null,null,null,null,null,null,null,"２）内服自己管理"]
["入浴",null,null,null,{"$f":"IF(急性期ｵｰﾊﾞｰﾋﾞｭｰ!E38=\"\",\"\",急性期ｵｰﾊﾞｰﾋﾞｭｰ!E38)","v":""},null,null,null,null,null,null,null,null,null,null,null,null,null,null,"BMI",null,{"$f":"IF(患者基本情報!AA24=\"\",\"\",患者基本情報!AA26/(患者基本情報!AA24*患者基本情報!AA24)*10000)","v":""},null,null,"標準体重",null,{"$f":"IF(患者基本情報!AA24=\"\",\"\",(患者基本情報!AA24*患者基本情報!AA24*22)/10000)","v":""},null,"㎏","体重測定",null,null,null,{"$f":"IF(患者基本情報!AA28=\"\",\"\",患者基本情報!AA28)","v":""},null,null,null,null,"HbA1C(NGSP)",null,null,null,{"$f":"IF(検査情報!C40=\"\",\"\",検査情報!C40)","v":""},null,null,null,null,null,null,null,null,null,"３）パンフレット指導"]
["整容",null,null,null,{"$f":"IF(急性期ｵｰﾊﾞｰﾋﾞｭｰ!E39=\"\",\"\",急性期ｵｰﾊﾞｰﾋﾞｭｰ!E39)","v":""},null,null,null,null,null,null,null,"＜平均摂取率＞",null,null,null,null,"●目標エネルギー",null,null,null,null,"⇒",null,null,null,"Kcal/日",null,null,null,null,null,null,null,null,null,null,null,null,null,null,null,null,null,null,null,null,null,null,null,null,null,"４）食事指導（栄養科）"]
["更衣",null,null,null,{"$f":"IF(急性期ｵｰﾊﾞｰﾋﾞｭｰ!E40=\"\",\"\",急性期ｵｰﾊﾞｰﾋﾞｭｰ!E40)","v":""},null,null,null,null,null,null,null,"主食⇒",null,null,null,"％","栄養給与量",null,null,null,null,"⇒",null,null,null,"Kcal/日",null,null,null,null,null,null,null,null,null,null,null,"急性期入院90日後ADL",null,null,null,null,null,null,null,null,null,null,null,null,null,"５）服薬指導（薬剤科）"]
["移動",null,null,null,{"$f":"IF(急性期ｵｰﾊﾞｰﾋﾞｭｰ!E41=\"\",\"\",急性期ｵｰﾊﾞｰﾋﾞｭｰ!E41)","v":""},null,null,null,null,null,null,null,"副食⇒",null,null,null,"％","栄養摂取量",null,null,null,null,"⇒",null,null,null,"Kcal/日",null,null,null,null,null,null,null,null,null,null,null,"FIM",null,null,{"$f":"FIM!E52","v":0},null,null,"ｍRS",null,null,{"$f":"IF(mRS!C3=\"\",\"\",mRS!C3)","v":""},null,null,null,"職種別コメント（別紙）"]

{"sheet":"在宅維持期ｵｰﾊﾞｰﾋﾞｭｰ","index":5,"n_rows":41,"n_cols":65,"rows_kept":41,"cut":false,"hidden":false,"merged":[[1,58,1,64],[1,56,1,57],[6,58,6,64],[7,58,7,64],[2,62,2,63],[2,24,2,26],[2,56,2,59],[2,54,2,55],[3,62,3,64],[3,47,3,54],[3,45,3,46],[3,56,3,57],[3,59,3,61],[2,39,2,47],[2,27,2,29],[4,25,4,30],[3,31,3,32],[3,34,3,40],[4,19,4,24],[2,60,2,61],[5,33,5,35],[5,29,5,32],[4,31,4,32],[5,26,5,28],[35,0,35,3],[35,4,35,10],[34,18,34,23],[39,0,39,3],[36,4,36,10],[37,4,37,10],[38,4,38,10],[40,0,40,3],[39,4,39,10],[37,0,37,3],[38,0,38,3],[36,0,36,3],[40,4,40,10],[37,12,37,17],[34,16,34,17],[38,18,38,23],[40,12,40,17],[39,18,39,23],[36,18,36,22],[39,12,39,17],[32,0,32,3],[33,4,33,10],[31,0,31,3],[30,4,30,10],[30,0,30,3],[33,0,33,3],[34,12,34,15],[34,0,34,3],[34,4,34,10],[31,12,31,23],[33,22,33,23],[33,16,33,17],[33,12,33,13],[32,20,32,21],[32,4,32,10],[32,22,32,23],[33,14,33,15],[33,18,33,19],[33,20,33,21],[31,4,31,10],[32,16,32,17],[32,14,32,15],[32,12,32,13],[32,18,32,19],[19,0,22,10],[23,4,23,10],[28,0,28,3],[29,0,29,3],[26,4,27,10],[22,12,22,14],[22,15,22,16],[22,17,22,19],[22,20,22,21],[23,12,23,14],[23,15,23,16],[24,4,24,10],[20,12,20,14],[23,17,23,19],[26,0,27,3],[28,4,28,10],[18,0,18,10],[13,3,13,10],[8,16,8,19],[8,0,12,10],[13,0,17,0],[14,3,14,10],[29,4,29,10],[20,31,20,36],[25,0,25,3],[24,0,24,3],[23,0,23,3],[25,12,25,23],[25,4,25,10],[21,20,21,21],[24,17,24,19],[24,20,24,21],[16,3,16,10],[17,3,17,10],[15,3,15,10],[16,17,16,23],[18,17,18,23],[8,12,8,15],[12,25,12,30],[11,20,14,23],[6,51,6,57],[6,37,6,43],[13,31,13,36],[10,25,10,36],[13,25,13,30],[7,51,7,57],[16,25,16,30],[18,31,18,36],[18,25,18,30],[8,23,8,26],[17,31,17,36],[16,31,16,36],[14,31,14,36],[8,51,8,54],[7,37,7,43],[15,17,15,23],[8,37,8,40],[8,44,8,47],[6,30,6,36],[11,31,11,36],[14,25,14,30],[12,31,12,36],[11,16,14,17],[7,23,7,29],[7,0,7,10],[5,4,5,8],[6,0,6,10],[2,9,2,14],[3,2,3,8],[4,0,4,1],[2,0,2,1],[3,0,3,1],[5,13,5,15],[5,11,5,12],[5,0,5,3],[6,12,6,15],[3,9,3,11],[2,2,2,5],[5,9,5,10],[2,6,2,8],[2,15,2,17],[4,13,4,18],[4,11,4,12],[3,12,3,18],[4,2,4,10],[6,16,6,22],[7,16,7,22],[5,40,5,43],[5,44,5,64],[3,20,3,21],[4,33,4,38],[4,45,4,50],[4,39,4,44],[4,51,4,64],[5,16,5,25],[5,36,5,39],[7,30,7,36],[8,30,8,33],[10,12,10,23],[11,14,11,15],[11,12,14,13],[21,39,30,39],[19,25,19,30],[19,12,19,23],[11,39,20,39],[26,12,30,23],[24,12,24,14],[24,15,24,16],[21,25,21,36],[22,22,24,23],[23,25,40,36],[20,25,20,30],[22,25,22,36],[19,31,19,36],[35,12,35,23],[11,40,20,64],[15,12,15,16],[17,17,17,23],[20,20,20,21],[20,22,20,23],[21,22,21,23],[23,20,23,21],[15,25,15,30],[15,31,15,36],[17,25,17,30],[16,12,16,16],[18,12,18,16],[17,12,17,16],[21,12,21,14],[21,15,21,16],[21,17,21,19],[20,15,20,16],[20,17,20,19],[21,40,30,64],[12,14,12,15],[13,14,13,15],[14,14,14,15],[1,50,1,55],[2,33,2,34],[3,42,3,43],[2,31,2,32],[2,18,2,23],[2,36,2,38],[3,23,3,29],[38,12,38,17],[36,12,36,17],[31,40,40,64],[1,48,1,49],[31,39,40,39],[1,0,1,47],[2,48,2,49],[2,50,2,53],[6,44,6,50],[10,39,10,64],[7,44,7,50],[8,58,8,61],[40,18,40,23],[37,18,37,23],[6,23,6,29],[7,12,7,15],[11,25,11,30]]}
[]
["脳卒中地域連携パス（フェーズ４：在宅維持期）　退院翌月まで",null,null,null,null,null,null,null,null,null,null,null,null,null,null,null,null,null,null,null,null,null,null,null,null,null,null,null,null,null,null,null,null,null,null,null,null,null,null,null,null,null,null,null,null,null,null,null,"施設名",null,{"$f":"IF(患者基本情報!AL22=\"\",\"\",患者基本情報!AL22)","v":""},null,null,null,null,null,"備考"]
["患者ID",null,{"$f":"IF(患者基本情報!E6=\"\",\"\",患者基本情報!E6)","v":0},null,null,null,"患者氏名",null,null,{"$f":"IF(患者基本情報!E8=\"\",\"\",患者基本情報!E8)","v":0},null,null,null,null,null,"生年月日",null,null,{"$f":"IF(患者基本情報!E10=\"\",\"\",患者基本情報!E10)","v":"00:00:00"},null,null,null,null,null,"身長",null,null,{"$f":"IF(患者基本情報!AL24=\"\",\"\",患者基本情報!AL24)","v":""},null,null,"cm","体重",null,{"$f":"IF(患者基本情報!AL26=\"\",\"\",患者基本情報!AL26)","v":""},null,"kg","アレルギー",null,null,{"$f":"IF(患者基本情報!E12=\"\",\"\",患者基本情報!E12)","v":""},null,null,null,null,null,null,null,null,"在宅\n復帰日",null,{"$f":"IF(患者基本情報!AL30=\"\",\"\",患者基本情報!AL30)","v":""},null,null,null,"受診日",null,{"$f":"IF(患者基本情報!AL32=\"\",\"\",患者基本情報!AL32)","v":""}]
["病名",null,{"$f":"IF(医師記入4!E7=\"\",\"\",医師記入4!E7)","v":""},null,null,null,null,null,null,"部位",null,null,{"$f":"IF(医師記入4!E8=\"\",\"\",医師記入4!E8)","v":""},null,null,null,null,null,null,"（",{"$f":"IF(医師記入4!Q8=\"\",\"\",医師記入4!Q8)","v":""},null,"）",{"$f":"IF(医師記入4!E9=\"\",\"\",医師記入4!E9)","v":""},null,null,null,null,null,null,"（",{"$f":"IF(医師記入4!Q9=\"\",\"\",医師記入4!Q9)","v":""},null,"）",{"$f":"IF(医師記入4!E10=\"\",\"\",医師記入4!E10)","v":""},null,null,null,null,null,null,"（",{"$f":"IF(医師記入4!Q10=\"\",\"\",医師記入4!Q10)","v":""},null,"）","（その他）",null,{"$f":"IF(医師記入4!G11=\"\",\"\",医師記入4!G11)","v":""},null,null,null,null,null,null,null,"（",{"$f":"IF(医師記入4!Q11=\"\",\"\",医師記入4!Q11)","v":""},null,"）","発症区分",null,null,{"$f":"IF(急性期ｵｰﾊﾞｰﾋﾞｭｰ!BK4=\"\",\"\",急性期ｵｰﾊﾞｰﾋﾞｭｰ!BK4)","v":""}]
["感染症",null,{"$f":"IF(患者基本情報!E14=\"\",\"\",患者基本情報!E14)","v":""},null,null,null,null,null,null,null,null,"治療法",null,{"$f":"IF(医師記入4!E12=\"\",\"\",医師記入4!E12)","v":""},null,null,null,null,null,{"$f":"IF(医師記入4!J12=\"\",\"\",医師記入4!J12)","v":""},null,null,null,null,null,{"$f":"IF(医師記入4!O12=\"\",\"\",医師記入4!O12)","v":""},null,null,null,null,null,"手術",null,{"$f":"IF(医師記入4!E13=\"\",\"\",医師記入4!E13)","v":""},null,null,null,null,null,{"$f":"IF(医師記入4!J13=\"\",\"\",医師記入4!J13)","v":""},null,null,null,null,null,{"$f":"IF(医師記入4!O13=\"\",\"\",医師記入4!O13)","v":""}]
["受診時年齢",null,null,null,{"$f":"患者基本情報!AM38","v":0},null,null,null,null,"性別",null,{"$f":"IF(患者基本情報!M8=\"\",\"\",患者基本情報!M8)","v":""},null,"t-PA使用",null,null,{"$f":"IF(急性期ｵｰﾊﾞｰﾋﾞｭｰ!Q6=\"\",\"\",急性期ｵｰﾊﾞｰﾋﾞｭｰ!Q6)","v":""},null,null,null,null,null,null,null,null,null,"発症日時",null,null,{"$f":"IF(急性期ｵｰﾊﾞｰﾋﾞｭｰ!AD6=\"\",\"\",急性期ｵｰﾊﾞｰﾋﾞｭｰ!AD6)","v":""},null,null,null,"来院日時",null,null,{"$f":"IF(急性期ｵｰﾊﾞｰﾋﾞｭｰ!AK6=\"\",\"\",急性期ｵｰﾊﾞｰﾋﾞｭｰ!AK6)","v":""},null,null,null,"搬送・入院区分",null,null,null,{"$f":"IF(急性期ｵｰﾊﾞｰﾋﾞｭｰ!AS6=\"\",\"\",急性期ｵｰﾊﾞｰﾋﾞｭｰ!AS6)","v":""}]
["発症時情報",null,null,null,null,null,null,null,null,null,null,null,null,null,null,null,"ステップ１",null,null,null,null,null,null,"ステップ２",null,null,null,null,null,null,"ステップ３",null,null,null,null,null,null,"ステップ４",null,null,null,null,null,null,"ステップ５",null,null,null,null,null,null,"ステップ６",null,null,null,null,null,null,"ステップ７"]
["病歴",null,null,null,null,null,null,null,null,null,null,null,"進行度",null,null,null,"ベッド上全介助",null,null,null,null,null,null,"ベッド上（端座位まで）",null,null,null,null,null,null,"車椅子（移乗・駆動）",null,null,null,null,null,null,"立位",null,null,null,null,null,null,"平行棒歩行",null,null,null,null,null,null,"歩行（歩行器・杖・独歩）",null,null,null,null,null,null,"応用歩行（屋外・階段）"]
[{"$f":"IF(急性期ｵｰﾊﾞｰﾋﾞｭｰ!A9=\"\",\"\",急性期ｵｰﾊﾞｰﾋﾞｭｰ!A9)","v":""},null,null,null,null,null,null,null,null,null,null,null,"開始日",null,null,null,{"$f":"IF(維持期ｵｰﾊﾞｰﾋﾞｭｰ!Q9=\"\",\"\",維持期ｵｰﾊﾞｰﾋﾞｭｰ!Q9)","v":""},null,null,null,"(",{"$f":"IF(Q9=\"\",\"\",Q9-急性期ｵｰﾊﾞｰﾋﾞｭｰ!AY3)","v":""},"日後）",{"$f":"IF(維持期ｵｰﾊﾞｰﾋﾞｭｰ!X9=\"\",\"\",維持期ｵｰﾊﾞｰﾋﾞｭｰ!X9)","v":""},null,null,null,"(",{"$f":"IF(X9=\"\",\"\",X9-急性期ｵｰﾊﾞｰﾋﾞｭｰ!AY3)","v":""},"日後）",{"$f":"IF(維持期ｵｰﾊﾞｰﾋﾞｭｰ!AE9=\"\",\"\",維持期ｵｰﾊﾞｰﾋﾞｭｰ!AE9)","v":""},null,null,null,"(",{"$f":"IF(AE9=\"\",\"\",AE9-急性期ｵｰﾊﾞｰﾋﾞｭｰ!AY3)","v":""},"日後）",{"$f":"IF(維持期ｵｰﾊﾞｰﾋﾞｭｰ!AL9=\"\",\"\",維持期ｵｰﾊﾞｰﾋﾞｭｰ!AL9)","v":""},null,null,null,"(",{"$f":"IF(AL9=\"\",\"\",AL9-急性期ｵｰﾊﾞｰﾋﾞｭｰ!AY3)","v":""},"日後）",{"$f":"IF(維持期ｵｰﾊﾞｰﾋﾞｭｰ!AS9=\"\",\"\",維持期ｵｰﾊﾞｰﾋﾞｭｰ!AS9)","v":""},null,null,null,"(",{"$f":"IF(AS9=\"\",\"\",AS9-急性期ｵｰﾊﾞｰﾋﾞｭｰ!AY3)","v":""},"日後）",{"$f":"IF(維持期ｵｰﾊﾞｰﾋﾞｭｰ!AZ9=\"\",\"\",維持期ｵｰﾊﾞｰﾋﾞｭｰ!AZ9)","v":""},null,null,null,"(",{"$f":"IF(AZ9=\"\",\"\",AZ9-急性期ｵｰﾊﾞｰﾋﾞｭｰ!AY3)","v":""},"日後）",{"$f":"IF(維持期ｵｰﾊﾞｰﾋﾞｭｰ!BG9=\"\",\"\",維持期ｵｰﾊﾞｰﾋﾞｭｰ!BG9)","v":""},null,null,null,"(",{"$f":"IF(BG9=\"\",\"\",BG9-急性期ｵｰﾊﾞｰﾋﾞｭｰ!AY3)","v":""},"日後）"]
[]
[null,null,null,null,null,null,null,null,null,null,null,null,"在宅維持期情報",null,null,null,null,null,null,null,null,null,null,null,null,"在宅復帰時情報",null,null,null,null,null,null,null,null,null,null,null,null,null,"職種別コメント"]
[null,null,null,null,null,null,null,null,null,null,null,null,"運動機能",null,null,null,"MMT",null,"左","右",null,null,null,null,null,"かかりつけ医",null,null,null,null,null,{"$f":"IF(E35=\"\",\"\",E35)","v":""},null,null,null,null,null,null,null,"医師",{"$f":"IF(医師記入4!B19=\"\",\"\",医師記入4!B19)","v":"氏名："}]
[null,null,null,null,null,null,null,null,null,null,null,null,null,null,"上肢",null,null,null,{"$f":"IF(MMT!J20=\"\",\"\",MMT!J20)","v":""},{"$f":"IF(MMT!K20=\"\",\"\",MMT!K20)","v":""},null,null,null,null,null,"転帰",null,null,null,null,null,{"$f":"IF(患者基本情報!AM34=\"\",\"\",患者基本情報!AM34)","v":""}]
["基礎疾患","高血圧症",null,{"$f":"IF(急性期ｵｰﾊﾞｰﾋﾞｭｰ!D12=\"\",\"\",急性期ｵｰﾊﾞｰﾋﾞｭｰ!D12)","v":""},null,null,null,null,null,null,null,null,null,null,"手指",null,null,null,{"$f":"IF(MMT!J21=\"\",\"\",MMT!J21)","v":""},{"$f":"IF(MMT!K21=\"\",\"\",MMT!K21)","v":""},null,null,null,null,null,"担当ケアマネ"]
[null,"糖尿病",null,{"$f":"IF(急性期ｵｰﾊﾞｰﾋﾞｭｰ!D13=\"\",\"\",急性期ｵｰﾊﾞｰﾋﾞｭｰ!D13)","v":""},null,null,null,null,null,null,null,null,null,null,"下肢",null,null,null,{"$f":"IF(MMT!J22=\"\",\"\",MMT!J22)","v":""},{"$f":"IF(MMT!K22=\"\",\"\",MMT!K22)","v":""},null,null,null,null,null,"キーパーソン"]
[null,"心房細動",null,{"$f":"IF(急性期ｵｰﾊﾞｰﾋﾞｭｰ!D14=\"\",\"\",急性期ｵｰﾊﾞｰﾋﾞｭｰ!D14)","v":""},null,null,null,null,null,null,null,null,"感覚障害",null,null,null,null,{"$f":"IF(障害!J18=\"\",\"\",障害!J18)","v":""},null,null,null,null,null,null,null,"介護認定"]
[null,"脂質異常",null,{"$f":"IF(急性期ｵｰﾊﾞｰﾋﾞｭｰ!D15=\"\",\"\",急性期ｵｰﾊﾞｰﾋﾞｭｰ!D15)","v":""},null,null,null,null,null,null,null,null,"言語障害",null,null,null,null,{"$f":"IF(障害!J17=\"\",\"\",障害!J17)","v":""},null,null,null,null,null,null,null,"寝たきり度"]
[null,"その他",null,{"$f":"IF(急性期ｵｰﾊﾞｰﾋﾞｭｰ!D16=\"\",\"\",急性期ｵｰﾊﾞｰﾋﾞｭｰ!D16)","v":""},null,null,null,null,null,null,null,null,"高次脳機能障害",null,null,null,null,{"$f":"IF(障害!J19=\"\",\"\",障害!J19)","v":""},null,null,null,null,null,null,null,"認知症自立度"]
["薬剤",null,null,null,null,null,null,null,null,null,null,null,"嚥下障害",null,null,null,null,{"$f":"IF(障害!J20=\"\",\"\",障害!J20)","v":""},null,null,null,null,null,null,null,"HDS-R",null,null,null,null,null,{"$f":"IF('HDS-R'!G89<>\"\",'HDS-R'!G89,IF('HDS-R'!E90=0,\"\",'HDS-R'!E89))","v":""}]
[{"$f":"IF(急性期ｵｰﾊﾞｰﾋﾞｭｰ!B20=\"\",\"\",急性期ｵｰﾊﾞｰﾋﾞｭｰ!B20)","v":""},null,null,null,null,null,null,null,null,null,null,null,"Barthel index",null,null,null,null,null,null,null,null,null,null,null,null,"認知症周辺症状"]
[null,null,null,null,null,null,null,null,null,null,null,null,"食事",null,null,null,null,"歩行",null,null,null,null,"点／100",null,null,"多剤耐性菌"]
[null,null,null,null,null,null,null,null,null,null,null,null,"移乗",null,null,null,null,"階段昇降",null,null,null,null,{"$f":"SUM(P21:Q25)+SUM(U21:V25)","v":0},null,null,null,null,null,null,null,null,null,null,null,null,null,null,null,null,"看護師",{"$f":"IF(看護師記入4!B10=\"\",\"\",看護師記入4!B10)","v":"氏名："}]
[null,null,null,null,null,null,null,null,null,null,null,null,"整容",null,null,null,null,"着替え",null,null,null,null,null,null,null,"本人・家族の意見希望・将来設計"]
["生活場所",null,null,null,{"$f":"IF(急性期ｵｰﾊﾞｰﾋﾞｭｰ!E24=\"\",\"\",急性期ｵｰﾊﾞｰﾋﾞｭｰ!E24)","v":""},null,null,null,null,null,null,null,"トイレ動作",null,null,null,null,"排便"]
["同居者",null,null,null,{"$f":"IF(急性期ｵｰﾊﾞｰﾋﾞｭｰ!E25=\"\",\"\",急性期ｵｰﾊﾞｰﾋﾞｭｰ!E25)","v":""},null,null,null,null,null,null,null,"入浴",null,null,null,null,"排尿"]
["キーパーソン",null,null,null,{"$f":"IF(急性期ｵｰﾊﾞｰﾋﾞｭｰ!E26=\"\",\"\",急性期ｵｰﾊﾞｰﾋﾞｭｰ!E26)","v":""},null,null,null,null,null,null,null,"薬剤情報"]
["住所",null,null,null,{"$f":"IF(急性期ｵｰﾊﾞｰﾋﾞｭｰ!E27=\"\",\"\",急性期ｵｰﾊﾞｰﾋﾞｭｰ!E27)","v":""}]
[]
["連絡先",null,null,null,{"$f":"IF(急性期ｵｰﾊﾞｰﾋﾞｭｰ!E29=\"\",\"\",急性期ｵｰﾊﾞｰﾋﾞｭｰ!E29)","v":""}]
["職業",null,null,null,{"$f":"IF(急性期ｵｰﾊﾞｰﾋﾞｭｰ!E30=\"\",\"\",急性期ｵｰﾊﾞｰﾋﾞｭｰ!E30)","v":""}]
["介護認定",null,null,null,{"$f":"IF(急性期ｵｰﾊﾞｰﾋﾞｭｰ!E31=\"\",\"\",急性期ｵｰﾊﾞｰﾋﾞｭｰ!E31)","v":""}]
["寝たきり度",null,null,null,{"$f":"IF(急性期ｵｰﾊﾞｰﾋﾞｭｰ!E32=\"\",\"\",急性期ｵｰﾊﾞｰﾋﾞｭｰ!E32)","v":""},null,null,null,null,null,null,null,"検査情報",null,null,null,null,null,null,null,null,null,null,null,null,null,null,null,null,null,null,null,null,null,null,null,null,null,null,"ケアマネ",{"$f":"IF(ケアマネ記入4!B10=\"\",\"\",ケアマネ記入4!B10)","v":"氏名："}]
["自立度",null,null,null,{"$f":"IF(急性期ｵｰﾊﾞｰﾋﾞｭｰ!E33=\"\",\"\",急性期ｵｰﾊﾞｰﾋﾞｭｰ!E33)","v":""},null,null,null,null,null,null,null,"INR",null,{"$f":"IF(検査情報!C48=\"\",\"\",検査情報!C48)","v":""},null,"LDL",null,{"$f":"IF(検査情報!C49=\"\",\"\",検査情報!C49)","v":""},null,"HDL",null,{"$f":"IF(検査情報!C50=\"\",\"\",検査情報!C50)","v":""}]
["担当ケアマネ",null,null,null,{"$f":"IF(急性期ｵｰﾊﾞｰﾋﾞｭｰ!E34=\"\",\"\",急性期ｵｰﾊﾞｰﾋﾞｭｰ!E34)","v":""},null,null,null,null,null,null,null,"TG",null,{"$f":"IF(検査情報!C51=\"\",\"\",検査情報!C51)","v":""},null,"Alb",null,{"$f":"IF(検査情報!C54=\"\",\"\",検査情報!C54)","v":""}]
["かかりつけ医",null,null,null,{"$f":"IF(急性期ｵｰﾊﾞｰﾋﾞｭｰ!E35=\"\",\"\",急性期ｵｰﾊﾞｰﾋﾞｭｰ!E35)","v":""},null,null,null,null,null,null,null,"HbA1C(NGSP)",null,null,null,{"$f":"IF(検査情報!C53=\"\",\"\",検査情報!C53)","v":""}]
["食事",null,null,null,{"$f":"IF(急性期ｵｰﾊﾞｰﾋﾞｭｰ!E36=\"\",\"\",急性期ｵｰﾊﾞｰﾋﾞｭｰ!E36)","v":""},null,null,null,null,null,null,null,"口腔状態"]
["排泄",null,null,null,{"$f":"IF(急性期ｵｰﾊﾞｰﾋﾞｭｰ!E37=\"\",\"\",急性期ｵｰﾊﾞｰﾋﾞｭｰ!E37)","v":""},null,null,null,null,null,null,null,"自歯",null,null,null,null,null,null,null,null,null,null,"本"]
["入浴",null,null,null,{"$f":"IF(急性期ｵｰﾊﾞｰﾋﾞｭｰ!E38=\"\",\"\",急性期ｵｰﾊﾞｰﾋﾞｭｰ!E38)","v":""},null,null,null,null,null,null,null,"義歯"]
["整容",null,null,null,{"$f":"IF(急性期ｵｰﾊﾞｰﾋﾞｭｰ!E39=\"\",\"\",急性期ｵｰﾊﾞｰﾋﾞｭｰ!E39)","v":""},null,null,null,null,null,null,null,"衛生状態"]
["更衣",null,null,null,{"$f":"IF(急性期ｵｰﾊﾞｰﾋﾞｭｰ!E40=\"\",\"\",急性期ｵｰﾊﾞｰﾋﾞｭｰ!E40)","v":""},null,null,null,null,null,null,null,"口腔内乾燥"]
["移動",null,null,null,{"$f":"IF(急性期ｵｰﾊﾞｰﾋﾞｭｰ!E41=\"\",\"\",急性期ｵｰﾊﾞｰﾋﾞｭｰ!E41)","v":""},null,null,null,null,null,null,null,"歯科的治療の必要性"]

{"sheet":"患者基本情報","index":6,"n_rows":44,"n_cols":42,"rows_kept":44,"cut":false,"hidden":false,"merged":[[5,1,5,3],[7,1,7,3],[5,4,5,9],[9,1,9,3],[27,26,27,30],[9,12,9,13],[20,12,21,14],[20,23,21,25],[15,10,15,12],[13,18,13,20],[17,13,17,33],[23,23,23,25],[27,12,27,14],[27,15,27,19],[27,23,27,25],[17,4,17,9],[16,10,17,12],[23,1,23,3],[25,1,25,3],[23,12,23,14],[13,4,13,12],[23,4,23,5],[25,4,25,5],[23,15,23,16],[40,12,40,15],[40,16,40,18],[40,23,40,26],[40,27,40,29],[39,27,39,31],[35,27,35,31],[37,27,37,31],[7,10,7,11],[7,12,7,13],[29,26,29,30],[29,12,29,14],[29,15,29,19],[29,23,29,25],[25,23,25,25],[25,12,25,14],[13,21,13,23],[31,23,31,25],[31,26,31,30],[23,8,23,10],[25,8,25,10],[7,4,7,9],[9,10,9,11],[9,4,9,9],[37,12,39,15],[29,1,29,3],[37,34,37,37],[37,38,37,40],[11,1,11,3],[13,1,13,3],[11,4,11,12],[37,23,39,26],[39,16,39,20],[37,16,37,20],[35,16,35,20],[39,1,39,4],[29,4,29,8],[21,4,21,8],[27,1,27,3],[27,4,27,8],[15,1,15,3],[20,1,21,3],[15,4,15,9],[17,1,17,3],[21,37,21,41],[37,5,37,9],[33,1,33,4],[33,5,33,9],[35,5,35,9],[35,34,35,37],[33,16,33,20],[33,23,33,26],[33,27,33,31],[35,38,35,40],[35,23,35,26],[31,37,31,41],[39,5,39,7],[37,1,37,4],[31,1,31,3],[31,4,31,8],[33,12,33,15],[35,12,35,15],[35,1,35,4],[31,12,31,14],[31,15,31,19],[29,34,29,36],[29,37,29,41],[31,34,31,36],[27,37,27,41],[27,34,27,36],[21,15,21,19],[21,26,21,30],[33,34,33,37],[33,38,33,42],[23,37,23,38],[23,41,23,43],[25,37,25,38],[25,41,25,43],[23,34,23,36],[25,34,25,36],[20,34,21,36],[23,19,23,21],[25,15,25,16],[25,19,25,21],[23,26,23,27],[23,30,23,32],[25,26,25,27],[25,30,25,32]]}
[null,null,null,null,null,null,null,null,null,null,null,null,null,null,null,null,null,null,null,null,null,null,null,null,null,"男"]
[null,null,null,null,null,null,null,null,null,null,null,null,null,null,null,null,null,null,null,null,null,null,null,null,null,"女"]
[null,"患者基本情報",null,null,null,null,null,null,null,null,null,null,null,null,null,null,null,null,null,null,null,null,null,null,null,"不明"]
[]
[]
[null,"患者ID：",null,null,{"$f":"DATA_PATIENT!B2","v":0}]
[]
[null,"患者氏名：",null,null,{"$f":"DATA_PATIENT!B4","v":0},null,null,null,null,null,"性別：",null,{"$f":"IF(DATA_PATIENT!B5=\"男性\",\"男\",IF(DATA_PATIENT!B5=\"女性\",\"女\",\"\"))","v":""}]
[]
[null,"生年月日：",null,null,{"$f":"DATA_PATIENT!B6","v":"00:00:00"}]
[]
[null,"アレルギー："]
[]
[null,"感染症：",null,null,null,null,null,null,null,null,null,null,null,null,null,null,null,null,"削除区分："]
[]
[null,"発症日時："]
[null,null,null,null,null,null,null,null,null,null,"搬送・\n入院区分"]
[null,"来院日時："]
[]
[null,"【急性期】",null,null,null,null,null,null,null,null,null,null,"【回復期】",null,null,null,null,null,null,null,null,null,null,"【維持期】",null,null,null,null,null,null,null,null,null,null,"【在宅】"]
[null,"施設名：",null,null,null,null,null,null,null,null,null,null,"施設名：",null,null,null,null,null,null,null,null,null,null,"施設名：",null,null,null,null,null,null,null,null,null,null,"施設名："]
[null,null,null,null,"幡多けんみん病院"]
[null,null,null,null,null,null,null,null,"測定日"]
[null,"身長：",null,null,null,null,"cm",null,null,null,null,null,"身長：",null,null,null,null,"cm",null,null,null,null,null,"身長：",null,null,null,null,"cm",null,null,null,null,null,"身長：",null,null,null,null,"cm"]
[null,null,null,null,null,null,null,null,"測定日",null,null,null,null,null,null,null,null,null,null,"測定日",null,null,null,null,null,null,null,null,null,null,"測定日",null,null,null,null,null,null,null,null,null,null,"測定日"]
[null,"体重：",null,null,null,null,"Kg",null,null,null,null,null,"体重：",null,null,null,null,"Kg",null,null,null,null,null,"体重：",null,null,null,null,"Kg",null,null,null,null,null,"体重：",null,null,null,null,"Kg"]
[]
[null,"体重測定：",null,null,null,null,null,null,null,null,null,null,"体重測定：",null,null,null,null,null,null,null,null,null,null,"体重測定：",null,null,null,null,null,null,null,null,null,null,"体重測定："]
[]
[null,"入院日：",null,null,null,null,null,null,null,null,null,null,"入院日：",null,null,null,null,null,null,null,null,null,null,"入院日：",null,null,null,null,null,null,null,null,null,null,"在宅復帰日："]
[]
[null,"退・転院日：",null,null,null,null,null,null,null,null,null,null,"退・転院日：",null,null,null,null,null,null,null,null,null,null,"退・転院日：",null,null,null,null,null,null,null,null,null,null,"受診日："]
[]
[null,"転帰：",null,null,null,null,null,null,null,null,null,null,"転帰：",null,null,null,null,null,null,null,null,null,null,"転帰：",null,null,null,null,null,null,null,null,null,null,"転帰："]
[]
[null,"転帰区分：",null,null,null,null,null,null,null,null,null,null,"転帰区分：",null,null,null,null,null,null,null,null,null,null,"転帰区分：",null,null,null,null,null,null,null,null,null,null,"受診時年齢：",null,null,null,{"$f":"IF(AL32=\"\",\"\",INT((YEAR(DATE(DATA_PATIENT!M10,DATA_PATIENT!N10,DATA_PATIENT!O10))*12+MONTH(DATE(DATA_PATIENT!M10,DATA_PATIENT!N10,DATA_PATIENT!O10))-YEAR(DATE(DATA_PATIENT!M6,DATA_PATIENT!N6,DATA_PATIENT!O6))*12-MONTH(DATE(DATA_PATIENT!M6,DATA_PATIENT!N6,DATA_PATIENT!O6))\n-IF(DAY(DATE(DATA_PATIENT!M6,DATA_PATIENT!N6,DATA_PATIENT!O6)+1)=1,IF(DAY(DATE(DATA_PATIENT!M10,DATA_PATIENT!N10,DATA_PATIENT!O10)+1)>1,1),IF(AND(DAY(DATE(DATA_PATIENT!M10,DATA_PATIENT!N10,DATA_PATIENT!O10)+1)>1,\n DAY(DATE(DATA_PATIENT!M10,DATA_PATIENT!N10,DATA_PATIENT!O10))<DAY(DATE(DATA_PATIENT!M6,DATA_PATIENT!N6,DATA_PATIENT!O6))),1)))/12))","v":""}]
[]
[null,"転帰先医療機関：",null,null,null,null,null,null,null,null,null,null,"転帰先医療機関：",null,null,null,null,null,null,null,null,null,null,"転帰先医療機関："]
[]
[null,"入院時年齢：",null,null,null,{"$f":"IF(E30=\"\",\"\",INT((YEAR(DATE(DATA_PATIENT!M7,DATA_PATIENT!N7,DATA_PATIENT!O7))*12+MONTH(DATE(DATA_PATIENT!M7,DATA_PATIENT!N7,DATA_PATIENT!O7))-YEAR(DATE(DATA_PATIENT!M6,DATA_PATIENT!N6,DATA_PATIENT!O6))*12-MONTH(DATE(DATA_PATIENT!M6,DATA_PATIENT!N6,DATA_PATIENT!O6))\n-IF(DAY(DATE(DATA_PATIENT!M6,DATA_PATIENT!N6,DATA_PATIENT!O6)+1)=1,IF(DAY(DATE(DATA_PATIENT!M7,DATA_PATIENT!N7,DATA_PATIENT!O7)+1)>1,1),IF(AND(DAY(DATE(DATA_PATIENT!M7,DATA_PATIENT!N7,DATA_PATIENT!O7)+1)>1,\n DAY(DATE(DATA_PATIENT!M7,DATA_PATIENT!N7,DATA_PATIENT!O7))<DAY(DATE(DATA_PATIENT!M6,DATA_PATIENT!N6,DATA_PATIENT!O6))),1)))/12))","v":""}]
[null,null,null,null,null,null,null,null,null,null,null,null,"入院時年齢：",null,null,null,{"$f":"IF(P30=\"\",\"\",INT((YEAR(DATE(DATA_PATIENT!M8,DATA_PATIENT!N8,DATA_PATIENT!O8))*12+MONTH(DATE(DATA_PATIENT!M8,DATA_PATIENT!N8,DATA_PATIENT!O8))-YEAR(DATE(DATA_PATIENT!M6,DATA_PATIENT!N6,DATA_PATIENT!O6))*12-MONTH(DATE(DATA_PATIENT!M6,DATA_PATIENT!N6,DATA_PATIENT!O6))\n-IF(DAY(DATE(DATA_PATIENT!M6,DATA_PATIENT!N6,DATA_PATIENT!O6)+1)=1,IF(DAY(DATE(DATA_PATIENT!M8,DATA_PATIENT!N8,DATA_PATIENT!O8)+1)>1,1),IF(AND(DAY(DATE(DATA_PATIENT!M8,DATA_PATIENT!N8,DATA_PATIENT!O8)+1)>1,\n DAY(DATE(DATA_PATIENT!M8,DATA_PATIENT!N8,DATA_PATIENT!O8))<DAY(DATE(DATA_PATIENT!M6,DATA_PATIENT!N6,DATA_PATIENT!O6))),1)))/12))","v":""},null,null,null,null,null,null,"入院時年齢：",null,null,null,{"$f":"IF(AA30=\"\",\"\",INT((YEAR(DATE(DATA_PATIENT!M9,DATA_PATIENT!N9,DATA_PATIENT!O9))*12+MONTH(DATE(DATA_PATIENT!M9,DATA_PATIENT!N9,DATA_PATIENT!O9))-YEAR(DATE(DATA_PATIENT!M6,DATA_PATIENT!N6,DATA_PATIENT!O6))*12-MONTH(DATE(DATA_PATIENT!M6,DATA_PATIENT!N6,DATA_PATIENT!O6))\n-IF(DAY(DATE(DATA_PATIENT!M6,DATA_PATIENT!N6,DATA_PATIENT!O6)+1)=1,IF(DAY(DATE(DATA_PATIENT!M9,DATA_PATIENT!N9,DATA_PATIENT!O9)+1)>1,1),IF(AND(DAY(DATE(DATA_PATIENT!M9,DATA_PATIENT!N9,DATA_PATIENT!O9)+1)>1,\n DAY(DATE(DATA_PATIENT!M9,DATA_PATIENT!N9,DATA_PATIENT!O9))<DAY(DATE(DATA_PATIENT!M6,DATA_PATIENT!N6,DATA_PATIENT!O6))),1)))/12))","v":""}]
[]
[]
[null,null,null,"※　身長・体重・入院日を電子カルテから取込します。（けんみん病院のみ）"]

{"sheet":"検査情報","index":7,"n_rows":54,"n_cols":11,"rows_kept":54,"cut":false,"hidden":false,"merged":[[52,14,52,15],[52,16,52,17],[52,2,52,3],[52,4,52,5],[52,6,52,7],[52,8,52,9],[52,10,52,11],[52,12,52,13],[39,16,39,17],[39,2,39,3],[39,4,39,5],[39,6,39,7],[39,8,39,9],[39,10,39,11],[39,12,39,13],[45,2,45,3],[45,4,45,5],[45,6,45,7],[45,8,45,9],[40,2,40,3],[40,4,40,5],[47,12,47,13],[40,6,40,7],[40,8,40,9],[9,16,9,17],[12,14,12,15],[12,16,12,17],[10,16,10,17],[11,14,11,15],[11,16,11,17],[27,14,27,15],[27,16,27,17],[23,14,23,15],[23,16,23,17],[24,14,24,15],[24,16,24,17],[25,14,25,15],[25,16,25,17],[26,14,26,15],[26,16,26,17],[6,16,6,17],[7,14,7,15],[7,16,7,17],[13,12,13,13],[8,14,8,15],[8,16,8,17],[9,14,9,15],[25,10,25,11],[25,12,25,13],[21,10,21,11],[21,12,21,13],[22,10,22,11],[22,12,22,13],[23,10,23,11],[6,14,6,15],[23,12,23,13],[24,10,24,11],[24,12,24,13],[10,14,10,15],[21,14,21,15],[22,14,22,15],[22,16,22,17],[19,14,19,15],[19,16,19,17],[19,6,19,7],[19,8,19,9],[25,2,25,3],[25,4,25,5],[23,2,23,3],[23,4,23,5],[23,6,23,7],[23,8,23,9],[6,10,6,11],[7,10,7,11],[10,10,10,11],[11,10,11,11],[8,10,8,11],[9,10,9,11],[11,6,11,7],[11,8,11,9],[13,6,13,7],[13,8,13,9],[12,6,12,7],[12,8,12,9],[14,6,14,7],[14,8,14,9],[12,10,12,11],[6,6,6,7],[6,8,6,9],[7,6,7,7],[7,8,7,9],[10,6,10,7],[10,8,10,9],[8,6,8,7],[8,8,8,9],[9,6,9,7],[9,8,9,9],[14,2,14,3],[14,4,14,5],[24,2,24,3],[24,4,24,5],[19,2,19,3],[19,4,19,5],[20,2,20,3],[20,4,20,5],[13,2,13,3],[13,4,13,5],[21,2,21,3],[21,4,21,5],[22,2,22,3],[22,4,22,5],[12,2,12,3],[12,4,12,5],[9,2,9,3],[9,4,9,5],[10,2,10,3],[10,4,10,5],[11,2,11,3],[11,4,11,5],[6,2,6,3],[6,4,6,5],[7,2,7,3],[7,4,7,5],[8,2,8,3],[8,4,8,5],[27,6,27,7],[27,8,27,9],[26,6,26,7],[26,8,26,9],[33,2,33,3],[33,4,33,5],[33,6,33,7],[20,6,20,7],[20,8,20,9],[25,6,25,7],[25,8,25,9],[21,6,21,7],[21,8,21,9],[22,6,22,7],[22,8,22,9],[24,6,24,7],[24,8,24,9],[27,2,27,3],[27,4,27,5],[26,2,26,3],[26,4,26,5],[34,6,34,7],[32,2,32,3],[32,4,32,5],[37,2,37,3],[37,4,37,5],[37,6,37,7],[34,8,34,9],[33,8,33,9],[33,10,33,11],[34,2,34,3],[34,4,34,5],[32,10,32,11],[32,6,32,7],[32,8,32,9],[37,10,37,11],[38,2,38,3],[38,4,38,5],[35,14,35,15],[36,10,36,11],[36,12,36,13],[36,14,36,15],[35,10,35,11],[35,8,35,9],[36,2,36,3],[36,4,36,5],[36,6,36,7],[36,8,36,9],[35,2,35,3],[35,4,35,5],[35,6,35,7],[37,8,37,9],[38,6,38,7],[38,8,38,9],[38,10,38,11],[38,12,38,13],[40,16,40,17],[45,10,45,11],[45,12,45,13],[45,14,45,15],[45,16,45,17],[40,10,40,11],[40,12,40,13],[48,12,48,13],[37,12,37,13],[1,1,1,2],[1,3,1,6],[1,7,1,9],[1,10,1,16],[48,14,48,15],[49,4,49,5],[49,6,49,7],[49,8,49,9],[48,2,48,3],[48,4,48,5],[48,6,48,7],[48,8,48,9],[46,2,46,3],[46,4,46,5],[46,6,46,7],[46,8,46,9],[46,10,46,11],[46,12,46,13],[47,2,47,3],[47,4,47,5],[47,6,47,7],[47,8,47,9],[47,10,47,11],[35,12,35,13],[50,6,50,7],[50,8,50,9],[49,2,49,3],[1,18,1,20],[53,14,53,15],[53,16,53,17],[50,14,50,15],[51,16,51,17],[49,14,49,15],[14,16,14,17],[50,2,50,3],[50,4,50,5],[53,2,53,3],[53,4,53,5],[53,6,53,7],[53,8,53,9],[51,2,51,3],[51,4,51,5],[51,6,51,7],[51,8,51,9],[3,4,3,5],[3,6,3,7],[3,8,3,9],[48,10,48,11],[3,10,3,11],[51,14,51,15],[53,10,53,11],[53,12,53,13],[51,10,51,11],[51,12,51,13],[50,12,50,13],[32,16,32,17],[33,16,33,17],[49,16,49,17],[48,16,48,17],[37,16,37,17],[33,14,33,15],[36,16,36,17],[34,14,34,15],[34,16,34,17],[49,10,49,11],[49,12,49,13],[39,14,39,15],[13,14,13,15],[13,16,13,17],[46,16,46,17],[38,14,38,15],[38,16,38,17],[34,12,34,13],[47,16,47,17],[37,14,37,15],[50,16,50,17],[50,10,50,11],[47,14,47,15],[20,12,20,13],[12,12,12,13],[14,12,14,13],[34,10,34,11],[27,10,27,11],[26,10,26,11],[32,12,32,13],[33,12,33,13],[27,12,27,13],[26,12,26,13],[20,14,20,15],[20,16,20,17],[35,16,35,17],[46,14,46,15],[14,14,14,15],[21,16,21,17],[32,14,32,15],[40,14,40,15],[6,12,6,13],[7,12,7,13],[10,12,10,13],[11,12,11,13],[8,12,8,13],[9,12,9,13],[19,10,19,11],[19,12,19,13],[20,10,20,11],[14,10,14,11],[13,10,13,11]]}
[]
[null,"患者ID",null,{"$f":"IF(患者基本情報!E6=\"\",\"\",患者基本情報!E6)","v":0},null,null,null,"患者氏名",null,null,{"$f":"IF(患者基本情報!E8=\"\",\"\",患者基本情報!E8)","v":0}]
[]
[null,"検査情報",null,null,"【急性期】",null,"【回復期】",null,"【維持期】",null,"【在宅】"]
[]
[null,"【急性期】"]
[null,null,"退・転院",null,"入院"]
[]
[null,"INR"]
[null,"LDL"]
[null,"HDL"]
[null,"TG"]
[]
[null,"HbA1C(NGSP)"]
[null,"Alb"]
[]
[]
[]
[null,"【回復期】"]
[null,null,"退・転院"]
[]
[null,"INR"]
[null,"LDL"]
[null,"HDL"]
[null,"TG"]
[]
[null,"HbA1C(NGSP)"]
[null,"Alb"]
[]
[]
[]
[null,"【維持期】"]
[null,null,"退・転院"]
[]
[null,"INR"]
[null,"LDL"]
[null,"HDL"]
[null,"TG"]
[]
[null,"HbA1C(NGSP)"]
[null,"Alb"]
[]
[]
[]
[null,"【在宅】"]
[]
[]
[null,"INR"]
[null,"LDL"]
[null,"HDL"]
[null,"TG"]
[]
[null,"HbA1C(NGSP)"]
[null,"Alb"]

{"sheet":"JCS・GCS","index":8,"n_rows":69,"n_cols":17,"rows_kept":69,"cut":false,"hidden":false,"merged":[[19,1,20,1],[9,1,10,1],[28,1,28,2],[31,2,31,8],[9,2,9,3],[9,4,9,5],[10,2,10,3],[10,4,10,5],[30,1,32,1],[66,2,66,7],[33,2,33,8],[48,2,48,8],[49,2,49,8],[11,2,11,3],[11,4,11,5],[19,2,19,3],[19,4,19,5],[24,2,24,3],[24,4,24,5],[20,2,20,3],[20,4,20,5],[30,2,30,8],[42,2,42,8],[43,2,43,8],[32,2,32,8],[1,3,1,4],[1,5,1,6],[1,8,1,10],[53,2,53,7],[2,1,3,5],[44,1,46,1],[44,2,44,8],[51,1,51,2],[25,2,25,3],[25,4,25,5],[35,2,35,8],[36,2,36,8],[37,2,37,8],[38,2,38,8],[47,2,47,8],[47,1,49,1],[63,1,68,1],[54,1,57,1],[62,2,62,7],[63,2,63,7],[67,2,67,7],[54,2,54,7],[55,2,55,7],[56,2,56,7],[57,2,57,7],[58,1,62,1],[58,2,58,7],[68,2,68,7],[60,2,60,7],[61,2,61,7],[64,2,64,7],[65,2,65,7],[59,2,59,7],[41,2,41,8],[33,1,35,1],[36,1,38,1],[45,2,45,8],[46,2,46,8],[34,2,34,8],[41,1,43,1]]}
[]
[null,null,null,"患者ID",null,{"$f":"IF(患者基本情報!E6=\"\",\"\",患者基本情報!E6)","v":0},null,"患者氏名",{"$f":"IF(患者基本情報!E8=\"\",\"\",患者基本情報!E8)","v":0}]
[null,"ＪＣＳ／ＧＣＳ"]
[]
[]
["【急性期】",null,null,null,null,null,null,null,null,null,null,null,null,null,null,null,"スコア"]
[null,"　■ JCS　(Japan Come Scale)",null,null,null,null,null,null,null,null,null,null,null,null,null,null,0]
[null,"覚醒（目を覚ますこと）の程度を９段階で表し、数値が大きいほど意識障害が重いことを示しています。",null,null,null,null,null,null,null,null,null,null,null,null,null,null,1]
[null,null,null,null,null,null,null,null,null,null,null,null,null,null,null,null,2]
[null,"項目","初期",null,"退・転院時",null,null,null,null,null,null,null,null,null,null,null,3]
[null,null,null,null,null,null,null,null,null,null,null,null,null,null,null,null,10]
[null,"JCS",null,null,null,null,null,null,null,null,null,null,null,null,null,null,20]
[null,null,null,null,null,null,null,null,null,null,null,null,null,null,null,null,30]
[null,null,null,null,null,null,null,null,null,null,null,null,null,null,null,null,100]
[null,"　■ GCS　(Glasgow Come Scale)",null,null,null,null,null,null,null,null,null,null,null,null,null,null,200]
[null,"開眼、言葉による応答、運動による最良の応答の観察項目について、それぞれ４、５、６点満点で判定し、",null,null,null,null,null,null,null,null,null,null,null,null,null,null,300]
[null,"各項目の合計得点を指標としています。"]
[null,"３～８点が重度、９～１３点が中等度、１４、１５点が軽度。　"]
[]
[null,"項目","初期",null,"退・転院時"]
[]
[null,"Ａ．開　眼","E",null,"E"]
[null,"Ｂ．言葉による応答","V",null,"V"]
[null,"Ｃ．運動による最良の応答","M",null,"M"]
[null,"合計点数",{"$f":"SUM(D22:D24)","v":0},null,{"$f":"SUM(F22:F24)","v":0}]
[null,null,{"$f":"C22&D22&C23&D23&C24&D24","v":"EVM"},null,{"$f":"E22&F22&E23&F23&E24&F24","v":"EVM"}]
[]
[null,"意識レベルの評価"]
[null,"　■ JCS　(Japan Come Scale)"]
[]
[null,"Ⅰ．刺激しないで覚醒している状態","１．ほぼ意識清明だが、今ひとつはっきりしない"]
[null,null,"２．見当識（時・場所・人の認識）に障害がある"]
[null,null,"３．自分の名前や生年月日が言えない"]
[null,"Ⅱ．刺激すると覚醒する状態\n （刺激をやめると眠り込む）","１０．普通の呼びかけで目を開ける。「右手を握れ」などの指示に\n　　　応じ、言葉も話せるが間違いが多い"]
[null,null,"２０．大声で呼ぶ、体を揺するなどで目を開ける"]
[null,null,"３０．痛み刺激をしながら呼ぶとかろうじて目を開ける。\n　　　「手を握れ」など簡単な指示に応じる"]
[null,"Ⅲ．刺激をしても覚醒しない状態","１００．痛み刺激に対し払いのけるような動作をする"]
[null,null,"２００．痛み刺激で少し手足を動かしたり、顔をしかめる"]
[null,null,"３００．痛み刺激に反応しない"]
[]
[null,"* 乳幼児の意識レベル判定法"]
[null,"Ⅰ．刺激しないで覚醒している状態","１．あやすと笑う。ただし不十分で、声を出して笑わない"]
[null,null,"２．あやしても笑わないが、視線は合う"]
[null,null,"３．母親と視線が合わない"]
[null,"Ⅱ．刺激すると覚醒する状態\n （刺激をやめると眠り込む）","１０．飲み物を見せると飲もうとする。あるいは乳首を見せれば\n　　　欲しがって吸う "]
[null,null,"２０．呼びかけると開眼して目を向ける"]
[null,null,"３０．呼びかけを繰り返すと、辛うじて開眼する"]
[null,"Ⅲ．刺激をしても覚醒しない状態","１００．痛み刺激に対し払いのけるような動作をする"]
[null,null,"２００．痛み刺激で少し手足を動かしたり、顔をしかめる"]
[null,null,"３００．痛み刺激に反応しない"]
[]
[null,"　■ GCS　(Glasgow Come Scale)"]
[]
[null,"大分類","小分類",null,null,null,null,null,"スコア"]
[null,"Ａ．開　眼","自発的に目を開ける",null,null,null,null,null,4]
[null,null,"声をかけると目を開ける",null,null,null,null,null,3]
[null,null,"痛み刺激によって目を開ける",null,null,null,null,null,2]
[null,null,"目を開けない",null,null,null,null,null,1]
[null,"Ｂ．言葉による応答","だれか、どこか、いつかに答えられる",null,null,null,null,null,5]
[null,null,"会話が混乱する",null,null,null,null,null,4]
[null,null,"まとまりのない言葉が出る",null,null,null,null,null,3]
[null,null,"言葉にならない声だけが出る",null,null,null,null,null,2]
[null,null,"言葉が出ない",null,null,null,null,null,1]
[null,"Ｃ．運動による最良の応答","指示に従う",null,null,null,null,null,6]
[null,null,"痛み刺激の場所に手足をもってくる",null,null,null,null,null,5]
[null,null,"痛み刺激から逃げる",null,null,null,null,null,4]
[null,null,"体を異常に曲げる",null,null,null,null,null,3]
[null,null,"四肢を伸ばした状態",null,null,null,null,null,2]
[null,null,"まったく動かない",null,null,null,null,null,1]

{"sheet":"NIHSS","index":9,"n_rows":46,"n_cols":14,"rows_kept":46,"cut":false,"hidden":false,"merged":[[4,1,5,1],[4,2,5,2],[37,1,38,1],[13,1,14,1],[11,1,12,1],[6,1,7,1],[4,3,4,4],[5,3,5,4],[11,3,12,3],[13,3,14,3],[15,5,19,5],[4,5,4,6],[5,5,5,6],[6,6,7,6],[11,6,12,6],[6,3,7,3],[6,4,7,4],[11,4,12,4],[6,5,7,5],[11,5,12,5],[13,5,14,5],[15,3,19,3],[44,1,44,2],[30,6,34,6],[37,6,38,6],[39,6,40,6],[41,6,43,6],[39,5,40,5],[37,5,38,5],[37,4,38,4],[41,4,43,4],[41,5,43,5],[30,4,34,4],[39,4,40,4],[41,1,43,1],[41,3,43,3],[30,5,34,5],[39,2,40,2],[30,3,34,3],[39,3,40,3],[37,3,38,3],[13,6,14,6],[15,6,19,6],[20,6,24,6],[25,6,29,6],[13,4,14,4],[25,4,29,4],[20,3,24,3],[25,5,29,5],[20,4,24,4],[20,5,24,5],[15,4,19,4],[25,3,29,3]]}
[]
[null,"NIHSS採点表"]
[]
[null,"【急性期】"]
[null,"分類","採点基準","初期",null,"退・転院時",null,null,null,null,null,null,0,0]
[null,null,null,null,null,null,null,null,null,null,null,null,1,1]
[null,"１a．意識水準","0：完全覚醒　　　　1：簡単な刺激で覚醒",null,"点",null,"点",null,null,null,null,null,2,2]
[null,null,"2：繰り返し刺激、強い刺激で覚醒　　 3：完全に無反応",null,null,null,null,null,null,null,null,null,3,9]
[null,"１b．意識障害_質問\n　　（今月の月名及び年齢）","0：両方正解　　1：片方正解　　 2：両方不正解",null,"点",null,"点",null,null,null,null,null,4]
[null,"１c．意識障害_従命\n　　（開閉眼、「手を握る・開く」）","0：両方正解　　1：片方正解　　 2：両方不可能",null,"点",null,"点",null,null,null,null,null,9]
[null,"２．最良の注視","0：正常　　1：部分的注視視野　 2：完全注視麻痺",null,"点",null,"点"]
[null,"３．視野","0：視野欠損なし　 1：部分的半盲",null,"点",null,"点"]
[null,null,"2：完全半盲 　　3：両側性半盲"]
[null,"４．顔面麻痺","0：正常　　　　 1：軽度の麻痺",null,"点",null,"点"]
[null,null,"2：部分的麻痺　　 3：完全麻痺"]
[null,"５．上肢の運動（右）","0：９０度*を１０秒保持可能（下垂なし）　",null,"点",null,"点"]
[null,null,"1：９０度*を保持できるが、１０秒以内に下垂"]
[null,"*仰臥位のときは４５度右上肢","2：９０度*の挙上または保持ができない"]
[null,null,"3：重力に抗して動かない"]
[null,null,"4：全く動きがみられない　　　　　9：切断、関節癒合"]
[null,"　上肢の運動 （左）","0：９０度*を１０秒保持可能（下垂なし）　",null,"点",null,"点"]
[null,null,"1：９０度*を保持できるが、１０秒以内に下垂"]
[null,"＊仰臥位のときは４５度左上肢","2：９０度*の挙上または保持ができない"]
[null,null,"3：重力に抗して動かない"]
[null,null,"4：全く動きがみられない　　　　　9：切断、関節癒合"]
[null,"６．下肢の運動（右）","0：３０度を５秒間保持できる（下垂なし）",null,"点",null,"点"]
[null,null,"1：３０度を保持できるが、５秒以内に下垂"]
[null,null,"2：重力に抗して動きがみられる"]
[null,null,"3：重力に抗して動かない"]
[null,null,"4：全く動きがみられない　　　　　9：切断、関節癒合"]
[null,"　下肢の運動（左）","0：３０度を５秒間保持できる（下垂なし）",null,"点",null,"点"]
[null,null,"1：３０度を保持できるが、５秒以内に下垂"]
[null,null,"2：重力に抗して動きがみられる"]
[null,null,"3：重力に抗して動かない"]
[null,null,"4：全く動きがみられない　　　　　9：切断、関節癒合"]
[null,"７．運動失調","0：なし　1：１肢　　 2：2肢　　9：切断、関節癒合",null,"点",null,"点"]
[null,"８．感覚","0：障害なし　1：軽度から中等度 2：重度から完全",null,"点",null,"点"]
[null,"９．最良の言語","0：失語なし　　　　 1：軽度から中等度",null,"点",null,"点"]
[null,null,"2：重度の失語      3：無言、全失語"]
[null,"１０．構音障害","0：正常　　1：軽度から中等度 　　 2：重度　　　9：挿管または身体的障壁",null,"点",null,"点"]
[]
[null,"１１．消去現象と注意障害","0：異常なし",null,"点",null,"点"]
[null,null,"1：視覚、触覚、聴覚、視空間、または自己身体に対する不注意、あるいは１つの感覚様式で２点同時刺激に対する消去現象"]
[null,null,"2：重度の半側不注意あるいは２つ以上の感覚様式に対する半側不注意"]
[null,"合計点数",null,{"$f":"SUM(D7:D44)","v":0},"点",{"$f":"SUM(F7:F44)","v":0},"点"]
[null,null,"(入力項目数)",{"$f":"COUNTA(D7:D44)","v":0},null,{"$f":"COUNTA(F7:F44)","v":0}]

{"sheet":"MMT","index":10,"n_rows":52,"n_cols":13,"rows_kept":52,"cut":false,"hidden":false,"merged":[[31,5,31,13],[32,5,32,13],[26,5,26,13],[27,5,27,13],[28,5,28,13],[29,5,29,13],[30,5,30,13],[32,2,32,4],[26,2,26,4],[27,2,27,4],[28,2,28,4],[29,2,29,4],[30,2,30,4],[31,2,31,4],[16,4,16,5],[9,11,9,12],[8,11,8,12],[16,2,21,3],[17,4,17,5],[8,9,8,10],[9,4,9,5],[17,9,17,10],[17,11,17,12],[18,11,18,12],[21,11,21,12],[19,11,19,12],[20,11,20,12],[16,11,16,12],[9,9,9,10],[16,9,16,10],[8,2,8,3],[8,4,8,5],[9,2,9,3],[1,19,1,21],[1,2,1,4],[1,5,1,6],[1,7,1,10]]}
[]
[null,"患者ID",{"$f":"IF(患者基本情報!E6=\"\",\"\",患者基本情報!E6)","v":0},null,null,"患者氏名",null,{"$f":"IF(患者基本情報!E8=\"\",\"\",患者基本情報!E8)","v":0}]
[]
[null,"ＭＭＴ（Manual Mascle Test：徒手筋力テスト）"]
[]
[null,"ＭＭＴは重力や抵抗に対抗してできる運動能力を数量化したものである。"]
[]
[null,"【急性期】",null,null,null,null,null,null,"【回復期】"]
[null,null,"初期",null,"退・転院時",null,null,null,null,"初期",null,"退・転院時"]
[null,"判定日",null,null,null,null,null,null,"判定日"]
[null,null,"左","右","左","右",null,null,null,"左","右","左","右"]
[null,"上肢",null,null,null,null,null,null,"上肢"]
[null,"手指",null,null,null,null,null,null,"手指"]
[null,"下肢",null,null,null,null,null,null,"下肢"]
[]
[null,"【維持期】",null,null,null,null,null,null,"【在宅】"]
[null,null,null,null,"退・転院時"]
[null,"判定日",null,null,null,null,null,null,"判定日"]
[null,null,null,null,"左","右",null,null,null,"左","右"]
[null,"上肢",null,null,null,null,null,null,"上肢"]
[null,"手指",null,null,null,null,null,null,"手指"]
[null,"下肢",null,null,null,null,null,null,"下肢"]
[]
[]
[null,"ＭＭＴの段階付け"]
[]
[null,"スコア","質的スコア",null,null,"意味"]
[null,5,"Normal（N）",null,null,"検査者が被検者の肢位持続力にほとんど抵抗できない"]
[null,4,"Good（G）",null,null,"段階５の抵抗に対して、被検者が抗しきれない"]
[null,3,"Fair(F)",null,null,"重力の抵抗だけに対して、運動範囲内を完全に動かせる→客観的基準"]
[null,2,"Poor(P)",null,null,"重力を取り去れば、運動範囲内を完全に動かせる"]
[null,1,"Trace(T)",null,null,"テスト筋の収縮が目で見て取れるか、または触知できる"]
[null,0,"Zero(活動なし)",null,null,"視察･触知によっても、筋の収縮が確認できない"]
[]
[]
[]
[]
[null,"【急性期】",{"$f":"IF(C12=\"\",9,C12)","v":9},9,9,9,null,"連携項目データ"]
[null,null,9,9,9,9,null,"　入院時",null,{"$f":"C38&C39&C40&D38&D39&D40","v":"999999"}]
[null,null,9,9,9,9,null,"　退院時",null,{"$f":"E38&E39&E40&F38&F39&F40","v":"999999"}]
[]
[null,"【回復期】",{"$f":"IF(J12=\"\",9,J12)","v":9},9,9,9,null,"連携項目データ"]
[null,null,9,9,9,9,null,"　入院時",null,{"$f":"C42&C43&C44&D42&D43&D44","v":"999999"}]
[null,null,9,9,9,9,null,"　退院時",null,{"$f":"E42&E43&E44&F42&F43&F44","v":"999999"}]
[]
[null,"【維持期】",{"$f":"IF(C20=\"\",9,C20)","v":9},9,9,9,null,"連携項目データ"]
[null,null,9,9,9,9,null,"　入院時",null,{"$f":"C46&C47&C48&D46&D47&D48","v":"999999"}]
[null,null,9,9,9,9,null,"　退院時",null,{"$f":"E46&E47&E48&F46&F47&F48","v":"999999"}]
[]
[null,"【在宅維持期】",{"$f":"IF(J20=\"\",9,J20)","v":9},9,null,null,null,"連携項目データ"]
[null,null,9,9,null,null,null,null,null,{"$f":"C50&C51&C52&D50&D51&D52","v":"999999"}]
[null,null,9,9]

{"sheet":"Brunnstrom","index":11,"n_rows":126,"n_cols":13,"rows_kept":126,"cut":false,"hidden":false,"merged":[[31,2,31,14],[32,2,32,14],[27,2,27,14],[28,2,28,14],[29,2,29,14],[30,2,30,14],[15,8,20,12],[15,2,20,3],[16,4,16,5],[1,7,1,10],[1,19,1,21],[15,4,15,5],[1,2,1,4],[1,5,1,6],[6,2,6,3],[6,4,6,5],[7,2,7,3],[7,4,7,5],[6,9,6,10],[6,11,6,12],[7,9,7,10],[7,11,7,12]]}
[]
[null,"患者ID",{"$f":"IF(患者基本情報!E6=\"\",\"\",患者基本情報!E6)","v":0},null,null,"患者氏名",null,{"$f":"IF(患者基本情報!E8=\"\",\"\",患者基本情報!E8)","v":0}]
[]
[null,"BS（Brunnstrom Stage）"]
[]
[null,"【急性期】",null,null,null,null,null,null,"【回復期】"]
[null,null,"初期",null,"退・転院時",null,null,null,null,"初期",null,"退・転院時"]
[null,"判定日",null,null,null,null,null,null,"判定日"]
[null,null,"左","右","左","右",null,null,null,"左","右","左","右"]
[null,"上肢",null,null,null,null,null,null,"上肢"]
[null,"手指",null,null,null,null,null,null,"手指"]
[null,"下肢",null,null,null,null,null,null,"下肢"]
[]
[]
[null,"【維持期】",null,null,null,null,null,null,"【在宅】"]
[null,null,null,null,"退・転院時"]
[null,"判定日"]
[null,null,null,null,"左","右"]
[null,"上肢"]
[null,"手指"]
[null,"下肢"]
[]
[]
[]
[null,"運動マヒの段階評価法\n"]
[]
[null,"<上肢･手･下肢>"]
[null,"I","随意運動なし（弛緩）"]
[null,"Ⅱ","共同運動またはその要素の最初の出現期（痙性発現）"]
[null,"Ⅲ","共同運動またはその要素を随意的に起こしうる（痙性著明）"]
[null,"Ⅳ","基本的共同運動から逸脱した運動（痙性やや弱まる）"]
[null,"Ⅴ","基本的共同運動から独立した運動（痙性減少）"]
[null,"Ⅵ","協調運動ほとんど正常（痙性最小期）"]
[]
[null,"<上肢>"]
[null,"Ⅰ：弛緩期"]
[null,"　反射的にも随意的にも運動・筋収縮がない状態"]
[]
[null,"Ⅱ：痙性発現期"]
[null,"　多少の痙性と共同運動パターンの出現期で、連合反応あるいは随意的におこる筋収縮がみられる状態"]
[]
[null,"Ⅲ：痙性極期"]
[null,"　随意的に共同運動またはその一部の要素による運動を起こすことができる状態"]
[null,"　共同運動パターン（屈筋共同運動・伸筋共同運動）が最も強くなる時期"]
[]
[null,"Ⅳ：痙性(やや)減弱期"]
[null,"　共同運動パターンから分離しはじめた状態で、下記の運動が可能となる"]
[null,"　　1)手を腰の後ろに回す"]
[null,"　　2)腕を前方水平位に挙上する"]
[null,"　　3)肘関節９０°屈曲位で前腕を回内・回外する"]
[]
[null,"Ⅴ：痙性減少期"]
[null,"　共同運動パターンからかなり分離した運動ができる状態で、下記の運動が可能となる"]
[null,"　　1)腕を側方水平位に挙上する"]
[null,"　　2)腕を頭上まで挙上する"]
[null,"　　3)肘関節伸展位で前方または側方水平位で腕を回旋する"]
[]
[null,"Ⅵ：痙性最小期"]
[null,"　単一の関節運動が自由に可能となり協調運動もほとんど正常になる"]
[null,"　ほぼ正常な動作ができる状態"]
[]
[]
[null,"<手指>"]
[null,"Ⅰ：弛緩状態で、手指が全く動かない状態"]
[]
[null,"Ⅱ：自動的に手指の屈曲のみがわずかにできる状態"]
[]
[null,"Ⅲ：随意的に全指同時握り（集団屈曲）や鉤握りができる状態"]
[null,"　しかし随意的な伸展はできない"]
[]
[null,"Ⅳ：集団伸展が一部可能となり、横つまみができる状態"]
[]
[null,"Ⅴ：集団伸展が充分にでき、対向つまみ・筒握り・球握りができる状態"]
[null,"　しかし動きは不器用で実用性は低い"]
[]
[null,"Ⅵ：全ての握りやつまみが可能となり、巧緻性も改善し完全な伸展ができる状態"]
[null,"　個別の手指の運動はできるが健側に比べ正確さは劣る"]
[]
[]
[]
[null,"<下肢>"]
[null,"（各段階の麻痺状態は上肢と同じ）"]
[null,"Ⅰ：全く随意性がみられない状態"]
[]
[null,"Ⅱ：多少の痙性と共同運動がみられる状態"]
[null,"　連合反応としてレイミステ反応がみられる時期"]
[]
[null,"Ⅲ：痙性が最も強い状態"]
[null,"　屈筋共同運動・伸筋共同運動パターンが最も強く現れる時期"]
[]
[null,"Ⅳ：痙性がやや減弱し、共同運動パターンから分離し始めた状態"]
[null,"　下記の運動が可能となる"]
[null,"　　1)坐位での膝関節伸展"]
[null,"　　2)坐位で膝関節を９０°以上屈曲して足を床の後方へ滑らす"]
[null,"　　3)坐位で踵を床から離さずに足関節を背屈する"]
[]
[null,"Ⅴ：さらに共同運動パターンから分離した状態下記の運動が可能になる"]
[null,"　　1)立位で股関節伸展位で膝関節を屈曲する"]
[null,"　　2)立位で足を少し前方に出し、踵を床をつけたまま足関節を背屈する"]
[null,"　　3)坐位で股関節を内旋する"]
[]
[null,"Ⅵ：協調運動がほぼ正常にできる状態下記の運動が可能になる"]
[null,"　　1)立位で膝関節伸展位のまま股関節を外転する"]
[null,"　　2)立位での足踏み　"]
[]
[]
[null,"http://12346529.at.webry.info/200902/article_10.html"]
[]
[]
[]
[]
[null,"【急性期】",{"$f":"IF(C10=\"\",9,C10)","v":9},9,9,9,null,"連携項目データ"]
[null,null,9,9,9,9,null,"　入院時",null,{"$f":"C112&C113&C114&D112&D113&D114","v":"999999"}]
[null,null,9,9,9,9,null,"　退院時",null,{"$f":"E112&E113&E114&F112&F113&F114","v":"999999"}]
[]
[null,"【回復期】",{"$f":"IF(J10=\"\",9,J10)","v":9},9,9,9,null,"連携項目データ"]
[null,null,9,9,9,9,null,"　入院時",null,{"$f":"C116&C117&C118&D116&D117&D118","v":"999999"}]
[null,null,9,9,9,9,null,"　退院時",null,{"$f":"E116&E117&E118&F116&F117&F118","v":"999999"}]
[]
[null,"【維持期】",{"$f":"IF(C19=\"\",9,C19)","v":9},9,9,9,null,"連携項目データ"]
[null,null,9,9,9,9,null,"　入院時",null,{"$f":"C120&C121&C122&D120&D121&D122","v":"999999"}]
[null,null,9,9,9,9,null,"　退院時",null,{"$f":"E120&E121&E122&F120&F121&F122","v":"999999"}]
[]
[null,"【在宅維持期】",{"$f":"IF(J19=\"\",9,J19)","v":9},9,null,null,null,"連携項目データ"]
[null,null,9,9,null,null,null,null,null,{"$f":"C124&C125&C126&D124&D125&D126","v":"999999"}]
[null,null,9,9,null,null,null,null,null,{"$f":"E124&E125&E126&F124&F125&F126","v":""}]

{"sheet":"障害","index":12,"n_rows":34,"n_cols":18,"rows_kept":34,"cut":false,"hidden":false,"merged":[[9,11,9,12],[9,2,9,3],[9,4,9,5],[9,9,9,10],[1,2,1,4],[1,5,1,6],[1,7,1,10],[7,9,7,10],[7,2,7,3],[7,4,7,5],[6,11,6,12],[8,2,8,3],[8,4,8,5],[8,9,8,10],[7,11,7,12],[8,11,8,12],[10,2,10,3],[15,11,15,12],[14,4,14,5],[11,11,11,12],[11,2,11,3],[11,4,11,5],[15,4,15,5],[15,9,15,10],[10,9,10,10],[10,11,10,12],[6,2,6,3],[6,4,6,5],[6,9,6,10],[32,2,32,3],[32,5,32,12],[18,4,18,5],[18,9,18,10],[10,4,10,5],[17,11,17,12],[11,9,11,10],[14,11,14,12],[14,9,14,10],[16,11,16,12],[17,4,17,5],[16,4,16,5],[16,9,16,10],[26,1,28,1],[26,2,28,3],[26,5,26,12],[27,5,27,12],[28,5,28,12],[29,1,31,1],[23,1,25,1],[14,2,19,3],[18,11,18,12],[23,2,25,3],[23,5,23,12],[24,5,24,12],[29,2,31,3],[29,5,29,12],[30,5,30,12],[31,5,31,12],[19,9,19,10],[19,11,19,12],[25,5,25,12],[19,4,19,5],[17,9,17,10]]}
[]
[null,"患者ID",{"$f":"IF(患者基本情報!E6=\"\",\"\",患者基本情報!E6)","v":0},null,null,"患者氏名",null,{"$f":"IF(患者基本情報!E8=\"\",\"\",患者基本情報!E8)","v":0}]
[]
[null,"障害"]
[]
[null,"【急性期】",null,null,null,null,null,null,"【回復期】"]
[null,null,"初期",null,"退・転院",null,null,null,null,"初期",null,"退・転院"]
[]
[null,"言語障害",null,null,null,null,null,null,"言語障害"]
[null,"感覚障害・失調",null,null,null,null,null,null,"感覚障害・失調"]
[null,"高次脳機能障害",null,null,null,null,null,null,"高次脳機能障害"]
[null,"嚥下障害",null,null,null,null,null,null,"嚥下障害"]
[null,null,"※　上記選択項目にない場合は、直接入力する。",null,null,null,null,null,null,"※　上記選択項目にない場合は、直接入力する。"]
[null,"【維持期】",null,null,null,null,null,null,"【在宅】"]
[null,null,null,null,"退・転院"]
[]
[null,"言語障害",null,null,null,null,null,null,"言語障害"]
[null,"感覚障害・失調",null,null,null,null,null,null,"感覚障害・失調"]
[null,"高次脳機能障害",null,null,null,null,null,null,"高次脳機能障害"]
[null,"嚥下障害",null,null,null,null,null,null,"嚥下障害"]
[null,null,"※　上記選択項目にない場合は、直接入力する。",null,null,null,null,null,null,"※　上記選択項目にない場合は、直接入力する。"]
[]
[null,"【嚥下障害グレード】"]
[null,"I\n重症","経口不可",null,1,"嚥下困難または不能、嚥下訓練適応なし",null,null,null,null,null,null,null,null,"言語障害","感覚障害","なし","高次脳機能障害"]
[null,null,null,null,2,"基礎的嚥下訓練だけの適応あり",null,null,null,null,null,null,null,null,"なし","なし","Ⅰ1","なし"]
[null,null,null,null,3,"条件が整えば誤嚥は減り、摂食訓練が可能",null,null,null,null,null,null,null,null,"失語症","感覚過敏","Ⅰ2","注意障害あり"]
[null,"Ⅱ\n中等症","経口補助栄養",null,1,"楽しみとしての摂食は可能",null,null,null,null,null,null,null,null,"構音障害","異常感覚（しびれも含む）","Ⅰ3","意識障害あり"]
[null,null,null,null,2,"一部（1～2食）経口可能",null,null,null,null,null,null,null,null,"音声障害","表在感覚低下","Ⅱ1","失認あり"]
[null,null,null,null,3,"３食経口摂取プラス補助栄養",null,null,null,null,null,null,null,null,"発語失行","両側表在感覚低下","Ⅱ2","失行あり"]
[null,"Ⅲ\n軽症","経口",null,1,"嚥下食で、３食とも経口摂取",null,null,null,null,null,null,null,null,"評価困難","深部感覚低下","Ⅱ3","評価困難"]
[null,null,null,null,2,"特別に嚥下しにくい食品を除き、３食経口摂取",null,null,null,null,null,null,null,null,null,"両側深部感覚低下","Ⅲ1"]
[null,null,null,null,3,"常食の経口摂取可能、臨床的観察と指導要する",null,null,null,null,null,null,null,null,null,"表在/深部感覚低下","Ⅲ2"]
[null,"Ⅳ","正常",null,10,"正常の摂食嚥下能力",null,null,null,null,null,null,null,null,null,"両側表在/深部感覚低下","Ⅲ3"]
[null,null,null,null,null,null,null,null,null,null,null,null,null,null,null,"評価困難","Ⅳ10"]

{"sheet":"NPUAP","index":13,"n_rows":32,"n_cols":8,"rows_kept":32,"cut":false,"hidden":false,"merged":[[16,2,19,2],[21,2,21,4],[30,1,30,4],[31,1,31,4],[23,2,23,4],[22,2,22,4],[27,1,27,3],[24,2,24,4],[25,2,25,4],[28,1,28,4]]}
[]
[null,"褥瘡ステージNPUAP分類"]
[]
[null,"【急性期】"]
[null,null,"初期","退・転院"]
[]
[null,"部位"]
[null,"評価"]
[null,null,null,null,null,null,"なし","後頭部"]
[null,"【回復期】",null,null,null,null,"Ⅰ","肩甲骨部"]
[null,null,"初期","退・転院",null,null,"Ⅱ","肋骨角部"]
[null,null,null,null,null,null,"Ⅲ","脊柱棘突起部"]
[null,"部位",null,null,null,null,"Ⅳ","仙尾・仙腸部"]
[null,"評価",null,null,null,null,null,"踵骨部\n"]
[null,null,null,null,null,null,null,"耳介"]
[null,"【維持期】",null,null,null,null,null,"肩峰部"]
[null,null,null,"退・転院",null,null,null,"大転子部"]
[null,null,null,null,null,null,null,"腓骨頭部"]
[null,"部位",null,null,null,null,null,"内・外踝部"]
[null,"評価",null,null,null,null,null,"尾骨部"]
[null,null,null,null,null,null,null,"坐骨部"]
[null,"分類","説明",null,null,"写真"]
[null,"Ⅰ","\"圧迫が関連した（表皮が欠損していない）皮膚の変性である。\n周囲皮膚または反対側皮膚と比較して示される以下のひとつ以上の変化である。\"\n　◆皮膚温　　　　　　　（暖かい、または冷たい）\n　◆組織の密度　　　　（硬い、または泥のような感じ）\n　◆知覚　　　　　　　　　（痛み、掻痒）\nステージⅠの褥瘡は、皮膚の色によって異なるので、白い皮膚の場合は持続する赤色の、黒い皮膚の場合は、持続する赤色、青または紫色の色調変化として出現する場合もある。\n"]
[null,"Ⅱ","部分層創傷で皮膚の損傷は表面的である。表皮剥離，水泡，浅い潰瘍の状態。"]
[null,"Ⅲ","筋膜まで及ぶが筋膜を越えない皮下組織に至る全層創傷で組織の壊死や損傷を含む。深さのあるクレーター上でポケットがみられることもある。"]
[null,"Ⅳ","皮膚全層の欠損に加え，広範な組織壊死，壊死，さらに筋肉，骨，支持組織に及ぶ。ポケットの形成や広範囲な空洞がみられる。"]
[]
[null,"《出典・参考資料》"]
[null,"・褥瘡・創傷の管理のHP　東大・金大褥瘡・創傷研究グループ　"]
[]
[null,"　説明文引用：徳永恵子：褥創のアセスメントと創管理の考え方,臨床看護"]
[null,"　写真参考　：科学的ケアのための褥創モデル（解説書つき）,坂本モデル"]

{"sheet":"FIM","index":14,"n_rows":93,"n_cols":21,"rows_kept":93,"cut":false,"hidden":false,"merged":[[92,0,96,16],[90,0,91,0],[88,0,89,0],[85,0,86,0],[91,1,91,10],[90,1,90,10],[86,1,86,10],[89,1,89,10],[85,1,85,10],[88,1,88,10],[87,1,87,10],[84,2,84,16],[73,0,74,0],[75,0,77,0],[78,0,78,1],[80,2,80,16],[58,2,78,3],[58,0,59,0],[71,0,72,0],[68,0,70,0],[66,0,67,0],[60,0,65,0],[82,2,82,16],[81,2,81,16],[32,9,32,10],[4,7,4,8],[4,4,4,5],[26,2,26,16],[59,13,59,14],[31,4,31,5],[28,2,28,16],[59,7,59,8],[58,4,58,5],[58,13,58,14],[59,11,59,12],[55,2,55,16],[2,2,2,3],[2,4,2,5],[2,7,2,8],[2,9,2,10],[5,9,5,10],[4,2,4,3],[5,4,5,5],[12,0,13,0],[17,0,18,0],[19,0,20,0],[14,0,16,0],[21,0,23,0],[51,0,51,1],[53,2,53,16],[31,7,31,8],[32,2,32,3],[32,13,32,14],[31,13,31,14],[41,0,43,0],[31,0,32,0],[32,11,32,12],[31,9,31,10],[31,11,31,12],[31,2,31,3],[32,7,32,8],[32,4,32,5],[39,0,40,0],[46,0,47,0],[6,0,11,0],[27,2,27,16],[58,7,58,8],[59,4,59,5],[0,0,1,5],[1,9,1,10],[1,11,1,14],[2,11,2,14],[48,0,50,0],[44,0,45,0],[24,0,24,1],[33,0,38,0],[59,9,59,10],[54,2,54,16],[58,9,58,10],[58,11,58,12],[4,0,5,0],[5,7,5,8],[5,2,5,3],[4,13,4,14],[4,11,4,12],[4,9,4,10],[5,13,5,14],[5,11,5,12]]}
["ＦＩＭ\n（Functional Independence Measure、機能的自立度評価表）"]
[null,null,null,null,null,null,null,null,null,"患者ＩＤ",null,{"$f":"IF(患者基本情報!E6=\"\",\"\",患者基本情報!E6)","v":0}]
[null,null,"【急性期】",null,"【回復期】",null,null,"【維持期】",null,"患者氏名",null,{"$f":"IF(患者基本情報!E8=\"\",\"\",患者基本情報!E8)","v":0}]
["【急性期】"]
["項目",null,"初期",null,"退・転院",null,null,null,null,null,null,null,null,null,null,null,null,null,7]
[null,"入力日",null,null,null,null,null,null,null,null,null,null,null,null,null,null,null,null,6]
["セルフケア\n（42点）","A　食事（箸・スプーン）",null,"点",null,"点",null,null,"点",null,"点",null,"点",null,"点",null,null,null,5]
[null,"B　整容",null,"点",null,"点",null,null,"点",null,"点",null,"点",null,"点",null,null,null,4]
[null,"C　清拭",null,"点",null,"点",null,null,"点",null,"点",null,"点",null,"点",null,null,null,3]
[null,"D　更衣（上半身）",null,"点",null,"点",null,null,"点",null,"点",null,"点",null,"点",null,null,null,2]
[null,"E　更衣（下半身）",null,"点",null,"点",null,null,"点",null,"点",null,"点",null,"点",null,null,null,1]
[null,"F　トイレ",null,"点",null,"点",null,null,"点",null,"点",null,"点",null,"点"]
["排泄\n（14点）","G　排尿コントロール",null,"点",null,"点",null,null,"点",null,"点",null,"点",null,"点",null,null,null,"≪初期≫"]
[null,"H　排便コントロール",null,"点",null,"点",null,null,"点",null,"点",null,"点",null,"点",null,null,null,"項目名","百分割","小計"]
["移乗\n（21点）","I　ベッド、椅子、車椅子",null,"点",null,"点",null,null,"点",null,"点",null,"点",null,"点",null,null,null,"セルフケア",{"$f":"U15/42","v":0},{"$f":"SUM(C7:C12)","v":0}]
[null,"J　トイレ",null,"点",null,"点",null,null,"点",null,"点",null,"点",null,"点",null,null,null,"排泄",{"$f":"U16/14","v":0},{"$f":"SUM(C13:C14)","v":0}]
[null,"K　浴槽、シャワー",null,"点",null,"点",null,null,"点",null,"点",null,"点",null,"点",null,null,null,"移乗",{"$f":"U17/21","v":0},{"$f":"SUM(C15:C17)","v":0}]
["移動\n（14点）","L　歩行、車椅子",null,"点",null,"点",null,null,"点",null,"点",null,"点",null,"点",null,null,null,"移動",{"$f":"U18/14","v":0},{"$f":"SUM(C18:C19)","v":0}]
[null,"M　階段",null,"点",null,"点",null,null,"点",null,"点",null,"点",null,"点",null,null,null,"ｺﾐｭﾆｹｰｼｮﾝ",{"$f":"U19/14","v":0},{"$f":"SUM(C20:C21)","v":0}]
["コミュニケーション\n（14点）","N　理解（聴覚、視覚）",null,"点",null,"点",null,null,"点",null,"点",null,"点",null,"点",null,null,null,"社会認識",{"$f":"U20/21","v":0},{"$f":"SUM(C22:C24)","v":0}]
[null,"O　表出（音声、非音声）",null,"点",null,"点",null,null,"点",null,"点",null,"点",null,"点"]
["社会認識（21点）","P　社会的交流",null,"点",null,"点",null,null,"点",null,"点",null,"点",null,"点",null,null,null,"≪退・転院時≫"]
[null,"Q　問題解決",null,"点",null,"点",null,null,"点",null,"点",null,"点",null,"点",null,null,null,"項目名","百分割","小計"]
[null,"R　記憶",null,"点",null,"点",null,null,"点",null,"点",null,"点",null,"点",null,null,null,"セルフケア",{"$f":"U24/42","v":0},{"$f":"SUM(E7:E12)","v":0}]
["合計",null,{"$f":"SUM(C7:C24)","v":0},"点",{"$f":"SUM(E7:E24)","v":0},"点",null,{"$f":"SUM(H7:H24)","v":0},"点",{"$f":"SUM(J7:J24)","v":0},"点",{"$f":"SUM(L7:L24)","v":0},"点",{"$f":"SUM(N7:N24)","v":0},"点",null,null,null,"排泄",{"$f":"U25/14","v":0},{"$f":"SUM(E13:E14)","v":0}]
[null,null,null,null,null,null,null,null,null,null,null,null,null,null,null,null,null,null,"移乗",{"$f":"U26/21","v":0},{"$f":"SUM(E15:E17)","v":0}]
[null,null,"　　　総合項目　18～126点",null,null,null,null,null,null,null,null,null,null,null,null,null,null,null,"移動",{"$f":"U27/14","v":0},{"$f":"SUM(E18:E19)","v":0}]
[null,null,"　　　ＦＩＭ 　　1点＝介護時間1.6分",null,null,null,null,null,null,null,null,null,null,null,null,null,null,null,"ｺﾐｭﾆｹｰｼｮﾝ",{"$f":"U28/14","v":0},{"$f":"SUM(E20:E21)","v":0}]
[null,null,"　　　ＦＩＭ　110点＝　　 〃 　 　0分",null,null,null,null,null,null,null,null,null,null,null,null,null,null,null,"社会認識",{"$f":"U29/21","v":0},{"$f":"SUM(E22:E24)","v":0}]
[]
["【回復期】"]
["項目",null,"初期",null,"90日後",null,null,"退・転院",null,null,null,null,null,null,null,null,null,null,"≪初期≫"]
[null,"入力日",null,null,null,null,null,null,null,null,null,null,null,null,null,null,null,null,"項目名","百分割","小計"]
["セルフケア\n（42点）","A　食事（箸・スプーン）",null,"点",null,"点",null,null,"点",null,"点",null,"点",null,"点",null,null,null,"セルフケア",{"$f":"U34/42","v":0},{"$f":"SUM(C34:C39)","v":0}]
[null,"B　整容",null,"点",null,"点",null,null,"点",null,"点",null,"点",null,"点",null,null,null,"排泄",{"$f":"U35/14","v":0},{"$f":"SUM(C40:C41)","v":0}]
[null,"C　清拭",null,"点",null,"点",null,null,"点",null,"点",null,"点",null,"点",null,null,null,"移乗",{"$f":"U36/21","v":0},{"$f":"SUM(C42:C44)","v":0}]
[null,"D　更衣（上半身）",null,"点",null,"点",null,null,"点",null,"点",null,"点",null,"点",null,null,null,"移動",{"$f":"U37/14","v":0},{"$f":"SUM(C45:C46)","v":0}]
[null,"E　更衣（下半身）",null,"点",null,"点",null,null,"点",null,"点",null,"点",null,"点",null,null,null,"ｺﾐｭﾆｹｰｼｮﾝ",{"$f":"U38/14","v":0},{"$f":"SUM(C47:C48)","v":0}]
[null,"F　トイレ",null,"点",null,"点",null,null,"点",null,"点",null,"点",null,"点",null,null,null,"社会認識",{"$f":"U39/21","v":0},{"$f":"SUM(C49:C51)","v":0}]
["排泄\n（14点）","G　排尿コントロール",null,"点",null,"点",null,null,"点",null,"点",null,"点",null,"点"]
[null,"H　排便コントロール",null,"点",null,"点",null,null,"点",null,"点",null,"点",null,"点",null,null,null,"≪90日後≫"]
["移乗\n（21点）","I　ベッド、椅子、車椅子",null,"点",null,"点",null,null,"点",null,"点",null,"点",null,"点",null,null,null,"項目名","百分割","小計"]
[null,"J　トイレ",null,"点",null,"点",null,null,"点",null,"点",null,"点",null,"点",null,null,null,"セルフケア",{"$f":"U43/42","v":0},{"$f":"SUM(E34:E39)","v":0}]
[null,"K　浴槽、シャワー",null,"点",null,"点",null,null,"点",null,"点",null,"点",null,"点",null,null,null,"排泄",{"$f":"U44/14","v":0},{"$f":"SUM(E40:E41)","v":0}]
["移動\n（14点）","L　歩行、車椅子",null,"点",null,"点",null,null,"点",null,"点",null,"点",null,"点",null,null,null,"移乗",{"$f":"U45/21","v":0},{"$f":"SUM(E42:E44)","v":0}]
[null,"M　階段",null,"点",null,"点",null,null,"点",null,"点",null,"点",null,"点",null,null,null,"移動",{"$f":"U46/14","v":0},{"$f":"SUM(E45:E46)","v":0}]
["コミュニケーション\n（14点）","N　理解（聴覚、視覚）",null,"点",null,"点",null,null,"点",null,"点",null,"点",null,"点",null,null,null,"ｺﾐｭﾆｹｰｼｮﾝ",{"$f":"U47/14","v":0},{"$f":"SUM(E47:E48)","v":0}]
[null,"O　表出（音声、非音声）",null,"点",null,"点",null,null,"点",null,"点",null,"点",null,"点",null,null,null,"社会認識",{"$f":"U48/21","v":0},{"$f":"SUM(E49:E51)","v":0}]
["社会認識（21点）","P　社会的交流",null,"点",null,"点",null,null,"点",null,"点",null,"点",null,"点"]
[null,"Q　問題解決",null,"点",null,"点",null,null,"点",null,"点",null,"点",null,"点",null,null,null,"≪退・転院時≫"]
[null,"R　記憶",null,"点",null,"点",null,null,"点",null,"点",null,"点",null,"点",null,null,null,"項目名","百分割","小計"]
["合計",null,{"$f":"SUM(C34:C51)","v":0},"点",{"$f":"SUM(E34:E51)","v":0},"点",null,{"$f":"SUM(H34:H51)","v":0},"点",{"$f":"SUM(J34:J51)","v":0},"点",{"$f":"SUM(L34:L51)","v":0},"点",{"$f":"SUM(N34:N51)","v":0},"点",null,null,null,"セルフケア",{"$f":"U52/42","v":0},{"$f":"SUM(H34:H39)","v":0}]
[null,null,null,null,null,null,null,null,null,null,null,null,null,null,null,null,null,null,"排泄",{"$f":"U53/14","v":0},{"$f":"SUM(H40:H41)","v":0}]
[null,null,"　　　総合項目　18～126点",null,null,null,null,null,null,null,null,null,null,null,null,null,null,null,"移乗",{"$f":"U54/21","v":0},{"$f":"SUM(H42:H44)","v":0}]
[null,null,"　　　ＦＩＭ 　　1点＝介護時間1.6分",null,null,null,null,null,null,null,null,null,null,null,null,null,null,null,"移動",{"$f":"U55/14","v":0},{"$f":"SUM(H45:H46)","v":0}]
[null,null,"　　　ＦＩＭ　110点＝　　 〃 　 　0分",null,null,null,null,null,null,null,null,null,null,null,null,null,null,null,"ｺﾐｭﾆｹｰｼｮﾝ",{"$f":"U56/14","v":0},{"$f":"SUM(H47:H48)","v":0}]
[null,null,null,null,null,null,null,null,null,null,null,null,null,null,null,null,null,null,"社会認識",{"$f":"U57/21","v":0},{"$f":"SUM(H49:H51)","v":0}]
["【維持期】"]
["項目",null,null,null,"退・転院"]
[null,"入力日"]
["セルフケア\n（42点）","A　食事（箸・スプーン）",null,null,null,"点",null,null,"点",null,"点",null,"点",null,"点",null,null,null,"≪退・転院時≫"]
[null,"B　整容",null,null,null,"点",null,null,"点",null,"点",null,"点",null,"点",null,null,null,"項目名","百分割","小計"]
[null,"C　清拭",null,null,null,"点",null,null,"点",null,"点",null,"点",null,"点",null,null,null,"セルフケア",{"$f":"U63/42","v":0},{"$f":"SUM(E61:E66)","v":0}]
[null,"D　更衣（上半身）",null,null,null,"点",null,null,"点",null,"点",null,"点",null,"点",null,null,null,"排泄",{"$f":"U64/14","v":0},{"$f":"SUM(E67:E68)","v":0}]
[null,"E　更衣（下半身）",null,null,null,"点",null,null,"点",null,"点",null,"点",null,"点",null,null,null,"移乗",{"$f":"U65/21","v":0},{"$f":"SUM(E69:E71)","v":0}]
[null,"F　トイレ",null,null,null,"点",null,null,"点",null,"点",null,"点",null,"点",null,null,null,"移動",{"$f":"U66/14","v":0},{"$f":"SUM(E72:E73)","v":0}]
["排泄\n（14点）","G　排尿コントロール",null,null,null,"点",null,null,"点",null,"点",null,"点",null,"点",null,null,null,"ｺﾐｭﾆｹｰｼｮﾝ",{"$f":"U67/14","v":0},{"$f":"SUM(E74:E75)","v":0}]
[null,"H　排便コントロール",null,null,null,"点",null,null,"点",null,"点",null,"点",null,"点",null,null,null,"社会認識",{"$f":"U68/21","v":0},{"$f":"SUM(E76:E78)","v":0}]
["移乗\n（21点）","I　ベッド、椅子、車椅子",null,null,null,"点",null,null,"点",null,"点",null,"点",null,"点"]
[null,"J　トイレ",null,null,null,"点",null,null,"点",null,"点",null,"点",null,"点"]
[null,"K　浴槽、シャワー",null,null,null,"点",null,null,"点",null,"点",null,"点",null,"点"]
["移動\n（14点）","L　歩行、車椅子",null,null,null,"点",null,null,"点",null,"点",null,"点",null,"点"]
[null,"M　階段",null,null,null,"点",null,null,"点",null,"点",null,"点",null,"点"]
["コミュニケーション\n（14点）","N　理解（聴覚、視覚）",null,null,null,"点",null,null,"点",null,"点",null,"点",null,"点"]
[null,"O　表出（音声、非音声）",null,null,null,"点",null,null,"点",null,"点",null,"点",null,"点"]
["社会認識（21点）","P　社会的交流",null,null,null,"点",null,null,"点",null,"点",null,"点",null,"点"]
[null,"Q　問題解決",null,null,null,"点",null,null,"点",null,"点",null,"点",null,"点"]
[null,"R　記憶",null,null,null,"点",null,null,"点",null,"点",null,"点",null,"点"]
["合計",null,null,null,{"$f":"SUM(E61:E78)","v":0},"点",null,{"$f":"SUM(H61:H78)","v":0},"点",{"$f":"SUM(J61:J78)","v":0},"点",{"$f":"SUM(L61:L78)","v":0},"点",{"$f":"SUM(N61:N78)","v":0},"点"]
[]
[null,null,"　　　総合項目　18～126点"]
[null,null,"　　　ＦＩＭ 　　1点＝介護時間1.6分"]
[null,null,"　　　ＦＩＭ　110点＝　　 〃 　 　0分"]
[]
[]
["自立","７　完全自立"]
[null,"６　修正自立（時間がかかる、補助具が必要、安全性の配慮が必要）"]
["部分介助","５　監視・準備（監視、指示、促し、準備）"]
["介助あり","４　最小介助（75%以上自分で行う）"]
[null,"３　中等度介助（50%以上75%未満を自分で行う）"]
["完全介助","２　最大介助（25%以上50%未満を自分で行う）"]
[null,"１　全介助（25%未満しか自分で行わない）"]
["《出典・参考資料》\n・長崎県央版　脳卒中地域連携パスのHP　連携シート記入ガイドより\n　　　　　　　　　　　　　　　　　　　　　　　　　　　　　　　　　　　　　　　　http://plaza.umin.ac.jp/kenostrk/kenostrk/guide.htm"]

{"sheet":"日常生活機能評価","index":15,"n_rows":290,"n_cols":19,"rows_kept":290,"cut":false,"hidden":false,"merged":[[24,2,39,3],[2,8,2,9],[25,4,25,5],[24,8,24,9],[24,10,24,11],[25,8,25,9],[25,10,25,11],[4,8,19,9],[5,2,5,3],[4,2,4,3],[1,8,1,9],[1,10,1,11],[2,10,2,11],[24,4,24,5],[4,10,4,11],[5,10,5,11],[5,4,5,5],[4,4,4,5]]}
[null,"日常生活機能評価"]
[null,null,null,null,null,null,null,null,"【急性期】",null,"【回復期】"]
[null,null,null,null,null,null,null,null,"【維持期】",null,"【在宅】"]
[null,"【急性期】",null,null,null,null,null,"【回復期】"]
[null,null,"初期",null,"退・転院時",null,null,null,null,null,"退・転院時"]
[null,"患者の状況　　　　　　　　　　　　　　",null,null,null,null,null,"患者の状況　　　　　　　　　　　　　　",null,null,null,null,null,null,null,null,null,0,0]
[null,"床上安静の指示",null,"点",null,"点",null,"床上安静の指示",null,null,null,"点",null,null,null,null,null,1,1]
[null,"どちらかの手を胸元まで持ち上げられる",null,"点",null,"点",null,"どちらかの手を胸元まで持ち上げられる",null,null,null,"点",null,null,null,null,null,null,2]
[null,"寝返り",null,"点",null,"点",null,"寝返り",null,null,null,"点"]
[null,"起き上がり",null,"点",null,"点",null,"起き上がり",null,null,null,"点"]
[null,"座位保持",null,"点",null,"点",null,"座位保持",null,null,null,"点"]
[null,"移乗",null,"点",null,"点",null,"移乗",null,null,null,"点"]
[null,"移動方法",null,"点",null,"点",null,"移動方法",null,null,null,"点"]
[null,"口腔清潔",null,"点",null,"点",null,"口腔清潔",null,null,null,"点"]
[null,"食事摂取",null,"点",null,"点",null,"食事摂取",null,null,null,"点"]
[null,"衣服の着脱",null,"点",null,"点",null,"衣服の着脱",null,null,null,"点"]
[null,"他者への意思の伝達",null,"点",null,"点",null,"他者への意思の伝達",null,null,null,"点"]
[null,"診療・療養上の指示が通じる",null,"点",null,"点",null,"診療・療養上の指示が通じる",null,null,null,"点"]
[null,"危険行動",null,"点",null,"点",null,"危険行動",null,null,null,"点"]
[null,"合計点数",{"$f":"SUM(C7:C19)","v":0},"点",{"$f":"SUM(E7:E19)","v":0},"点",null,"合計点数",null,null,{"$f":"SUM(K7:K19)","v":0},"点"]
[null,"※　得点　：　０～１９点",null,null,null,null,null,"※　得点　：　０～１９点"]
[null,"※　得点が低いほど、生活自立度が高い",null,null,null,null,null,"※　得点が低いほど、生活自立度が高い"]
[]
[null,"【維持期】",null,null,null,null,null,"【在宅】"]
[null,null,null,null,"退・転院時",null,null,null,"維持期"]
[null,"患者の状況　　　　　　　　　　　　　　",null,null,null,null,null,"患者の状況　　　　　　　　　　　　　　"]
[null,"床上安静の指示",null,null,null,"点",null,"床上安静の指示",null,"点",null,"点"]
[null,"どちらかの手を胸元まで持ち上げられる",null,null,null,"点",null,"どちらかの手を胸元まで持ち上げられる",null,"点",null,"点"]
[null,"寝返り",null,null,null,"点",null,"寝返り",null,"点",null,"点"]
[null,"起き上がり",null,null,null,"点",null,"起き上がり",null,"点",null,"点"]
[null,"座位保持",null,null,null,"点",null,"座位保持",null,"点",null,"点"]
[null,"移乗",null,null,null,"点",null,"移乗",null,"点",null,"点"]
[null,"移動方法",null,null,null,"点",null,"移動方法",null,"点",null,"点"]
[null,"口腔清潔",null,null,null,"点",null,"口腔清潔",null,"点",null,"点"]
[null,"食事摂取",null,null,null,"点",null,"食事摂取",null,"点",null,"点"]
[null,"衣服の着脱",null,null,null,"点",null,"衣服の着脱",null,"点",null,"点"]
[null,"他者への意思の伝達",null,null,null,"点",null,"他者への意思の伝達",null,"点",null,"点"]
[null,"診療・療養上の指示が通じる",null,null,null,"点",null,"診療・療養上の指示が通じる",null,"点",null,"点"]
[null,"危険行動",null,null,null,"点",null,"危険行動",null,"点",null,"点"]
[null,"合計点数",null,null,{"$f":"SUM(E27:E39)","v":0},"点",null,"合計点数",{"$f":"SUM(I27:I39)","v":0},"点",{"$f":"SUM(K27:K39)","v":0},"点"]
[null,"※　得点　：　０～１９点",null,null,null,null,null,"※　得点　：　０～１９点"]
[null,"※　得点が低いほど、生活自立度が高い",null,null,null,null,null,"※　得点が低いほど、生活自立度が高い"]
[]
[null,"◆日常生活機能評価の手引き◆"]
[null,"１．評価票の記入は、院内研修を受けたものが行うこと。なお、院内研修は、所定の研修を修了したもの、あるいは評価に"]
[null,"    　習熟したものが行う研修であることが望ましい。"]
[null,"２．評価票の記入にあたっては、下記の選択肢の判断基準等に従って実施すること。"]
[null,"３．評価の対象は、回復期リハビリテーション病棟に入院した患者とし、日常生活機能評価について、入院時と退院時又は"]
[null,"    　転院時に評価を行うこと。なお当該患者が転院前の病院で地域連携診療計計画評価料が算定されている場合については、"]
[null,"   　 入院時の日常生活機能評価について、当該患者の診療計画の中に記されている日常生活機能評価を用いること。"]
[null,"４．評価は記録と観察に基づいて行い、推測は行わないこと。"]
[null,"５．義手・義足・コルセット等の装具を使用している場合には、装具を装着した後の状態に基づいて評価を行う。"]
[null,"６．評価時間帯のうちに状態が変わった場合には、自立度の低い方の状態をもとに評価を行うこと。"]
[null,"７．医師の指示によって、当該動作が制限されている場合には、「できない」又は「全介助」とする。この場合、医師の指示に"]
[null,"   　 係る記録があること。"]
[null,"８．当該動作が制限されていない場合には、動作を促し、観察した結果を評価すること。動作の確認をしなかった場合には、"]
[null,"   　 通常、介助が必要な状態であっても「できる」又は「介助なし」とする。"]
[null,"９．日常生活機能評価に係る患者の状態については、担当の看護師、理学療法士等によって記録されていること。"]
[]
[]
[null,"１　床上安静の指示"]
[null,"項目の定義"]
[null,"　医師の指示書やクリニカルパス等に、床上安静の指示が記録されているかどうかを評価する項目である。"]
[null,"　『床上安静の指示』は、ベッドから離れることが許可されていないことである。　"]
[null,"選択肢の判断基準"]
[null,"「なし」"]
[null,"　　床上安静の指示がない、あるいは指示の記録がない場合をいう。"]
[null,"「あり」"]
[null,"　　床上安静の指示があり、かつ医師の指示書にこの記録がある場合をいう。"]
[null,"判断に際しての留意点"]
[null,"　床上安静の指示は、記録上｢床上安静｣という語句が使用されていなくても、｢べッド上フリー｣、｢ベッド上ヘッドアップ30度ま"]
[null,"　で可｣等、ベッドから離れることが許可されていないことを意味する語句が指示内容として記録されていれば『床上安静の指示"]
[null,"　』とみなす。"]
[null,"　一方、｢ベッド上安静、ただしポータブルトイレのみ可｣等、日常生活上、部分的にでもベッドから離れることが許可されている"]
[null,"　指示は「床上安静の指示」とみなさない。"]
[null,"　「床上安静の指示」の患者でも、車椅子、ストレッチャー等で検査、治療、リハビリテーション等に出棟する場合があるが、日"]
[null,"　　常生活上は「床上安静の指示」であるため「あり」とする。"]
[]
[]
[null,"２　どちらかの手を胸元まで持ち上げられる"]
[null,"項目の定義"]
[null,"『どちらかの手を胸元まで持ち上げられる』は、患者自身で自分の手を胸元まで持っていくことができるかどうかを評価する項目"]
[null,"　である。ここでいう「胸元」とは、首の下くらいまでと定め、「手」とは手関節から先と定める。座位、臥位等の体位は問わな"]
[null,"　い。"]
[null,"選択肢の判断基準"]
[null,"「できる」"]
[null,"　いずれか一方の手を介助なしに胸元まで持ち上げられる場合をいう。座位ではできなくても、臥位ではできる場合は、「できる"]
[null,"　」とする。この行為を促す指示に従えなくても、いずれか一方の手を介助なしに胸元まで持ち上げられることが一度でも観察で"]
[null,"　きれば「できる」とする。"]
[null,"「できない」"]
[null,"　調査時間内を通して、介助なしにはいずれか一方の手も胸元まで片手を持ち上げられない場合、あるいは関節可動域が制限され"]
[null,"　ているために介助しても持ち上げられない場合をいう。"]
[null,"判断に際しての留意点"]
[null,"　関節拘縮により、もともと胸元に手がある場合や、不随意運動等により手が偶然胸元まで上がったことが観察された場合は、そ"]
[null,"　れらを自ら動かせないことから「できない」と判断する。上肢の安静・抑制・ギプス固定等の制限があり、自ら動かない、動か"]
[null,"　すことができない場合は「できない」とする。調査時間内にどちらかの手を胸元まで持ち上げる行為が観察できなかった場合は、"]
[null,"　　この行為を促して観察する。"]
[]
[null,"３　寝返り"]
[null,"項目の定義"]
[null,"　寝返りが自分でできるかどうか、あるいはベッド柵、ひも、バー、サイドレール等の何かにつかまればできるかどうかを評価"]
[null,"　する項目である。ここでいう『寝返り』とは、きちんと横向きにならなくても、横たわったまま左右のどちらかに向きを変え"]
[null,"　る動作である。"]
[null,"選択肢の判断基準"]
[null,"「できる」"]
[null,"　何にもつかまらず、寝返り（片側だけでよい）が１人でできる場合をいう。"]
[null,"「何かにつかまればできる」"]
[null,"　ベッド柵、ひも、バー、サイドレール等の何かにつかまれば１人で寝返りができる場合をいう。"]
[null,"「できない」"]
[null,"　介助なしでは１人で寝返りができない等、寝返りに何らかの介助が必要な場合をいう。"]
[null,"判断に際しての留意点"]
[null,"　「何かにつかまればできる」状態とは、看護師等が事前に環境を整えておくことによって患者自身が１人で寝返りができる状"]
[null,"　　態であり、寝返りの際に、ベッド柵に患者の手をつかまらせる等の介助を看護師等が行っている場合は「できない」となる。"]
[]
[null,"４　起き上がり"]
[null,"項目の定義"]
[null,"　起き上がりが自分でできるかどうか、あるいはベッド柵、ひも、バー、サイドレール等、何かにつかまればできるかどうかを評"]
[null,"　価する項目である。ここでいう『起き上がり』とは、寝た状態（仰臥位）から上半身を起こす動作である。"]
[null,"選択肢の判断基準"]
[null,"「できる」"]
[null,"　１人で起き上がることができる場合をいう。ベッド柵、ひも、バー、サイドレール等につかまれば起き上がることが可能な場合"]
[null,"　も含まれる。また、電動ベッドを自分で操作して起き上がれる場合も「できる」となる。"]
[null,"「できない」"]
[null,"　介助なしでは１人で起き上がることができない等、起き上がりに何らかの介助が必要な場合をいう。途中まで自分でできても最"]
[null,"　後の部分に介助が必要である場合も含まれる。"]
[null,"判断に際しての留意点"]
[null,"　自力で起き上がるための補助具の準備、環境整備等は、介助に含まれない。起き上がる動作に時間がかかっても、補助具等を使"]
[null,"　って自力で起き上がることができれば「できる」となる。"]
[]
[null,"５　座位保持"]
[null,"項目の定義"]
[null,"　座位の状態を保持できるかどうかを評価する項目である。ここでいう『座位保持』とは、上半身を起こして座位の状態を保持す"]
[null,"　ることである。「支え」とは、椅子・車椅子・ベッド等の背もたれ、手による支持、あるいは他の座位保持装置等をいう。"]
[null,"選択肢の判断基準"]
[null,"「できる」"]
[null,"　支えなしで座位が保持できる場合をいう。"]
[null,"「支えがあればできる」"]
[null,"　支えがあれば座位が保持できる場合をいう。ベッド、車椅子等を背もたれとして座位を保持している場合「支えがあればできる"]
[null,"　」となる。"]
[null,"「できない」"]
[null,"　支えがあったり、ベルト等で固定しても座位が保持できない場合をいう。ここでいう「支え」とは、椅子・車椅子・ベッド等の"]
[null,"　背もたれ、手による支持、あるいは他の座位保持装置等をいう。"]
[null,"判断に際しての留意点"]
[null,"　寝た状態（仰臥位）から座位に至るまでの介助の有無は関係ない。さらに、尖足・亀背等の身体の状況にかかわらず、「座位が"]
[null,"　 とれるか」についてのみ判断する。ベッド等の背もたれによる「支え」は、背あげ角度がおよそ60 度以上を目安とする。"]
[]
[null,"６　移乗"]
[null,"項目の定義"]
[null,"  移乗が自分でできるかどうか、あるいは看護師等が見守りや介助を行っているかどうかを評価する項目である。"]
[null,"  ここでいう『移乗』とは、「ベッドから車椅子へ」、「ベッドからストレッチャーへ」、「ベッドからポータブルトイレへ」等、"]
[null,"  乗り移ることである。"]
[null,"選択肢の判断基準"]
[null,"「できる」"]
[null,"　介助なしで移乗できる場合をいう。這って動いても、移乗が自分でできる場合も含む。"]
[null,"「見守り・一部介助が必要」"]
[null,"　直接介助をする必要はないが事故等がないように見守る場合、あるいは自分では移乗ができないため他者が手を添える、体幹を"]
[null,"　支える等の一部介助が行われている場合をいう。ストレッチャ－への移動の際に、患者が自力で少しずつ移動できる場合、看護"]
[null,"　師等が危険のないように付き添う場合も「見守り・一部介助が必要」となる。"]
[null,"「できない」"]
[null,"　自分では移乗が全くできないために、他者が抱える、運ぶ等の全面的に介助が行われている場合をいう。"]
[null,"判断に際しての留意点"]
[null,"　患者が自分では動けず、イージースライダー等の移乗用具を使用する場合は「できない」となる。"]
[null,"　車椅子等への移乗の際に、立つ、向きを変える、数歩動く等に対して、患者自身も行い（力が出せており）、看護師等が介助を"]
[null,"　行っている場合は、「見守り・一部介助が必要」となる。"]
[null,"　医師の指示により、自力での移乗を制限されていた場合は「できない」とする。移乗が制限されていないにもかかわらず、看護"]
[null,"　師等が移乗を行わなかった場合は、「できる」とする。"]
[]
[null,"７　移動方法"]
[null,"項目の定義"]
[null,"『移動方法』は、ある場所から別の場所へ移る場合の方法を評価する項目である。"]
[null,"選択肢の判断基準"]
[null,"｢介助を要しない移動｣"]
[null,"　杖や歩行器等を使用せずに自力で歩行する場合、あるいは、杖、手すり、歩行器、歩行器の代わりに点滴スタンド、シルバー車、"]
[null,"　車椅子等につかまって歩行する場合をいう。また、車椅子を自力で操作して、自力で移動する場合も含む。"]
[null,"「介助を要する移動（搬送を含む）」"]
[null,"　車椅子等、搬送車（ストレッチャー等）等を使用して、介助によって移動する場合をいう。"]
[null,"判断に際しての留意点"]
[null,"　この項目は、患者の能力を評価するのではなく、移動方法を選択するものであるため、本人が疲れているからと、自力走行を拒"]
[null,"　 否し、車椅子介助で移動した場合は｢介助を要する移動｣とする。"]
[]
[null,"８　口腔清潔"]
[null,"項目の定義"]
[null,"  口腔内を清潔にするための一連の行為が自分でできるかどうか、あるいは看護師等が見守りや介助を行っているかどうかを評価"]
[null,"  する項目である。ここでいう『口腔清潔』とは、口腔内を清潔にする一連の行為である。一連の行為とは、歯ブラシやうがい用"]
[null,"　の水等を用意する、歯磨き粉を歯ブラシにつける等の準備、歯磨き中の見守りや指示、磨き残しの確認等も含む。口腔清潔に際"]
[null,"　して、車椅子に移乗する、洗面所まで移動する等の行為は、口腔清潔に関する一連の行為には含まれない。"]
[null,"選択肢の判断基準"]
[null,"「できる」"]
[null,"  口腔清潔に関する一連の行為すべてが自分でできる場合をいう。"]
[null,"「できない」"]
[null,"　口腔清潔に関する一連の行為のうち部分的、あるいはすべてに介助が行われている場合をいう。"]
[null,"判断に際しての留意点"]
[null,"　口腔内の清潔には、『歯磨き、うがい、口腔内清拭、舌のケア等の介助から義歯の手入れ、挿管中の吸引による口腔洗浄、ポピ"]
[null,"　ドンヨード剤等の薬剤による洗浄』も含まれる。舌や口腔内の硼砂グリセリンの塗布、口腔内吸引のみは口腔内清潔に含まない。"]
[null,"　また、歯がない場合は、うがいや義歯の清潔等、口腔内の清潔に関する類似の行為が行われているかどうかに基づいて判断する。"]
[null,"　ただし、口腔清潔が制限されていないにも関わらず、看護師等が口腔清潔を行わなかった場合は、「できる」とする。"]
[]
[null,"９　食事摂取"]
[null,"項目の定義"]
[null,"　食事介助の状況を評価する項目である。ここでいう食事摂取とは、経口栄養、経管栄養を含み、朝食、昼食、夕食、補食等、個"]
[null,"　々の食事単位で評価を行う。中心静脈栄養は含まれない。食事摂取の介助は、患者が食事を摂るための介助、患者に応じた食事"]
[null,"　環境を整える食卓上の介助をいう。厨房での調理、配膳、後片付け、食べこぼしの掃除、車椅子に座らせる、エプロンをかける"]
[null,"　等は含まれない。"]
[null,"選択肢の判断基準"]
[null,"「介助なし」"]
[null,"　介助・見守りなしに自分で食事が摂取できる場合をいう。箸やスプーンのほかに、自助具等を使用する場合も含まれる。食止め"]
[null,"　や絶食となっている場合は、介助は発生しないので｢介助なし｣とする。"]
[null,"「一部介助」"]
[null,"　食卓で、小さく切る、ほぐす、皮をむく、魚の骨をとる、蓋をはずす等、何らかの介助が行われている場合をいう。必要に応じ"]
[null,"　たセッティング（食べやすいように配慮する行為）等、食事中に１つでも介助すれば｢一部介助｣とする。見守りや指示が必要な"]
[null,"　場合も含まれる。見守りは、食事を半分摂取するまで見守った場合をいう。"]
[null,"「全介助」"]
[null,"　自分では全く食べることができず全面的に介助されている場合をいい、食事開始から終了までにすべてに介助を要した場合は"]
[null,"　｢全介助｣とする。"]
[null,"判断に際しての留意点"]
[null,"　食事は、種類は問わず、一般（普通）食、プリン等の経口訓練食、水分補給食、経管栄養すべてをさし、摂取量は問わない。"]
[null,"　経管栄養の評価も、全面的に看護師等が行っている場合は「全介助」となり、患者が自立して１人で行った場合は「介助なし」"]
[null,"　となる。ただし、経口栄養と経管栄養のいずれも行っている場合は、「自立度の低い方」で評価する。"]
[null,"　家族が行った行為、食欲の観察は含まない。また、看護師等が行う、パンの袋切り、食事の温め、果物の皮むき、卵の殻むき"]
[null,"　等は｢一部介助｣とする。セッティングしても患者が食事摂取を拒否した場合は｢介助なし｣とする。"]
[]
[null,"１０　衣服の着脱"]
[null,"項目の定義"]
[null,"　衣服の着脱を看護師等が介助する状況を評価する項目である。衣服は、パジャマの上衣、ズホン、寝衣、パンツ、オムツ等を"]
[null,"　含む。"]
[null,"選択肢の判断基準"]
[null,"「介助なし」"]
[null,"　介助なしに自分で衣服を着たり脱いだりしている場合をいう。また、当日、衣服の着脱の介助が発生しなかった場合をいう。"]
[null,"　自助具等を使って行っている場合も含む。"]
[null,"「一部介助」"]
[null,"　衣服の着脱に一部介助が行われている場合をいう。例えば、途中までは自分で行っているが、最後に看護師等がズボン・パンツ"]
[null,"　等を上げている場合等は、｢一部介助｣に含む。看護師等が手を出して介助はしていないが、転倒の防止等のために、見守りや指"]
[null,"　示が行われている場合等も｢一部介助｣とする。"]
[null,"「全介助」"]
[null,"　衣服の着脱の行為すべてに介助が行われている場合をいう。患者自身が、介助を容易にするために腕を上げる、足を上げる、腰"]
[null,"　を上げる等の行為を行っても、着脱行為そのものを患者が行わず、看護師等がすべて介助した場合も「全介助」とする。"]
[null,"判断に際しての留意点"]
[null,"　衣類の着脱に要する時間の長さは判断には関係しない。また、通常は自分で衣服の着脱をしているが、点滴が入っているために"]
[null,"　 介助を要している場合は、その介助の状況で評価する。"]
[]
[null,"１１　他者への意思の伝達"]
[null,"項目の定義"]
[null,"  患者が他者に何らかの意思伝達ができるかどうかを評価する項目である。背景疾患や伝達できる内容は問わない。"]
[null,"選択肢の判断基準"]
[null,"「できる」"]
[null,"　常時、誰にでも確実に意思の伝達をしている状況をいう。筆談、ジェスチャー等で意思伝達が図れる時は｢できる｣と判断する。"]
[null,"「できる時とできない時がある」"]
[null,"　患者が家族等の他者に対して意思の伝達ができるが、その内容や状況等によって、できる時とできない時がある場合をいう。"]
[null,"　例えば、家族には通じるが、看護師等に通じない場合は、｢できる時とできない時がある｣とする。"]
[null,"「できない」"]
[null,"　どのような手段を用いても、意思の伝達ができない場合をいう。また、重度の認知症や意識障害によって、自発的な意思の伝"]
[null,"　達ができない、あるいは、意思の伝達ができるか否かを判断できない場合等も含む。"]
[null,"判断に際しての留意点"]
[null,"　背景疾患や伝達できる内容は問わない。"]
[]
[null,"１２　診療・療養上の指示が通じる"]
[null,"項目の定義"]
[null,"　指示内容や背景疾患は問わず、診療・療養上の指示に対して、理解でき実行できるかどうかを評価する項目である。"]
[null,"選択肢の判断基準"]
[null,"「はい」"]
[null,"　診療・療養上の指示に対して、適切な行動が常に行われている場合、あるいは指示通りではい行動の記録がない場合をいう。"]
[null,"「いいえ」"]
[null,"　診療・療養上の指示に対して、指示通りでない行動が１回でもみられた場合、かつ指示通りでない行動の記録がある場合をいう。"]
[null,"判断に際しての留意点"]
[null,"　精神科領域、意識障害等の有無等、背景疾患は問わない。指示の内容は問わないが、あくまでも診療・療養上で必要な指示であ"]
[null,"　ること、及びその指示が適切な時刻に行われた状態で評価されることを前提とする。"]
[null,"　医師の話を理解したように見えても、意識障害等により指示を理解できない場合や、自分なりの解釈を行い結果的に、療養上の"]
[null,"　　指示から外れた行動をした場合は｢いいえ｣とする。少しでも反応があやふやであったり、何回も同様のことを言ってきたり、看護師等の指示"]
[null,"    と違う行動をするようであれば、｢いいえ｣と判断する。"]
[]
[null,"１３　危険行動への対応"]
[null,"項目の定義"]
[null,"　患者の危険行動の有無を評価する項目である。ここでいう｢危険行動｣は、｢治療・検査中のチューブ類・点滴ルート等の自己抜"]
[null,"　去、転倒・転落、自傷行為及び看護師等がこれらの行為に至る可能性があると判断した場合をいう。"]
[null,"選択肢の判断基準"]
[null,"「ない」"]
[null,"　過去１週間以内に危険行動がなかった場合、あるいはその記録がない場合をいう。"]
[null,"「ある」"]
[null,"　過去１週間以内に危険行動があった場合、かつその記録がある場合をいう。"]
[null,"判断に際しての留意点"]
[null,"　患者の危険行動にあたっては、適時のアセスメントと適切な対応、並びに日々の評価を前提としている。この項目は、その上で、"]
[null,"　なお発生が予測できなかった危険行動の事実とその対応の手間を評価する項目であり、対策をもたない状況下で発生している危"]
[null,"　険行動の有無を評価するものではない。"]
[null,"　認知症等の有無や、日常生活動作能力の低下等の危険行動を起こす疾患・原因等の背景や、行動の持続時間等の程度を判断の基"]
[null,"　準としない。なお、病室での喫煙や大声を出す・暴力を振るう等の、いわゆる迷惑行為は、この項目での定義における｢危険行"]
[null,"　動｣には含めない。"]
[]
[]
[null,"《出典・参考資料》"]
[null,"　・厚生労働省HP　http://www.mhlw.go.jp/topics/2008/03/dl/tp0305-1i_0012.pdf"]

{"sheet":"mRS","index":16,"n_rows":11,"n_cols":3,"rows_kept":11,"cut":false,"hidden":false,"merged":[[9,2,9,8],[10,2,10,8],[0,1,1,9],[2,2,2,3],[5,2,5,8],[6,2,6,8],[7,2,7,8],[8,2,8,8]]}
[null,"ｍRs"]
[]
[null,"ｍRs"]
[]
[]
[null,0,"障害が存在しない"]
[null,1,"明らかな障害は存在しない。通常の動作を補助無しで行うことが出来る。"]
[null,2,"軽度の困難、いくつかの日常動作を行うことが出来ない。しかし多くの介助なくても自分の身の回りのことが出来る。"]
[null,3,"中等度の困難。ある程度の介助を必要とするが、助け無しで歩くことが出来る。"]
[null,4,"中等度～重度の困難。介助無しでは歩いたり身体の位置を好きなように動かすことが出来ない。"]
[null,5,"重度の困難。ベッド臥床、失禁、持続的な看護と監視が必要とされる。 "]

{"sheet":"MAS","index":17,"n_rows":16,"n_cols":9,"rows_kept":16,"cut":false,"hidden":false,"merged":[[15,2,15,8],[13,2,13,8],[14,2,14,8],[2,1,6,1],[0,1,1,9],[9,2,9,8],[10,2,10,8],[11,2,11,8],[12,2,12,8]]}
[null,"ＭＡＳ（Ｍｏｄｉｆｉｅｄ Ashworth Scale）"]
[]
[null,"MAS",null,"肘関節伸展","手関節背屈","膝関節屈曲","膝関節伸展","足関節底屈","足関節背屈"]
[null,null,"7日"]
[null,null,"１４日"]
[null,null,"３０日"]
[null,null,"９０日"]
[]
[]
[null,0,"筋緊張の亢進がない"]
[null,1,"軽度の筋緊張亢進があり、catch and release あるいは、可動域の終末でわずかな抵抗がある"]
[null,"1+","軽度の筋緊張亢進があり、catch と引き続く抵抗が残りの可動域（１／２以内）にある"]
[null,2,"さらに亢進した筋緊張が可動域（ほぼ）全域にあるが、他動運動はよく保たれる（easily moved）"]
[null,3,"著明な筋緊張亢進があり、他動運動は困難である"]
[null,4,"他動ではうごかない（rigid）"]
[null,"－","不明"]

{"sheet":"HDS-R","index":18,"n_rows":91,"n_cols":10,"rows_kept":91,"cut":false,"hidden":false,"merged":[[79,1,80,1],[79,2,80,2],[81,1,82,1],[81,2,82,2],[88,1,88,3],[83,1,85,1],[83,2,85,2],[86,2,86,3],[87,2,87,3],[71,1,74,1],[71,2,74,2],[75,2,75,3],[76,1,78,1],[76,2,77,3],[78,2,78,3],[66,2,66,3],[67,1,67,3],[70,2,70,3],[60,1,61,1],[60,2,61,2],[62,1,64,1],[62,2,64,2],[49,2,49,3],[50,1,53,1],[50,2,53,2],[54,2,54,3],[65,2,65,3],[55,1,57,1],[55,2,56,3],[57,2,57,3],[58,1,59,1],[58,2,59,2],[46,1,46,3],[45,2,45,3],[39,1,40,1],[28,2,28,3],[29,1,32,1],[29,2,32,2],[33,2,33,3],[34,1,36,1],[34,2,35,3],[36,2,36,3],[41,1,43,1],[41,2,43,2],[44,2,44,3],[37,1,38,1],[39,2,40,2],[37,2,38,2],[8,1,11,1],[16,2,17,2],[24,2,24,3],[25,1,25,3],[13,2,14,3],[15,2,15,3],[13,1,15,1],[16,1,17,1],[18,1,19,1],[20,1,22,1],[23,2,23,3],[7,2,7,3],[12,2,12,3],[20,2,22,2],[8,2,11,2],[18,2,19,2]]}
[]
[null,"HDS-R",null,null,null,null,"【急性期】"]
[null,null,null,null,null,null,"【回復期】"]
[null,"認知症の評価スケールとして、医療福祉現場などで幅広く使用されている",null,null,null,null,"【維持期】"]
[null,"評価結果については、合計点数３０点満点中２０点以下が「痴呆症疑い」と判定される",null,null,null,null,"【在宅】"]
[]
[null,"【急性期】"]
[null,1,"お歳はいくつですか？（２年までの誤差は正解）",null,null,"点",null,null,null,0]
[null,2,"今日は何年の何月何日ですか？何曜日ですか？\n（年、月、日、曜日が正解でそれぞれ１点づつ）","年",null,"点",null,null,null,1]
[null,null,null,"月",null,"点",null,null,null,2]
[null,null,null,"日",null,"点",null,null,null,3]
[null,null,null,"曜日",null,"点",null,null,null,4]
[null,3,"私たちが今いるところはどこですか？（自発的にできれば２点　５秒おいて、家ですか？　病院ですか？　施設ですか？の中から正しい選択をすれば１点\n",null,null,"点",null,null,null,5]
[null,4,"これから言う３つの言葉を言ってみて下さい。あとでまた聞きますのでよく覚えておいてください。\n（以下の系列のいずれか１つで、採用した系列に○印をつけておく）\n",null,null,"点"]
[null,null,null,null,null,"点"]
[null,null,"１：a) 桜　b) 猫　c) 電車　　　　２：a) 梅　b) 犬　c) 自転車",null,null,"点"]
[null,5,"1100から７を順番に引いてください。\n（「100引く７は？　それからまた７を引くと？」と質問する。最初の答えが不正解の場合は打ち切る）\n",93,null,"点"]
[null,null,null,86,null,"点"]
[null,6,"私がこれから言う数字を逆から言って下さい。\n（６－８－２，３－５－２－９を逆に言ってもらう。３桁逆唱に失敗したら打ち切る）\n","2-8-6",null,"点"]
[null,null,null,"9-2-5",null,"点"]
[null,7,"先ほど覚えてもらった言葉をもう一度言ってみて下さい。\n（自発的に回答があれば各２点。\nもし回答がない場合以下のヒントを与え、正解であれば１点）\n　a) 植物　b) 動物　c) 乗り物\n","a",null,"点"]
[null,null,null,"b",null,"点"]
[null,null,null,"c",null,"点"]
[null,8,"これから５つの品物を見せます。それを隠しますので何があったか言って下さい。（時計、鍵、タバコ、ペン、硬貨など必ず相互に無関係なもの）\n",null,null,"点"]
[null,9,"知っている野菜の名前をできるだけ多く言って下さい。\n（答えた野菜の名前を右欄に記入する。途中で詰まり、約10秒間待っても出ない場合にはそこで打ち切る）　\n０～５＝０点、６＝１点、７＝２点、８＝３点、９＝４点、１０＝５点\n",null,null,"点","測定なし\nの場合\n↓"]
[null,"合計点数",null,null,{"$f":"SUM(E8:E25)","v":0},"点"]
[null,null,null,"（入力項目数）",{"$f":"COUNTA(E8:E25)","v":0}]
[null,"【回復期】"]
[null,1,"お歳はいくつですか？（２年までの誤差は正解）",null,null,"点"]
[null,2,"今日は何年の何月何日ですか？何曜日ですか？\n（年、月、日、曜日が正解でそれぞれ１点づつ）","年",null,"点"]
[null,null,null,"月",null,"点"]
[null,null,null,"日",null,"点"]
[null,null,null,"曜日",null,"点"]
[null,3,"私たちが今いるところはどこですか？（自発的にできれば２点　５秒おいて、家ですか？　病院ですか？　施設ですか？の中から正しい選択をすれば１点\n",null,null,"点"]
[null,4,"これから言う３つの言葉を言ってみて下さい。あとでまた聞きますのでよく覚えておいてください。\n（以下の系列のいずれか１つで、採用した系列に○印をつけておく）\n",null,null,"点"]
[null,null,null,null,null,"点"]
[null,null,"１：a) 桜　b) 猫　c) 電車　　　　２：a) 梅　b) 犬　c) 自転車",null,null,"点"]
[null,5,"1100から７を順番に引いてください。\n（「100引く７は？　それからまた７を引くと？」と質問する。最初の答えが不正解の場合は打ち切る）\n",93,null,"点"]
[null,null,null,86,null,"点"]
[null,6,"私がこれから言う数字を逆から言って下さい。\n（６－８－２，３－５－２－９を逆に言ってもらう。３桁逆唱に失敗したら打ち切る）\n","2-8-6",null,"点"]
[null,null,null,"9-2-5",null,"点"]
[null,7,"先ほど覚えてもらった言葉をもう一度言ってみて下さい。\n（自発的に回答があれば各２点。\nもし回答がない場合以下のヒントを与え、正解であれば１点）\n　a) 植物　b) 動物　c) 乗り物\n","a",null,"点"]
[null,null,null,"b",null,"点"]
[null,null,null,"c",null,"点"]
[null,8,"これから５つの品物を見せます。それを隠しますので何があったか言って下さい。（時計、鍵、タバコ、ペン、硬貨など必ず相互に無関係なもの）\n",null,null,"点"]
[null,9,"知っている野菜の名前をできるだけ多く言って下さい。\n（答えた野菜の名前を右欄に記入する。途中で詰まり、約10秒間待っても出ない場合にはそこで打ち切る）　\n０～５＝０点、６＝１点、７＝２点、８＝３点、９＝４点、１０＝５点\n",null,null,"点","測定なし\nの場合\n↓"]
[null,"合計点数",null,null,{"$f":"SUM(E29:E46)","v":0},"点"]
[null,null,null,"（入力項目数）",{"$f":"COUNTA(E29:E46)","v":0}]
[null,"【維持期】"]
[null,1,"お歳はいくつですか？（２年までの誤差は正解）",null,null,"点"]
[null,2,"今日は何年の何月何日ですか？何曜日ですか？\n（年、月、日、曜日が正解でそれぞれ１点づつ）","年",null,"点"]
[null,null,null,"月",null,"点"]
[null,null,null,"日",null,"点"]
[null,null,null,"曜日",null,"点"]
[null,3,"私たちが今いるところはどこですか？（自発的にできれば２点　５秒おいて、家ですか？　病院ですか？　施設ですか？の中から正しい選択をすれば１点\n",null,null,"点"]
[null,4,"これから言う３つの言葉を言ってみて下さい。あとでまた聞きますのでよく覚えておいてください。\n（以下の系列のいずれか１つで、採用した系列に○印をつけておく）\n",null,null,"点"]
[null,null,null,null,null,"点"]
[null,null,"１：a) 桜　b) 猫　c) 電車　　　　２：a) 梅　b) 犬　c) 自転車",null,null,"点"]
[null,5,"1100から７を順番に引いてください。\n（「100引く７は？　それからまた７を引くと？」と質問する。最初の答えが不正解の場合は打ち切る）\n",93,null,"点"]
[null,null,null,86,null,"点"]
[null,6,"私がこれから言う数字を逆から言って下さい。\n（６－８－２，３－５－２－９を逆に言ってもらう。３桁逆唱に失敗したら打ち切る）\n","2-8-6",null,"点"]
[null,null,null,"9-2-5",null,"点"]
[null,7,"先ほど覚えてもらった言葉をもう一度言ってみて下さい。\n（自発的に回答があれば各２点。\nもし回答がない場合以下のヒントを与え、正解であれば１点）\n　a) 植物　b) 動物　c) 乗り物\n","a",null,"点"]
[null,null,null,"b",null,"点"]
[null,null,null,"c",null,"点"]
[null,8,"これから５つの品物を見せます。それを隠しますので何があったか言って下さい。（時計、鍵、タバコ、ペン、硬貨など必ず相互に無関係なもの）\n",null,null,"点"]
[null,9,"知っている野菜の名前をできるだけ多く言って下さい。\n（答えた野菜の名前を右欄に記入する。途中で詰まり、約10秒間待っても出ない場合にはそこで打ち切る）　\n０～５＝０点、６＝１点、７＝２点、８＝３点、９＝４点、１０＝５点\n",null,null,"点","測定なし\nの場合\n↓"]
[null,"合計点数",null,null,{"$f":"SUM(E50:E67)","v":0},"点"]
[null,null,null,"（入力項目数）",{"$f":"COUNTA(E50:E67)","v":0}]
[null,"【在宅】"]
[null,1,"お歳はいくつですか？（２年までの誤差は正解）",null,null,"点"]
[null,2,"今日は何年の何月何日ですか？何曜日ですか？\n（年、月、日、曜日が正解でそれぞれ１点づつ）","年",null,"点"]
[null,null,null,"月",null,"点"]
[null,null,null,"日",null,"点"]
[null,null,null,"曜日",null,"点"]
[null,3,"私たちが今いるところはどこですか？（自発的にできれば２点　５秒おいて、家ですか？　病院ですか？　施設ですか？の中から正しい選択をすれば１点\n",null,null,"点"]
[null,4,"これから言う３つの言葉を言ってみて下さい。あとでまた聞きますのでよく覚えておいてください。\n（以下の系列のいずれか１つで、採用した系列に○印をつけておく）\n",null,null,"点"]
[null,null,null,null,null,"点"]
[null,null,"１：a) 桜　b) 猫　c) 電車　　　　２：a) 梅　b) 犬　c) 自転車",null,null,"点"]
[null,5,"1100から７を順番に引いてください。\n（「100引く７は？　それからまた７を引くと？」と質問する。最初の答えが不正解の場合は打ち切る）\n",93,null,"点"]
[null,null,null,86,null,"点"]
[null,6,"私がこれから言う数字を逆から言って下さい。\n（６－８－２，３－５－２－９を逆に言ってもらう。３桁逆唱に失敗したら打ち切る）\n","2-8-6",null,"点"]
[null,null,null,"9-2-5",null,"点"]
[null,7,"先ほど覚えてもらった言葉をもう一度言ってみて下さい。\n（自発的に回答があれば各２点。\nもし回答がない場合以下のヒントを与え、正解であれば１点）\n　a) 植物　b) 動物　c) 乗り物\n","a",null,"点"]
[null,null,null,"b",null,"点"]
[null,null,null,"c",null,"点"]
[null,8,"これから５つの品物を見せます。それを隠しますので何があったか言って下さい。（時計、鍵、タバコ、ペン、硬貨など必ず相互に無関係なもの）\n",null,null,"点"]
[null,9,"知っている野菜の名前をできるだけ多く言って下さい。\n（答えた野菜の名前を右欄に記入する。途中で詰まり、約10秒間待っても出ない場合にはそこで打ち切る）　\n０～５＝０点、６＝１点、７＝２点、８＝３点、９＝４点、１０＝５点\n",null,null,"点"]
[null,"合計点数",null,null,{"$f":"SUM(E71:E88)","v":0},"点"]
[null,null,"長谷川式スケール","（入力項目数）",{"$f":"COUNTA(E71:E88)","v":0}]
[null,null,"http://www.akanekai.jp/hasemane.htm"]

{"sheet":"寝たきり度・自立度・介護認定","index":19,"n_rows":43,"n_cols":10,"rows_kept":43,"cut":false,"hidden":false,"merged":[[42,2,42,5],[42,6,42,9],[40,2,40,5],[40,6,40,9],[38,2,38,5],[38,6,38,9],[39,2,39,5],[39,6,39,9],[41,2,41,5],[41,6,41,9],[28,2,28,8],[25,9,27,9],[33,1,33,9],[36,2,37,5],[36,6,37,9],[26,2,26,8],[27,2,27,8],[1,2,1,3],[1,4,1,5],[10,3,10,9],[5,2,5,9],[6,2,6,9],[3,1,3,9],[7,3,7,9],[8,3,8,9],[6,1,8,1],[9,1,11,1],[12,1,14,1],[15,1,17,1],[9,2,9,9],[14,3,14,9],[15,2,15,9],[17,3,17,9],[11,3,11,9],[12,2,12,9],[13,3,13,9],[16,3,16,9],[19,1,19,9],[22,2,22,8],[23,2,23,8],[24,2,24,8],[25,2,25,8],[21,2,21,9]]}
[]
[null,"寝たきり度","自立度",null,"介護認定度"]
[]
[null,"寝たきり度"]
[]
[null,"分類","説明"]
[null,"ランクＪ","何らかの障害等を有するが、日常生活はほぼ自立しており独力で外出する"]
[null,null,1,"交通機関等を利用して外出する"]
[null,null,2,"隣近所へなら外出する"]
[null,"ランクＡ","屋内での生活は概ね自立しているが、介助なしには外出しない"]
[null,null,1,"日中はほとんどベットから離れて生活する"]
[null,null,2,"日中も寝たり起きたりの生活をしている"]
[null,"ランクＢ","屋内での生活は何らかの介助を要し、日中もベッド上での生活が主体であるが座位を保つ"]
[null,null,1,"介助なしで車椅子に移乗し、食事・排泄はベッドから離れて行う"]
[null,null,2,"介助により車椅子に移乗する"]
[null,"ランクＣ","一日中ベッド上で過ごし、排泄・食事・着替えにおいて介助を要する"]
[null,null,1,"自力で寝返りをうつ"]
[null,null,2,"自力で寝返りもうたない"]
[]
[null,"自立度"]
[]
[null,"分類","説明"]
[null,"Ⅰ","何らかの痴呆を有するが、日常生活は家庭内及び社会的にほぼ自立している"]
[null,"Ⅱa","家庭外で、日常生活に支障を来たすような症状・行動や意思疎通の困難さが見られても、誰かが注意していれば自立できる",null,null,null,null,null,null,"たびたび道に迷うとか、買物や事務、金銭管理などそれまでできたことにミスが目立つ等"]
[null,"Ⅱｂ","家庭内でも上記Ⅱの状態が見られる",null,null,null,null,null,null,"服薬管理ができない、電話の応答や訪問者との応答など一人で留守番ができない等"]
[null,"Ⅲa","日中を中心として、日常生活に支障を来たすような症状・行動や意思疎通の困難さが時々見られ、介護を必要とする",null,null,null,null,null,null,"着替え・食事・排泄が上手にできない、時間がかかる。\r\nやたらに物を口に入れる、物を拾い集める、徘徊、失禁、大声・奇声、火の不始末、不潔行為、性的異常行為等"]
[null,"Ⅲｂ","夜間を中心として、日常生活に支障を来たすような症状・行動や意思疎通の困難さが時々見られ、介護を必要とする"]
[null,"Ⅳ","日常生活に支障を来たすような症状・行動や意思疎通の困難さが頻繁に見られ、常に介護を必要とする"]
[null,"Ｍ","著しい精神症状や問題行動或いは重篤な身体疾患（意思疎通が全くできない寝たきり状態）が見られ、専門医療を必要とする",null,null,null,null,null,null,"せん妄、妄想、興奮、自傷・他害等の精神症状や、精神症状に起因する問題行動が継続する状態等"]
[]
[]
[]
[]
[null,"介護認定度"]
[]
[]
[null,"要支援１","日常生活の一部に介護が必要だが、介護サービスを適応に利用すれば心身の機能の維持・改善が見込める。",null,null,null,"目標を設定してそれを達成するための「介護予防サービス」が利用できる。"]
[null,"要支援２"]
[null,"要介護１","立ち上がりや歩行が不安定。排泄や入浴などに部分的介助が必要。 ",null,null,null,"訪問介護・訪問看護・通所リハビリテーションなど"]
[null,"要介護２","立ち上がりや歩行などが自力では困難。排泄・入浴などに一部または全介助が必要。",null,null,null,"週3回の訪問介護または通所リハビリテーションなど "]
[null,"要介護３","立ち上がりや歩行などが自力ではできない。排泄・入浴・衣服の着脱など全面的な介助が必要。 ",null,null,null,"訪問介護や夜間または早朝の巡回訪問介護・訪問看護・通所介護または通所リハビリテーションなど（1日2回程度のサービス） "]
[null,"要介護４","日常生活能力の低下がみられ、排泄・入浴・衣服の着脱など全般に全面的な介助が必要。 ",null,null,null,"訪問介護や夜間または早朝の巡回訪問介護・訪問看護・通所介護または通所リハビリテーションなど（1日2～3回程度のサービス） "]
[null,"要介護５","日常生活全般について全面的な介助が必要。意志の伝達も困難。 ",null,null,null,"訪問介護や夜間または早朝の巡回訪問介護・訪問看護・通所介護または通所リハビリテーションなど（1日3～4回程度のサービス）"]

{"sheet":"B.I","index":20,"n_rows":32,"n_cols":7,"rows_kept":32,"cut":false,"hidden":false,"merged":[[1,0,1,3],[1,4,1,5],[1,6,1,27],[2,0,4,0],[2,1,4,3],[2,4,2,5],[2,6,2,27],[3,4,3,5],[3,6,3,27],[4,4,4,5],[4,6,4,27],[5,0,8,0],[5,1,8,3],[5,4,5,5],[5,6,5,27],[6,4,6,5],[6,6,6,27],[7,4,7,5],[7,6,7,27],[8,4,8,5],[8,6,8,27],[9,0,10,0],[9,1,10,3],[9,4,9,5],[9,6,9,27],[10,4,10,5],[10,6,10,27],[11,0,13,0],[11,1,13,3],[11,4,11,5],[11,6,11,27],[12,4,12,5],[12,6,12,27],[13,4,13,5],[13,6,13,27],[14,0,15,0],[14,1,15,3],[14,4,14,5],[14,6,14,27],[15,4,15,5],[15,6,15,27],[16,0,19,0],[16,1,19,3],[16,4,16,5],[16,6,16,27],[17,4,17,5],[17,6,17,27],[18,4,18,5],[18,6,18,27],[19,4,19,5],[19,6,19,27],[20,0,22,0],[20,1,22,3],[20,4,20,5],[20,6,20,27],[21,4,21,5],[21,6,21,27],[22,4,22,5],[22,6,22,27],[23,0,25,0],[23,1,25,3],[23,4,23,5],[23,6,23,27],[24,4,24,5],[24,6,24,27],[25,4,25,5],[25,6,25,27],[26,0,28,0],[26,1,28,3],[26,4,26,5],[26,6,26,27],[27,4,27,5],[27,6,27,27],[28,4,28,5],[28,6,28,27],[29,0,31,0],[29,1,31,3],[29,4,29,5],[29,6,29,27],[30,4,30,5],[30,6,30,27],[31,4,31,5],[31,6,31,27]]}
["バーセルインデックス（Barthel Index；　機能的評価）"]
["分類",null,null,null,"点数",null,"説明"]
[1,"食事",null,null,10,null,"自立、自助具などの装着可、標準的時間内に食べ終える"]
[null,null,null,null,5,null,"部分介助（たとえば、おかずを切って細かくしてもらう）"]
[null,null,null,null,0,null,"全介助"]
[2,"車椅子からベッドへの移動",null,null,15,null,"自立、ブレーキ、フットレストの操作も含む（非行自立も含む）"]
[null,null,null,null,10,null,"軽度の部分介助または監視を要する"]
[null,null,null,null,5,null,"座ることは可能であるがほぼ全介助"]
[null,null,null,null,0,null,"全介助または不可能"]
[3,"整容",null,null,5,null,"自立（洗面、整髪、歯磨き、ひげ剃り）"]
[null,null,null,null,0,null,"部分介助または不可能"]
[4,"トイレ動作",null,null,10,null,"自立（衣服の操作、後始末を含む、ポータブル便器などを使用している場合はその洗浄も含む）"]
[null,null,null,null,5,null,"部分介助、体を支える、衣服、後始末に介助を要する"]
[null,null,null,null,0,null,"全介助または不可能"]
[5,"入浴",null,null,5,null,"自立"]
[null,null,null,null,0,null,"部分介助または不可能"]
[6,"歩行",null,null,15,null,"45M以上の歩行、補装具（車椅子、歩行器は除く）の使用の有無は問わず"]
[null,null,null,null,10,null,"45M以上の介助歩行、歩行器の使用を含む"]
[null,null,null,null,5,null,"歩行不能の場合、車椅子にて45M以上の操作可能"]
[null,null,null,null,0,null,"上記以外"]
[7,"階段昇降",null,null,10,null,"自立、手すりなどの使用の有無は問わない"]
[null,null,null,null,5,null,"介助または監視を要する"]
[null,null,null,null,0,null,"不能"]
[8,"着替え",null,null,10,null,"自立、靴、ファスナー、装具の着脱を含む"]
[null,null,null,null,5,null,"部分介助、標準的な時間内、半分以上は自分で行える"]
[null,null,null,null,0,null,"上記以外"]
[9,"排便コントロール",null,null,10,null,"失禁なし、浣腸、坐薬の取り扱いも可能"]
[null,null,null,null,5,null,"ときに失禁あり、浣腸、坐薬の取り扱いに介助を要する者も含む"]
[null,null,null,null,0,null,"上記以外"]
[10,"排尿コントロール",null,null,10,null,"失禁なし、収尿器の取り扱いも可能"]
[null,null,null,null,5,null,"ときに失禁あり、収尿器の取り扱いに介助を要する者も含む"]
[null,null,null,null,0,null,"上記以外"]

{"sheet":"職種別コメント","index":21,"n_rows":20,"n_cols":24,"rows_kept":20,"cut":false,"hidden":false,"merged":[[13,1,22,13],[4,0,12,0],[4,1,12,13],[19,15,22,26],[19,14,22,14],[1,23,1,24],[1,0,1,2],[1,19,1,20],[15,14,18,14],[11,15,14,26],[1,17,1,18],[1,3,1,7],[1,21,1,22],[11,14,14,14],[4,14,10,14],[15,15,18,26],[1,12,1,16],[3,0,3,26],[4,15,10,26],[1,8,1,11],[13,0,22,0]]}
[]
["患者ID",null,null,{"$f":"IF(患者基本情報!E6=\"\",\"\",患者基本情報!E6)","v":0},null,null,null,null,"患者氏名",null,null,null,{"$f":"IF(患者基本情報!E8=\"\",\"\",患者基本情報!E8)","v":0},null,null,null,null,"性別",null,{"$f":"IF(患者基本情報!M8=\"\",\"\",患者基本情報!M8)","v":""},null,"年齢",null,{"$f":"IF(患者基本情報!F40=\"\",\"\",患者基本情報!F40)","v":""}]
[]
["職種別コメント"]
["医師",{"$f":"IF(医師記入!B23=\"\",\"\",医師記入!B23)","v":"氏名："},null,null,null,null,null,null,null,null,null,null,null,null,"看護師",{"$f":"IF(看護師記入!B10=\"\",\"\",看護師記入!B10)","v":"氏名："}]
[]
[]
[]
[]
[]
[]
[null,null,null,null,null,null,null,null,null,null,null,null,null,null,"薬剤師",{"$f":"IF(薬剤師記入!B10=\"\",\"\",薬剤師記入!B10)","v":"氏名："}]
[]
["リハビリ",{"$f":"IF(リハビリ記入!B10=\"\",\"\",リハビリ記入!B10)","v":"氏名："}]
[]
[null,null,null,null,null,null,null,null,null,null,null,null,null,null,"栄養士",{"$f":"IF(栄養士記入!B10=\"\",\"\",栄養士記入!B10)","v":"氏名："}]
[]
[]
[]
[null,null,null,null,null,null,null,null,null,null,null,null,null,null,"MSW・退院支援担当者",{"$f":"IF(MSW記入!B10=\"\",\"\",MSW記入!B10)","v":"氏名："}]

{"sheet":"医師記入","index":22,"n_rows":23,"n_cols":19,"rows_kept":23,"cut":false,"hidden":false,"merged":[[22,1,27,13],[9,16,9,17],[10,16,10,17],[8,16,8,17],[11,1,11,3],[10,6,10,13],[8,14,8,15],[9,14,9,15],[10,14,10,15],[11,14,11,18],[13,16,13,18],[11,4,11,8],[11,9,11,13],[16,1,16,3],[20,2,20,6],[16,4,16,8],[12,1,15,3],[14,16,14,18],[15,13,15,18],[14,4,14,15],[1,19,1,22],[3,19,3,23],[7,14,7,15],[1,10,1,15],[6,14,6,17],[7,16,7,17],[6,21,6,24],[6,18,6,20],[1,1,1,2],[1,3,1,6],[7,1,10,3],[8,4,8,13],[1,7,1,9],[7,4,7,13],[9,4,9,13],[6,4,6,11],[6,1,6,3],[16,9,16,13],[16,14,16,18],[10,4,10,5],[15,4,15,12],[12,16,12,18],[12,4,12,15],[13,4,13,15]]}
[]
[null,"患者ID",null,{"$f":"IF(患者基本情報!E6=\"\",\"\",患者基本情報!E6)","v":0},null,null,null,"患者氏名",null,null,{"$f":"IF(患者基本情報!E8=\"\",\"\",患者基本情報!E8)","v":0}]
[]
[]
[null,"診断"]
[]
[null,"診断名",null,null,null,null,null,null,null,null,null,null,"（分類）",null,null,null,null,null,"(発症区分)"]
[null,"部位",null,null,null,null,null,null,null,null,null,null,null,null,"（左右）"]
[null,null,null,null,null,null,null,null,null,null,null,null,null,null,"（左右）"]
[null,null,null,null,null,null,null,null,null,null,null,null,null,null,"（左右）"]
[null,null,null,null,"（その他）",null,null,null,null,null,null,null,null,null,"（左右）"]
[null,"治療"]
[null,"t-PA使用",null,null,"(t-PA使用有無)"]
[null,null,null,null,"(t-PA使用後の出血性合併症有無)"]
[null,null,null,null,"(t-PA使用禁忌の有無(時間超過以外))"]
[null,null,null,null,"(t-PA療法開始時間)"]
[null,"手術"]
[]
[null,null,"（医師）コメント"]
[]
[null,null,"　　　年　　月　　日　"]
[]
[null,"氏名："]

{"sheet":"看護師記入","index":23,"n_rows":10,"n_cols":11,"rows_kept":10,"cut":false,"hidden":false,"merged":[[2,10,2,15],[9,1,14,13],[7,2,7,6],[2,1,2,2],[2,3,2,6],[2,7,2,9]]}
[]
[]
[null,"患者ID",null,{"$f":"IF(患者基本情報!E6=\"\",\"\",患者基本情報!E6)","v":0},null,null,null,"患者氏名",null,null,{"$f":"IF(患者基本情報!E8=\"\",\"\",患者基本情報!E8)","v":0}]
[]
[]
[null,null,"（看護師）コメント"]
[]
[null,null,"　　　年　　月　　日"]
[]
[null,"氏名："]

{"sheet":"リハビリ記入","index":24,"n_rows":10,"n_cols":11,"rows_kept":10,"cut":false,"hidden":false,"merged":[[7,2,7,6],[9,1,14,13],[2,1,2,2],[2,3,2,6],[2,7,2,9],[2,10,2,15]]}
[]
[]
[null,"患者ID",null,{"$f":"IF(患者基本情報!E6=\"\",\"\",患者基本情報!E6)","v":0},null,null,null,"患者氏名",null,null,{"$f":"IF(患者基本情報!E8=\"\",\"\",患者基本情報!E8)","v":0}]
[]
[]
[null,null,"（リハビリ）コメント"]
[]
[null,null,"　　　年　　月　　日"]
[]
[null,"氏名："]

{"sheet":"MSW記入","index":25,"n_rows":10,"n_cols":11,"rows_kept":10,"cut":false,"hidden":false,"merged":[[7,2,7,6],[9,1,14,13],[2,1,2,2],[2,3,2,6],[2,7,2,9],[2,10,2,15]]}
[]
[]
[null,"患者ID",null,{"$f":"IF(患者基本情報!E6=\"\",\"\",患者基本情報!E6)","v":0},null,null,null,"患者氏名",null,null,{"$f":"IF(患者基本情報!E8=\"\",\"\",患者基本情報!E8)","v":0}]
[]
[]
[null,null,"（MSW）コメント"]
[]
[null,null,"　　　年　　月　　日"]
[]
[null,"氏名："]

{"sheet":"薬剤師記入","index":26,"n_rows":10,"n_cols":11,"rows_kept":10,"cut":false,"hidden":false,"merged":[[7,2,7,6],[9,1,14,13],[2,1,2,2],[2,3,2,6],[2,7,2,9],[2,10,2,15]]}
[]
[]
[null,"患者ID",null,{"$f":"IF(患者基本情報!E6=\"\",\"\",患者基本情報!E6)","v":0},null,null,null,"患者氏名",null,null,{"$f":"IF(患者基本情報!E8=\"\",\"\",患者基本情報!E8)","v":0}]
[]
[]
[null,null,"（薬剤師）コメント"]
[]
[null,null,"　　　年　　月　　日"]
[]
[null,"氏名："]

{"sheet":"栄養士記入","index":27,"n_rows":10,"n_cols":11,"rows_kept":10,"cut":false,"hidden":false,"merged":[[7,2,7,6],[9,1,14,13],[2,1,2,2],[2,3,2,6],[2,7,2,9],[2,10,2,15]]}
[]
[]
[null,"患者ID",null,{"$f":"IF(患者基本情報!E6=\"\",\"\",患者基本情報!E6)","v":0},null,null,null,"患者氏名",null,null,{"$f":"IF(患者基本情報!E8=\"\",\"\",患者基本情報!E8)","v":0}]
[]
[]
[null,null,"（栄養士）コメント"]
[]
[null,null,"　　　年　　月　　日"]
[]
[null,"氏名："]

{"sheet":"職種別コメント2","index":28,"n_rows":17,"n_cols":24,"rows_kept":17,"cut":false,"hidden":false,"merged":[[1,8,1,11],[1,17,1,18],[10,0,15,0],[4,0,9,0],[16,0,21,0],[1,21,1,22],[10,1,15,26],[16,1,21,26],[4,15,9,26],[1,23,1,24],[1,12,1,16],[4,1,9,13],[1,19,1,20],[3,0,3,26],[4,14,9,14],[1,0,1,2],[1,3,1,7]]}
[]
["患者ID",null,null,{"$f":"IF(患者基本情報!E6=\"\",\"\",患者基本情報!E6)","v":0},null,null,null,null,"患者氏名",null,null,null,{"$f":"IF(患者基本情報!E8=\"\",\"\",患者基本情報!E8)","v":0},null,null,null,null,"性別",null,{"$f":"IF(患者基本情報!M8=\"\",\"\",患者基本情報!M8)","v":""},null,"年齢",null,{"$f":"IF(患者基本情報!Q41=\"\",\"\",患者基本情報!Q41)","v":""}]
[]
["職種別コメント"]
["医師",{"$f":"IF(医師記入2!B19=\"\",\"\",医師記入2!B19)","v":"氏名："},null,null,null,null,null,null,null,null,null,null,null,null,"看護師",{"$f":"IF(看護師記入2!B10=\"\",\"\",看護師記入2!B10)","v":"氏名："}]
[]
[]
[]
[]
[]
["リハビリ",{"$f":"IF(リハビリ記入2!B10=\"\",\"\",リハビリ記入2!B10)","v":"氏名："}]
[]
[]
[]
[]
[]
[{"$f":"IF(その他記入2!C6=\"\",\"\",その他記入2!C6)","v":""},{"$f":"IF(その他記入2!B10=\"\",\"\",その他記入2!B10)","v":"氏名："}]

{"sheet":"医師記入2","index":29,"n_rows":25,"n_cols":17,"rows_kept":25,"cut":false,"hidden":false,"merged":[[11,9,11,13],[9,4,9,13],[6,1,6,3],[10,4,10,5],[1,1,1,2],[1,3,1,6],[7,1,10,3],[8,4,8,13],[1,7,1,9],[1,19,1,22],[3,19,3,23],[7,14,7,15],[1,10,1,15],[6,14,6,17],[7,16,7,17],[7,4,7,13],[6,4,6,11],[18,1,23,13],[12,14,12,18],[8,16,8,17],[16,2,16,6],[9,16,9,17],[10,16,10,17],[11,1,11,3],[10,6,10,13],[11,14,11,18],[12,4,12,8],[12,1,12,3],[12,9,12,13],[8,14,8,15],[9,14,9,15],[10,14,10,15],[11,4,11,8]]}
[]
[null,"患者ID",null,{"$f":"IF(患者基本情報!E6=\"\",\"\",患者基本情報!E6)","v":0},null,null,null,"患者氏名",null,null,{"$f":"IF(患者基本情報!E8=\"\",\"\",患者基本情報!E8)","v":0}]
[]
[]
[null,"診断"]
[]
[null,"診断名",null,null,{"$f":"IF(医師記入!E7=\"\",\"\",医師記入!E7)","v":""},null,null,null,null,null,null,null,"（分類）",null,{"$f":"IF(医師記入!O7=\"\",\"\",医師記入!O7)","v":""}]
[null,"部位",null,null,{"$f":"IF(医師記入!E8=\"\",\"\",医師記入!E8)","v":""},null,null,null,null,null,null,null,null,null,"（左右）",null,{"$f":"IF(医師記入!Q8=\"\",\"\",医師記入!Q8)","v":""}]
[null,null,null,null,{"$f":"IF(医師記入!E9=\"\",\"\",医師記入!E9)","v":""},null,null,null,null,null,null,null,null,null,"（左右）",null,{"$f":"IF(医師記入!Q9=\"\",\"\",医師記入!Q9)","v":""}]
[null,null,null,null,{"$f":"IF(医師記入!E10=\"\",\"\",医師記入!E10)","v":""},null,null,null,null,null,null,null,null,null,"（左右）",null,{"$f":"IF(医師記入!Q10=\"\",\"\",医師記入!Q10)","v":""}]
[null,null,null,null,"（その他）",null,{"$f":"IF(医師記入!G11=\"\",\"\",医師記入!G11)","v":""},null,null,null,null,null,null,null,"（左右）",null,{"$f":"IF(医師記入!Q11=\"\",\"\",医師記入!Q11)","v":""}]
[null,"治療",null,null,{"$f":"IF(医師記入!E12=\"\",\"\",医師記入!E12)","v":""},null,null,null,null,{"$f":"IF(医師記入!J12=\"\",\"\",医師記入!J12)","v":""},null,null,null,null,{"$f":"IF(医師記入!O12=\"\",\"\",医師記入!O12)","v":""}]
[null,"手術",null,null,{"$f":"IF(医師記入!E17=\"\",\"\",医師記入!E17)","v":""},null,null,null,null,{"$f":"IF(医師記入!J17=\"\",\"\",医師記入!J17)","v":""},null,null,null,null,{"$f":"IF(医師記入!O17=\"\",\"\",医師記入!O17)","v":""}]
[]
[null,null,"（医師）コメント"]
[]
[null,null,"　　　年　　月　　日"]
[]
[null,"氏名："]
[]
[]
[]
[]
[]
[null,null,null,null,null,null,null,null,null,null,null,null,"※全角432文字まで職種別コメントに反映されます"]

{"sheet":"看護師記入2","index":30,"n_rows":10,"n_cols":11,"rows_kept":10,"cut":false,"hidden":false,"merged":[[7,2,7,6],[9,1,14,13],[2,1,2,2],[2,3,2,6],[2,7,2,9],[2,10,2,15]]}
[]
[]
[null,"患者ID",null,{"$f":"IF(患者基本情報!E6=\"\",\"\",患者基本情報!E6)","v":0},null,null,null,"患者氏名",null,null,{"$f":"IF(患者基本情報!E8=\"\",\"\",患者基本情報!E8)","v":0}]
[]
[]
[null,null,"（看護師）コメント"]
[]
[null,null,"　　　年　　月　　日"]
[]
[null,"氏名："]

{"sheet":"リハビリ記入2","index":31,"n_rows":10,"n_cols":11,"rows_kept":10,"cut":false,"hidden":false,"merged":[[7,2,7,6],[9,1,14,26],[2,1,2,2],[2,3,2,6],[2,7,2,9],[2,10,2,15]]}
[]
[]
[null,"患者ID",null,{"$f":"IF(患者基本情報!E6=\"\",\"\",患者基本情報!E6)","v":0},null,null,null,"患者氏名",null,null,{"$f":"IF(患者基本情報!E8=\"\",\"\",患者基本情報!E8)","v":0}]
[]
[]
[null,null,"（リハビリ）コメント"]
[]
[null,null,"　　　年　　月　　日"]
[]
[null,"氏名："]

{"sheet":"その他記入2","index":32,"n_rows":10,"n_cols":11,"rows_kept":10,"cut":false,"hidden":false,"merged":[[5,2,5,5],[7,2,7,6],[9,1,14,26],[2,1,2,2],[2,3,2,6],[2,7,2,9],[2,10,2,15]]}
[]
[]
[null,"患者ID",null,{"$f":"IF(患者基本情報!E6=\"\",\"\",患者基本情報!E6)","v":0},null,null,null,"患者氏名",null,null,{"$f":"IF(患者基本情報!E8=\"\",\"\",患者基本情報!E8)","v":0}]
[]
[]
[null,"（",null,null,null,null,"）","コメント"]
[]
[null,null,"　　　年　　月　　日"]
[]
[null,"氏名："]

{"sheet":"職種別コメント3","index":33,"n_rows":17,"n_cols":24,"rows_kept":17,"cut":false,"hidden":false,"merged":[[1,8,1,11],[1,17,1,18],[10,0,15,0],[4,0,9,0],[16,0,21,0],[1,21,1,22],[10,1,15,26],[16,1,21,26],[4,15,9,26],[1,23,1,24],[1,12,1,16],[4,1,9,13],[1,19,1,20],[3,0,3,26],[4,14,9,14],[1,0,1,2],[1,3,1,7]]}
[]
["患者ID",null,null,{"$f":"IF(患者基本情報!E6=\"\",\"\",患者基本情報!E6)","v":0},null,null,null,null,"患者氏名",null,null,null,{"$f":"IF(患者基本情報!E8=\"\",\"\",患者基本情報!E8)","v":0},null,null,null,null,"性別",null,{"$f":"IF(患者基本情報!M8=\"\",\"\",患者基本情報!M8)","v":""},null,"年齢",null,{"$f":"IF(患者基本情報!AB41=\"\",\"\",患者基本情報!AB41)","v":""}]
[]
["職種別コメント"]
["医師",{"$f":"IF(医師記入3!B19=\"\",\"\",医師記入3!B19)","v":"氏名："},null,null,null,null,null,null,null,null,null,null,null,null,"看護師",{"$f":"IF(看護師記入3!B10=\"\",\"\",看護師記入3!B10)","v":"氏名："}]
[]
[]
[]
[]
[]
["リハビリ",{"$f":"IF(リハビリ記入3!B10=\"\",\"\",リハビリ記入3!B10)","v":"氏名："}]
[]
[]
[]
[]
[]
[{"$f":"IF(その他記入2!C6=\"\",\"\",その他記入2!C6)","v":""},{"$f":"IF(その他記入3!B10=\"\",\"\",その他記入3!B10)","v":"氏名："}]

{"sheet":"医師記入3","index":34,"n_rows":25,"n_cols":17,"rows_kept":25,"cut":false,"hidden":false,"merged":[[8,16,8,17],[9,16,9,17],[10,16,10,17],[10,4,10,5],[8,14,8,15],[9,14,9,15],[10,14,10,15],[1,19,1,22],[3,19,3,23],[7,14,7,15],[1,10,1,15],[6,14,6,17],[7,16,7,17],[1,1,1,2],[1,3,1,6],[7,1,10,3],[8,4,8,13],[1,7,1,9],[7,4,7,13],[9,4,9,13],[6,4,6,11],[10,6,10,13],[6,1,6,3],[18,1,23,13],[11,14,11,18],[12,4,12,8],[12,9,12,13],[12,14,12,18],[11,4,11,8],[11,9,11,13],[12,1,12,3],[16,2,16,6],[11,1,11,3]]}
[]
[null,"患者ID",null,{"$f":"IF(患者基本情報!E6=\"\",\"\",患者基本情報!E6)","v":0},null,null,null,"患者氏名",null,null,{"$f":"IF(患者基本情報!E8=\"\",\"\",患者基本情報!E8)","v":0}]
[]
[]
[null,"診断"]
[]
[null,"診断名",null,null,{"$f":"IF(医師記入!E7=\"\",\"\",医師記入!E7)","v":""},null,null,null,null,null,null,null,"（分類）",null,{"$f":"IF(医師記入!O7=\"\",\"\",医師記入!O7)","v":""}]
[null,"部位",null,null,{"$f":"IF(医師記入!E8=\"\",\"\",医師記入!E8)","v":""},null,null,null,null,null,null,null,null,null,"（左右）",null,{"$f":"IF(医師記入!Q8=\"\",\"\",医師記入!Q8)","v":""}]
[null,null,null,null,{"$f":"IF(医師記入!E9=\"\",\"\",医師記入!E9)","v":""},null,null,null,null,null,null,null,null,null,"（左右）",null,{"$f":"IF(医師記入!Q9=\"\",\"\",医師記入!Q9)","v":""}]
[null,null,null,null,{"$f":"IF(医師記入!E10=\"\",\"\",医師記入!E10)","v":""},null,null,null,null,null,null,null,null,null,"（左右）",null,{"$f":"IF(医師記入!Q10=\"\",\"\",医師記入!Q10)","v":""}]
[null,null,null,null,"（その他）",null,{"$f":"IF(医師記入!G11=\"\",\"\",医師記入!G11)","v":""},null,null,null,null,null,null,null,"（左右）",null,{"$f":"IF(医師記入!Q11=\"\",\"\",医師記入!Q11)","v":""}]
[null,"治療",null,null,{"$f":"IF(医師記入!E12=\"\",\"\",医師記入!E12)","v":""},null,null,null,null,{"$f":"IF(医師記入!J12=\"\",\"\",医師記入!J12)","v":""},null,null,null,null,{"$f":"IF(医師記入!O12=\"\",\"\",医師記入!O12)","v":""}]
[null,"手術",null,null,{"$f":"IF(医師記入!E17=\"\",\"\",医師記入!E17)","v":""},null,null,null,null,{"$f":"IF(医師記入!J17=\"\",\"\",医師記入!J17)","v":""},null,null,null,null,{"$f":"IF(医師記入!O17=\"\",\"\",医師記入!O17)","v":""}]
[]
[null,null,"（医師）コメント"]
[]
[null,null,"　　　年　　月　　日"]
[]
[null,"氏名："]
[]
[]
[]
[]
[]
[null,null,null,null,null,null,null,null,null,null,null,null,"※全角432文字まで職種別コメントに反映されます"]

{"sheet":"看護師記入3","index":35,"n_rows":10,"n_cols":11,"rows_kept":10,"cut":false,"hidden":false,"merged":[[7,2,7,6],[9,1,14,13],[2,1,2,2],[2,3,2,6],[2,7,2,9],[2,10,2,15]]}
[]
[]
[null,"患者ID",null,{"$f":"IF(患者基本情報!E6=\"\",\"\",患者基本情報!E6)","v":0},null,null,null,"患者氏名",null,null,{"$f":"IF(患者基本情報!E8=\"\",\"\",患者基本情報!E8)","v":0}]
[]
[]
[null,null,"（看護師）コメント"]
[]
[null,null,"　　　年　　月　　日"]
[]
[null,"氏名："]

{"sheet":"リハビリ記入3","index":36,"n_rows":10,"n_cols":11,"rows_kept":10,"cut":false,"hidden":false,"merged":[[7,2,7,6],[9,1,14,26],[2,1,2,2],[2,3,2,6],[2,7,2,9],[2,10,2,15]]}
[]
[]
[null,"患者ID",null,{"$f":"IF(患者基本情報!E6=\"\",\"\",患者基本情報!E6)","v":0},null,null,null,"患者氏名",null,null,{"$f":"IF(患者基本情報!E8=\"\",\"\",患者基本情報!E8)","v":0}]
[]
[]
[null,null,"（リハビリ）コメント"]
[]
[null,null,"　　　年　　月　　日"]
[]
[null,"氏名："]

{"sheet":"その他記入3","index":37,"n_rows":10,"n_cols":11,"rows_kept":10,"cut":false,"hidden":false,"merged":[[2,10,2,15],[7,2,7,6],[9,1,14,26],[5,2,5,5],[2,1,2,2],[2,3,2,6],[2,7,2,9]]}
[]
[]
[null,"患者ID",null,{"$f":"IF(患者基本情報!E6=\"\",\"\",患者基本情報!E6)","v":0},null,null,null,"患者氏名",null,null,{"$f":"IF(患者基本情報!E8=\"\",\"\",患者基本情報!E8)","v":0}]
[]
[]
[null,"（",null,null,null,null,"）","コメント"]
[]
[null,null,"　　　年　　月　　日"]
[]
[null,"氏名："]

{"sheet":"医師記入4","index":38,"n_rows":19,"n_cols":17,"rows_kept":19,"cut":false,"hidden":false,"merged":[[18,1,39,19],[11,14,11,18],[12,4,12,8],[12,9,12,13],[12,14,12,18],[11,4,11,8],[11,9,11,13],[12,1,12,3],[16,2,16,6],[11,1,11,3],[1,1,1,2],[1,3,1,6],[7,1,10,3],[8,4,8,13],[1,7,1,9],[6,4,6,11],[7,4,7,13],[6,1,6,3],[10,4,10,5],[10,6,10,13],[9,14,9,15],[10,14,10,15],[7,16,7,17],[9,4,9,13],[9,16,9,17],[10,16,10,17],[1,19,1,22],[3,19,3,23],[7,14,7,15],[8,16,8,17],[1,10,1,15],[6,14,6,17],[8,14,8,15]]}
[]
[null,"患者ID",null,{"$f":"IF(患者基本情報!E6=\"\",\"\",患者基本情報!E6)","v":0},null,null,null,"患者氏名",null,null,{"$f":"IF(患者基本情報!E8=\"\",\"\",患者基本情報!E8)","v":0}]
[]
[]
[null,"診断"]
[]
[null,"診断名",null,null,{"$f":"IF(医師記入!E7=\"\",\"\",医師記入!E7)","v":""},null,null,null,null,null,null,null,"（分類）",null,{"$f":"IF(医師記入!O7=\"\",\"\",医師記入!O7)","v":""}]
[null,"部位",null,null,{"$f":"IF(医師記入!E8=\"\",\"\",医師記入!E8)","v":""},null,null,null,null,null,null,null,null,null,"（左右）",null,{"$f":"IF(医師記入!Q8=\"\",\"\",医師記入!Q8)","v":""}]
[null,null,null,null,{"$f":"IF(医師記入!E9=\"\",\"\",医師記入!E9)","v":""},null,null,null,null,null,null,null,null,null,"（左右）",null,{"$f":"IF(医師記入!Q9=\"\",\"\",医師記入!Q9)","v":""}]
[null,null,null,null,{"$f":"IF(医師記入!E10=\"\",\"\",医師記入!E10)","v":""},null,null,null,null,null,null,null,null,null,"（左右）",null,{"$f":"IF(医師記入!Q10=\"\",\"\",医師記入!Q10)","v":""}]
[null,null,null,null,"（その他）",null,{"$f":"IF(医師記入!G11=\"\",\"\",医師記入!G11)","v":""},null,null,null,null,null,null,null,"（左右）",null,{"$f":"IF(医師記入!Q11=\"\",\"\",医師記入!Q11)","v":""}]
[null,"治療",null,null,{"$f":"IF(医師記入!E12=\"\",\"\",医師記入!E12)","v":""},null,null,null,null,{"$f":"IF(医師記入!J12=\"\",\"\",医師記入!J12)","v":""},null,null,null,null,{"$f":"IF(医師記入!O12=\"\",\"\",医師記入!O12)","v":""}]
[null,"手術",null,null,{"$f":"IF(医師記入!E17=\"\",\"\",医師記入!E17)","v":""},null,null,null,null,{"$f":"IF(医師記入!J17=\"\",\"\",医師記入!J17)","v":""},null,null,null,null,{"$f":"IF(医師記入!O17=\"\",\"\",医師記入!O17)","v":""}]
[]
[null,null,"（医師）コメント"]
[]
[null,null,"　　　年　　月　　日"]
[]
[null,"氏名："]

{"sheet":"看護師記入4","index":39,"n_rows":10,"n_cols":11,"rows_kept":10,"cut":false,"hidden":false,"merged":[[9,1,30,19],[2,1,2,2],[2,3,2,6],[2,7,2,9],[2,10,2,15],[7,2,7,6]]}
[]
[]
[null,"患者ID",null,{"$f":"IF(患者基本情報!E6=\"\",\"\",患者基本情報!E6)","v":0},null,null,null,"患者氏名",null,null,{"$f":"IF(患者基本情報!E8=\"\",\"\",患者基本情報!E8)","v":0}]
[]
[]
[null,null,"（看護師）コメント"]
[]
[null,null,"　　　年　　月　　日"]
[]
[null,"氏名："]

{"sheet":"ケアマネ記入4","index":40,"n_rows":10,"n_cols":11,"rows_kept":10,"cut":false,"hidden":false,"merged":[[9,1,30,19],[2,1,2,2],[2,3,2,6],[2,7,2,9],[2,10,2,15],[7,2,7,6]]}
[]
[]
[null,"患者ID",null,{"$f":"IF(患者基本情報!E6=\"\",\"\",患者基本情報!E6)","v":0},null,null,null,"患者氏名",null,null,{"$f":"IF(患者基本情報!E8=\"\",\"\",患者基本情報!E8)","v":0}]
[]
[]
[null,null,"（ケアマネ）コメント"]
[]
[null,null,"　　　年　　月　　日"]
[]
[null,"氏名："]

{"sheet":"回復期報告用FAX","index":41,"n_rows":33,"n_cols":16,"rows_kept":33,"cut":false,"hidden":false,"merged":[[26,1,28,19],[15,1,15,8],[15,9,15,19],[23,1,23,4],[21,5,21,12],[23,5,23,12],[18,1,18,3],[18,4,18,8],[21,15,21,19],[23,15,23,19],[21,13,21,14],[23,13,23,14],[21,1,21,4],[13,1,13,3],[13,9,13,11],[13,4,13,8],[18,12,18,19],[18,9,18,11],[13,12,13,19],[0,1,0,19],[4,1,4,19],[11,1,11,9],[11,10,11,14],[11,15,11,19],[10,1,10,9],[2,5,2,15],[10,10,10,14],[10,15,10,19]]}
[null,"地域連携パス使用患者　転院・退院連絡　FAX"]
[]
[null,null,null,null,null,"０８８０ー６６－２２２３"]
[]
[null,"高知県立幡多けんみん病院　診療情報管理室（地域医療室）行き　　"]
[]
[null,null,null,null,null,"■","脳卒中"]
[null," パス種類",null,null,null,"□","大腿骨頸部骨折"]
[null,null,null,null,null,"□","その他（　　　　　　　　　　　　　　）"]
[]
[null,"送信元医療機関・施設名",null,null,null,null,null,null,null,null,"連絡部署",null,null,null,null,"担当者"]
[null,{"$f":"患者基本情報!F38","v":0}]
[null,null,null,null,"※幡多けんみん病院から問い合わせする場合の連絡先部署・担当者を教えてください"]
[null,"患者 I D",null,null,{"$f":"患者基本情報!E6","v":0},null,null,null,null,"患者氏名",null,null,{"$f":"患者基本情報!E8","v":0}]
[]
[null,"退院日・転棟日",null,null,null,null,null,null,null,{"$f":"患者基本情報!P32","v":"00:00:00"}]
[]
[]
[null,"転帰",null,null,{"$f":"患者基本情報!Q34","v":0},null,null,null,null,"その他"]
[null,null,null,null,null,null,null,null,null,null,"　　　介護療養病棟転棟など、リハビリ終了","　　　介護療養病棟転棟など、リハビリ終了","　　　介護療養病棟転棟など、リハビリ終了"]
[null,"１維持期の場合"]
[null,"転帰先\n医療機関名",null,null,null,{"$f":"患者基本情報!Q38","v":0},null,null,null,null,null,null,null,"退院日\n転院日"]
[null,"２在宅の場合"]
[null,"外来受診予定\n医療機関名",null,null,null,null,null,null,null,null,null,null,null,"受診予定日"]
[]
[null,"〈備考〉"]
[]
[]
[]
["※入力を完成させてからFAX送信して下さい。"]
[]
["※しまんとネットが未接続の場合は、FAX送信後「地域連携パスシート」"]
["　コピーを幡多けんみん病院診療情報管理室まで郵送してください。"]

{"sheet":"維持期報告用FAX","index":42,"n_rows":33,"n_cols":16,"rows_kept":33,"cut":false,"hidden":false,"merged":[[13,4,13,8],[13,12,13,19],[10,10,10,14],[10,1,10,9],[13,1,13,3],[13,9,13,11],[0,1,0,19],[4,1,4,19],[11,1,11,9],[11,10,11,14],[11,15,11,19],[10,15,10,19],[2,5,2,15],[26,1,28,19],[15,1,15,8],[15,9,15,19],[23,1,23,4],[21,5,21,12],[23,5,23,12],[21,1,21,4],[21,13,21,14],[23,13,23,14],[21,15,21,19],[23,15,23,19],[18,1,18,3],[18,4,18,8],[18,9,18,11],[18,12,18,19]]}
[null,"地域連携パス使用患者　転院・退院連絡　FAX"]
[]
[null,null,null,null,null,"０８８０ー６６－２２２３"]
[]
[null,"高知県立幡多けんみん病院　診療情報管理室（地域医療室）行き　　"]
[]
[null,null,null,null,null,"■","脳卒中"]
[null," パス種類",null,null,null,"□","大腿骨頸部骨折"]
[null,null,null,null,null,"□","その他（　　　　　　　　　　　　　　）"]
[]
[null,"送信元医療機関・施設名",null,null,null,null,null,null,null,null,"連絡部署",null,null,null,null,"担当者"]
[null,{"$f":"患者基本情報!Q38","v":0}]
[null,null,null,null,"※幡多けんみん病院から問い合わせする場合の連絡先部署・担当者を教えてください"]
[null,"患者 I D",null,null,{"$f":"患者基本情報!E6","v":0},null,null,null,null,"患者氏名",null,null,{"$f":"患者基本情報!E8","v":0}]
[]
[null,"退院日・転棟日",null,null,null,null,null,null,null,{"$f":"患者基本情報!AA32","v":"00:00:00"}]
[]
[]
[null,"転帰",null,null,{"$f":"患者基本情報!AB34","v":0},null,null,null,null,"その他"]
[null,null,null,null,null,null,null,null,null,null,"　　　介護療養病棟転棟など、リハビリ終了","　　　介護療養病棟転棟など、リハビリ終了","　　　介護療養病棟転棟など、リハビリ終了"]
[null,"３施設の場合"]
[null,"転帰先\n医療機関名",null,null,null,null,null,null,null,null,null,null,null,"退院日\n転院日"]
[null,"２在宅の場合"]
[null,"外来受診予定\n医療機関名",null,null,null,null,null,null,null,null,null,null,null,"受診予定日"]
[]
[null,"〈備考〉"]
[]
[]
[]
["※入力を完成させてからFAX送信して下さい。"]
[]
["※しまんとネットが未接続の場合は、FAX送信後「地域連携パスシート」"]
["　コピーを幡多けんみん病院診療情報管理室まで郵送してください。"]

{"sheet":"在宅維持期報告用FAX","index":43,"n_rows":33,"n_cols":16,"rows_kept":33,"cut":false,"hidden":false,"merged":[[13,1,13,3],[26,1,28,19],[15,1,15,8],[15,9,15,19],[23,1,23,4],[21,5,21,12],[23,5,23,12],[18,1,18,3],[18,4,18,8],[18,9,18,11],[18,12,18,19],[21,1,21,4],[21,13,21,14],[23,13,23,14],[21,15,21,19],[23,15,23,19],[0,1,0,19],[4,1,4,19],[11,1,11,9],[11,10,11,14],[11,15,11,19],[10,10,10,14],[10,1,10,9],[1,22,1,25],[3,22,3,26],[13,9,13,11],[10,15,10,19],[2,5,2,15],[13,4,13,8],[13,12,13,19]]}
[null,"地域連携パス使用患者　転院・退院連絡　FAX"]
[]
[null,null,null,null,null,"０８８０ー６６－２２２３"]
[]
[null,"高知県立幡多けんみん病院　診療情報管理室（地域医療室）行き　　"]
[]
[null,null,null,null,null,"■","脳卒中"]
[null," パス種類",null,null,null,"□","大腿骨頸部骨折"]
[null,null,null,null,null,"□","その他（　　　　　　　　　　　　　　）"]
[]
[null,"送信元医療機関・施設名",null,null,null,null,null,null,null,null,"連絡部署",null,null,null,null,"担当者"]
[]
[null,null,null,null,"※幡多けんみん病院から問い合わせする場合の連絡先部署・担当者を教えてください"]
[null,"患者 I D",null,null,{"$f":"患者基本情報!E6","v":0},null,null,null,null,"患者氏名",null,null,{"$f":"患者基本情報!E8","v":0}]
[]
[null,"受診日",null,null,null,null,null,null,null,{"$f":"患者基本情報!AL32","v":"00:00:00"}]
[]
[]
[null,"転帰",null,null,{"$f":"患者基本情報!AM34","v":0},null,null,null,null,"その他"]
[null,null,null,null,null,null,null,null,null,null,"　　　介護療養病棟転棟など、リハビリ終了","　　　介護療養病棟転棟など、リハビリ終了","　　　介護療養病棟転棟など、リハビリ終了"]
[null,"３施設の場合"]
[null,"転帰先\n医療機関名",null,null,null,null,null,null,null,null,null,null,null,"退院日\n転院日"]
[null,"２在宅の場合"]
[null,"外来受診予定\n医療機関名",null,null,null,null,null,null,null,null,null,null,null,"受診予定日"]
[]
[null,"〈備考〉"]
[]
[]
[]
["※入力を完成させてからFAX送信して下さい。"]
[]
["※しまんとネットが未接続の場合は、FAX送信後「地域連携パスシート」"]
["　コピーを幡多けんみん病院診療情報管理室まで郵送してください。"]

{"sheet":"リスト","index":44,"n_rows":45,"n_cols":36,"rows_kept":45,"cut":false,"hidden":false,"merged":[]}
[]
[]
[null,"診断名",null,null,"部位名_全","部位名_梗塞","部位名_脳出血","部位名_くも膜下",null,"治療",null,"手術",null,"左右",null,"ADL",null,"寝たきり度",null,"自立度",null,"介護認定",null,"生活場所",null,"認知症",null,"義歯",null,"有無",null,"転院",null,"職種",null,"測定"]
[null,"ラクナ梗塞",null,null,"前頭葉","基底核","被殻","前交通動脈瘤",null,"オザグレル",null,"開頭脳内血腫除去術",null,"左",null,"自立",null,"正常",null,"正常",null,"なし",null,"自宅",null,"なし",null,"良好",null,"有り",null,"連携病院転院",null,"医師"]
[null,"アテローム血栓性梗塞",null,null,"側頭葉","視床","視床","中大脳動脈瘤",null,"スロンノン",null,"穿頭血腫除去術",null,"右",null,"介助",null,"J1",null,"Ⅰ",null,"要支援１",null,"施設",null,"妄想",null,"不良",null,"無し",null,"連携病院外",null,"看護師",null,"測定なし"]
[null,"心原性脳塞栓",null,null,"後頭葉","放線冠","皮質下","内頚動脈－後交通動脈",null,"ヘパリン",null,"クリッピング",null,"両側",null,null,null,"J2",null,"Ⅱa",null,"要支援２",null,null,null,"幻覚",null,"無",null,null,null,"転院なし",null,"リハビリ"]
[null,"TIA",null,null,"頭頂葉","脳幹","脳幹","内頚動脈",null,"エダラボン",null,"頚動脈血栓内膜切除術",null,null,null,null,null,"A1",null,"Ⅱｂ",null,"要介護１",null,null,null,"不安",null,null,null,null,null,null,null,"MSW"]
[null,"脳出血",null,null,"小脳","小脳","小脳","内頚動脈－前脈絡動脈",null,"ｒｔ－PA",null,"血管吻合術",null,"感染症",null,null,null,"A2",null,"Ⅲa",null,"要介護２",null,null,null,"依存",null,"衛生",null,"済み",null,null,null,"薬剤師"]
[null,"くも膜下出血",null,null,"脳幹","頚部内頚動脈狭窄","不明","内頚動脈－眼動脈",null,null,null,"シャント",null,"HB",null,null,null,"B1",null,"Ⅲｂ",null,"要介護３",null,null,null,"徘徊",null,"良好",null,"未",null,null,null,"栄養士"]
[null,"解離性",null,null,"基底核","頚部内頚動脈閉塞",null,"前大脳動脈遠位部",null,null,null,"PTA",null,"HC",null,null,null,"B2",null,"Ⅳ",null,"要介護４",null,null,null,null,null,"不良",null,"済",null,null,null,"担当ケアマネ"]
[null,"その他（直接記入してください）",null,null,"視床","内頚動脈狭窄",null,"脳底動脈先端部",null,null,null,"ステント",null,"WA",null,null,null,"C1",null,"Ｍ",null,"要介護５",null,null,null,null,null,"悪"]
[null,null,null,null,"放線冠","内頚動脈閉塞",null,"脳底動脈",null,null,null,"coil塞栓術",null,null,null,null,null,"C2",null,null,null,null,null,null,null,null,null,null,null,"済み２"]
[null,null,null,null,"頚部内頚動脈狭窄","中大脳動脈狭窄",null,"椎骨動脈",null,null,null,"その他",null,null,null,null,null,null,null,null,null,null,null,null,null,null,null,null,null,"未"]
[null,null,null,null,"頚部内頚動脈閉塞","中大脳動脈閉塞",null,"解離性動脈瘤",null,null,null,null,null,null,null,null,null,null,null,null,null,null,null,null,null,null,null,null,null,"実施中"]
[null,null,null,null,"内頚動脈狭窄","前大脳動脈狭窄",null,"不明"]
[null,null,null,null,"内頚動脈閉塞","前大脳動脈閉塞",null,null,null,null,null,null,null,null,null,null,null,null,null,null,null,null,null,"転帰",null,null,null,"転帰2",null,null,null,null,null,null,null,"体重測定"]
[null,null,null,null,"中大脳動脈狭窄","後大脳動脈狭窄",null,null,null,null,null,null,null,null,null,null,null,null,null,null,null,null,null,"1回復期リハビリ病棟",null,null,null,"1維持期"]
[null,null,null,null,"中大脳動脈閉塞","後大脳動脈閉塞",null,null,null,"TPA使用",null,null,null,null,null,"喫煙",null,null,null,"BI",null,null,null,"2介護老人福祉施設",null,null,null,"2在宅",null,null,null,null,null,null,null,"実測"]
[null,null,null,null,"前大脳動脈狭窄","不明",null,null,null,"1あり",null,null,null,null,null,"1習慣的に喫煙している",null,null,null,15,null,null,null,"3介護老人保健施設",null,null,null,"3施設",null,null,null,null,null,null,null,"推定"]
[null,"発症区分",null,null,"前大脳動脈閉塞",null,"基礎疾患",null,null,"2なし",null,null,null,null,null,"2喫煙していない",null,null,null,10,null,null,null,"4療養病床(医療保険)",null,null,null,"4死亡"]
[null,"初発",null,null,"後大脳動脈狭窄",null,"高血圧症",null,null,null,null,null,null,null,null,"3喫煙していた",null,null,null,5,null,null,null,"5療養病床(介護保険)",null,null,null,"5その他"]
[null,"再発",null,null,"後大脳動脈閉塞",null,"1高血圧あり(内服あり)",null,null,null,null,null,null,null,null,"4不明",null,null,null,0,null,null,null,"6自宅(在宅施設含む)"]
[null,"3回以上",null,null,"被殻",null,"2高血圧あり(内服なし)",null,null,null,null,null,null,null,null,null,null,null,null,null,null,null,null,"7その他"]
[null,null,null,null,"視床",null,"3高血圧なし",null,null,null,null,null,null,null,null,"アルコール",null,null,null,null,null,null,null,"8死亡"]
[null,null,null,null,"皮質下",null,"4不明",null,null,null,null,null,null,null,null,"1ときどき飲酒する"]
[null,"診断名分類",null,null,"脳幹",null,null,null,null,null,null,null,null,null,null,"2ほぼ毎日飲酒する"]
[null,"脳梗塞",null,null,"小脳",null,"糖尿病",null,null,"排便",null,null,null,null,null,"3飲酒しない"]
[null,"脳出血",null,null,"前交通動脈瘤",null,"1糖尿病あり(治療あり)",null,null,"普通便",null,null,null,null,null,"4不明"]
[null,"くも膜下出血",null,null,"中大脳動脈瘤",null,"2糖尿病あり(未治療)",null,null,"軟便",null,null,null,null,null,null,null,null,null,null,null,null,null,"搬送・入院区分"]
[null,null,null,null,"内頚動脈－後交通動脈",null,"3糖尿病なし",null,null,"下痢便",null,null,null,null,null,null,null,null,null,null,null,null,null,"1救急車(5以外の場合の転院を含む)"]
[null,null,null,null,"内頚動脈",null,"4不明",null,null,null,null,null,null,null,null,null,null,null,null,null,null,null,null,"2ヘリ"]
[null,null,null,null,"内頚動脈－前脈絡動脈",null,null,null,null,null,null,null,null,null,null,null,null,null,null,null,null,null,null,"3救急車・ヘリ以外"]
[null,null,null,null,"内頚動脈－眼動脈",null,"心房細動",null,null,"清拭",null,null,null,null,null,null,null,null,null,null,null,null,null,"4院内発症"]
[null,null,null,null,"前大脳動脈遠位部",null,"1心房細動あり(抗凝固あり)",null,null,"清拭",null,null,null,null,null,null,null,null,null,null,null,null,null,"5救急車(脳卒中センター・脳卒中支援センターに24時間以上入院した患者の転院の場合)"]
[null,"合併症",null,null,"脳底動脈先端部",null,"2心房細動あり(抗凝固なし)",null,null,"シャワー（臥位）"]
[null,"1入院中に抗生剤を投与した肺炎あり",null,null,"脳底動脈",null,"3心房細動なし",null,null,"シャワー（座位）"]
[null,"2肺炎なし",null,null,"椎骨動脈",null,"4不明",null,null,"シャワー（立位）"]
[null,"3不明",null,null,"解離性動脈瘤",null,null,null,null,"入浴"]
[null,"4その他(　)",null,null,"不明",null,"脂質異常"]
[null,null,null,null,null,null,"1脂質異常症あり(治療あり)"]
[null,null,null,null,null,null,"2脂質異常症あり(治療なし)"]
[null,null,null,null,null,null,"3脂質異常症なし"]
[null,null,null,null,null,null,"4不明"]
[null,"削除区分"]
[null,"削除"]

{"sheet":"etc","index":45,"n_rows":6,"n_cols":4,"rows_kept":6,"cut":false,"hidden":false,"merged":[[2,1,2,3]]}
[]
[]
[null,"オーバービュー印刷範囲"]
[null,"今回分","A１","BM40"]
[null,"前回分","A41","BM80"]
[null,"前前回分","A81","BM120"]

{"sheet":"STATIST","index":46,"n_rows":8,"n_cols":249,"rows_kept":8,"cut":false,"hidden":false,"merged":[]}
[{"$f":"患者基本情報!E6","v":0},{"$f":"患者基本情報!E8","v":0},{"$f":"患者基本情報!M8","v":""},{"$f":"急性期ｵｰﾊﾞｰﾋﾞｭｰ!AY3","v":""},{"$f":"急性期ｵｰﾊﾞｰﾋﾞｭｰ!BE3","v":""},{"$f":"急性期ｵｰﾊﾞｰﾋﾞｭｰ!BK3","v":""},{"$f":"急性期ｵｰﾊﾞｰﾋﾞｭｰ!AS13","v":""},{"$f":"急性期ｵｰﾊﾞｰﾋﾞｭｰ!BB5","v":0},null,{"$f":"急性期ｵｰﾊﾞｰﾋﾞｭｰ!C4","v":""},{"$f":"急性期ｵｰﾊﾞｰﾋﾞｭｰ!M4","v":""},{"$f":"急性期ｵｰﾊﾞｰﾋﾞｭｰ!U4","v":""},{"$f":"急性期ｵｰﾊﾞｰﾋﾞｭｰ!X4","v":""},{"$f":"急性期ｵｰﾊﾞｰﾋﾞｭｰ!AF4","v":""},{"$f":"急性期ｵｰﾊﾞｰﾋﾞｭｰ!AI4","v":""},{"$f":"急性期ｵｰﾊﾞｰﾋﾞｭｰ!AQ4","v":""},{"$f":"急性期ｵｰﾊﾞｰﾋﾞｭｰ!AH5","v":""},{"$f":"急性期ｵｰﾊﾞｰﾋﾞｭｰ!AN5","v":""},{"$f":"急性期ｵｰﾊﾞｰﾋﾞｭｰ!AT5","v":""},{"$f":"急性期ｵｰﾊﾞｰﾋﾞｭｰ!AS15","v":""},{"$f":"急性期ｵｰﾊﾞｰﾋﾞｭｰ!AS20","v":""},{"$f":"急性期ｵｰﾊﾞｰﾋﾞｭｰ!Q17","v":0},{"$f":"急性期ｵｰﾊﾞｰﾋﾞｭｰ!T17","v":0},{"$f":"急性期ｵｰﾊﾞｰﾋﾞｭｰ!W17","v":0},{"$f":"急性期ｵｰﾊﾞｰﾋﾞｭｰ!AD17","v":0},{"$f":"急性期ｵｰﾊﾞｰﾋﾞｭｰ!AG17","v":0},{"$f":"急性期ｵｰﾊﾞｰﾋﾞｭｰ!AJ17","v":0},{"$f":"急性期ｵｰﾊﾞｰﾋﾞｭｰ!P29","v":""},{"$f":"急性期ｵｰﾊﾞｰﾋﾞｭｰ!AC29","v":""},null,{"$f":"急性期ｵｰﾊﾞｰﾋﾞｭｰ!BL24","v":0},{"$f":"急性期ｵｰﾊﾞｰﾋﾞｭｰ!N5","v":""},{"$f":"急性期ｵｰﾊﾞｰﾋﾞｭｰ!T5","v":""},{"$f":"急性期ｵｰﾊﾞｰﾋﾞｭｰ!Z5","v":""},{"$f":"回復期ｵｰﾊﾞｰﾋﾞｭｰ!AY3","v":""},{"$f":"回復期ｵｰﾊﾞｰﾋﾞｭｰ!BE3","v":""},{"$f":"回復期ｵｰﾊﾞｰﾋﾞｭｰ!BK3","v":""},{"$f":"回復期ｵｰﾊﾞｰﾋﾞｭｰ!AS13","v":""},{"$f":"回復期ｵｰﾊﾞｰﾋﾞｭｰ!BB5","v":0},null,{"$f":"患者基本情報!Q38","v":0},{"$f":"患者基本情報!Q40","v":0},{"$f":"回復期ｵｰﾊﾞｰﾋﾞｭｰ!AS21","v":""},{"$f":"回復期ｵｰﾊﾞｰﾋﾞｭｰ!Q16","v":0},{"$f":"回復期ｵｰﾊﾞｰﾋﾞｭｰ!T16","v":0},{"$f":"回復期ｵｰﾊﾞｰﾋﾞｭｰ!W16","v":0},{"$f":"回復期ｵｰﾊﾞｰﾋﾞｭｰ!AD16","v":0},{"$f":"回復期ｵｰﾊﾞｰﾋﾞｭｰ!AG16","v":0},{"$f":"回復期ｵｰﾊﾞｰﾋﾞｭｰ!AJ16","v":0},{"$f":"回復期ｵｰﾊﾞｰﾋﾞｭｰ!P29","v":""},{"$f":"回復期ｵｰﾊﾞｰﾋﾞｭｰ!AC29","v":""},{"$f":"回復期ｵｰﾊﾞｰﾋﾞｭｰ!BE24","v":0},{"$f":"回復期ｵｰﾊﾞｰﾋﾞｭｰ!BL24","v":0},{"$f":"回復期ｵｰﾊﾞｰﾋﾞｭｰ!N5","v":""},{"$f":"回復期ｵｰﾊﾞｰﾋﾞｭｰ!T5","v":""},{"$f":"回復期ｵｰﾊﾞｰﾋﾞｭｰ!Z5","v":""},{"$f":"維持期ｵｰﾊﾞｰﾋﾞｭｰ!AY3","v":""},{"$f":"維持期ｵｰﾊﾞｰﾋﾞｭｰ!BE3","v":""},{"$f":"維持期ｵｰﾊﾞｰﾋﾞｭｰ!BK3","v":""},{"$f":"維持期ｵｰﾊﾞｰﾋﾞｭｰ!AS13","v":""},{"$f":"維持期ｵｰﾊﾞｰﾋﾞｭｰ!BB5","v":0},null,{"$f":"患者基本情報!AB38","v":0},{"$f":"患者基本情報!AB40","v":0},{"$f":"維持期ｵｰﾊﾞｰﾋﾞｭｰ!AS21","v":""},{"$f":"維持期ｵｰﾊﾞｰﾋﾞｭｰ!Q16","v":0},{"$f":"維持期ｵｰﾊﾞｰﾋﾞｭｰ!T16","v":0},{"$f":"維持期ｵｰﾊﾞｰﾋﾞｭｰ!W16","v":0},{"$f":"維持期ｵｰﾊﾞｰﾋﾞｭｰ!AD16","v":0},{"$f":"維持期ｵｰﾊﾞｰﾋﾞｭｰ!AG16","v":0},{"$f":"維持期ｵｰﾊﾞｰﾋﾞｭｰ!AJ16","v":0},{"$f":"維持期ｵｰﾊﾞｰﾋﾞｭｰ!P29","v":0},{"$f":"維持期ｵｰﾊﾞｰﾋﾞｭｰ!AC29","v":""},{"$f":"維持期ｵｰﾊﾞｰﾋﾞｭｰ!BE24","v":0},{"$f":"維持期ｵｰﾊﾞｰﾋﾞｭｰ!BL24","v":0},{"$f":"維持期ｵｰﾊﾞｰﾋﾞｭｰ!N5","v":""},{"$f":"維持期ｵｰﾊﾞｰﾋﾞｭｰ!T5","v":""},{"$f":"維持期ｵｰﾊﾞｰﾋﾞｭｰ!Z5","v":""},{"$f":"在宅維持期ｵｰﾊﾞｰﾋﾞｭｰ!AY3","v":""},{"$f":"在宅維持期ｵｰﾊﾞｰﾋﾞｭｰ!BE3","v":""},{"$f":"在宅維持期ｵｰﾊﾞｰﾋﾞｭｰ!AF13","v":""},{"$f":"在宅維持期ｵｰﾊﾞｰﾋﾞｭｰ!BG2","v":0},null,null,null,{"$f":"在宅維持期ｵｰﾊﾞｰﾋﾞｭｰ!AF19","v":""},{"$f":"在宅維持期ｵｰﾊﾞｰﾋﾞｭｰ!$R19","v":""},{"$f":"在宅維持期ｵｰﾊﾞｰﾋﾞｭｰ!W22","v":0},{"$f":"在宅維持期ｵｰﾊﾞｰﾋﾞｭｰ!N5","v":""},{"$f":"在宅維持期ｵｰﾊﾞｰﾋﾞｭｰ!T5","v":""},{"$f":"在宅維持期ｵｰﾊﾞｰﾋﾞｭｰ!Z5","v":""},{"$f":"急性期ｵｰﾊﾞｰﾋﾞｭｰ!C3","v":0},88,{"$f":"急性期ｵｰﾊﾞｰﾋﾞｭｰ!L6","v":""},{"$f":"急性期ｵｰﾊﾞｰﾋﾞｭｰ!E27","v":""},{"$f":"急性期ｵｰﾊﾞｰﾋﾞｭｰ!C4","v":""},{"$f":"急性期ｵｰﾊﾞｰﾋﾞｭｰ!AY3","v":""},{"$f":"急性期ｵｰﾊﾞｰﾋﾞｭｰ!AD6","v":""},{"$f":"急性期ｵｰﾊﾞｰﾋﾞｭｰ!AK6","v":""},{"$f":"急性期ｵｰﾊﾞｰﾋﾞｭｰ!BK4","v":""},{"$f":"急性期ｵｰﾊﾞｰﾋﾞｭｰ!Q6","v":""},{"$f":"急性期ｵｰﾊﾞｰﾋﾞｭｰ!D12","v":0},{"$f":"急性期ｵｰﾊﾞｰﾋﾞｭｰ!D13","v":0},{"$f":"急性期ｵｰﾊﾞｰﾋﾞｭｰ!AQ40","v":""},{"$f":"急性期ｵｰﾊﾞｰﾋﾞｭｰ!D14","v":0},{"$f":"急性期ｵｰﾊﾞｰﾋﾞｭｰ!D15","v":0},{"$f":"急性期ｵｰﾊﾞｰﾋﾞｭｰ!AQ38","v":""},{"$f":"急性期ｵｰﾊﾞｰﾋﾞｭｰ!AQ37","v":""},{"$f":"急性期ｵｰﾊﾞｰﾋﾞｭｰ!AQ39","v":""},{"$f":"急性期ｵｰﾊﾞｰﾋﾞｭｰ!D16","v":0},{"$f":"急性期ｵｰﾊﾞｰﾋﾞｭｰ!AS22","v":0},{"$f":"急性期ｵｰﾊﾞｰﾋﾞｭｰ!D17","v":0},{"$f":"急性期ｵｰﾊﾞｰﾋﾞｭｰ!F18","v":0},{"$f":"急性期ｵｰﾊﾞｰﾋﾞｭｰ!I18","v":0},{"$f":"急性期ｵｰﾊﾞｰﾋﾞｭｰ!F19","v":0},{"$f":"急性期ｵｰﾊﾞｰﾋﾞｭｰ!AS6","v":""},{"$f":"急性期ｵｰﾊﾞｰﾋﾞｭｰ!BE3","v":""},{"$f":"急性期ｵｰﾊﾞｰﾋﾞｭｰ!AS13","v":""},{"$f":"急性期ｵｰﾊﾞｰﾋﾞｭｰ!BB5","v":0},{"$f":"急性期ｵｰﾊﾞｰﾋﾞｭｰ!O12","v":""},{"$f":"急性期ｵｰﾊﾞｰﾋﾞｭｰ!AB12","v":""},{"$f":"急性期ｵｰﾊﾞｰﾋﾞｭｰ!S12","v":""},{"$f":"急性期ｵｰﾊﾞｰﾋﾞｭｰ!AF12","v":""},{"$f":"急性期ｵｰﾊﾞｰﾋﾞｭｰ!W12","v":""},{"$f":"急性期ｵｰﾊﾞｰﾋﾞｭｰ!AJ12","v":""},{"$f":"MMT!J39","v":"999999"},{"$f":"MMT!J40","v":"999999"},{"$f":"Brunnstrom!J113","v":"999999"},{"$f":"Brunnstrom!J114","v":"999999"},{"$f":"急性期ｵｰﾊﾞｰﾋﾞｭｰ!O18","v":0},{"$f":"急性期ｵｰﾊﾞｰﾋﾞｭｰ!S18","v":0},{"$f":"急性期ｵｰﾊﾞｰﾋﾞｭｰ!W18","v":0},{"$f":"急性期ｵｰﾊﾞｰﾋﾞｭｰ!O19","v":0},{"$f":"急性期ｵｰﾊﾞｰﾋﾞｭｰ!S19","v":0},{"$f":"急性期ｵｰﾊﾞｰﾋﾞｭｰ!W19","v":0},{"$f":"急性期ｵｰﾊﾞｰﾋﾞｭｰ!AB18","v":0},{"$f":"急性期ｵｰﾊﾞｰﾋﾞｭｰ!AF18","v":0},{"$f":"急性期ｵｰﾊﾞｰﾋﾞｭｰ!AJ18","v":0},{"$f":"急性期ｵｰﾊﾞｰﾋﾞｭｰ!AB19","v":0},{"$f":"急性期ｵｰﾊﾞｰﾋﾞｭｰ!AF19","v":0},{"$f":"急性期ｵｰﾊﾞｰﾋﾞｭｰ!AJ19","v":0},{"$f":"急性期ｵｰﾊﾞｰﾋﾞｭｰ!P26","v":""},{"$f":"急性期ｵｰﾊﾞｰﾋﾞｭｰ!AC26","v":""},{"$f":"急性期ｵｰﾊﾞｰﾋﾞｭｰ!P27","v":""},{"$f":"急性期ｵｰﾊﾞｰﾋﾞｭｰ!AC27","v":""},{"$f":"急性期ｵｰﾊﾞｰﾋﾞｭｰ!P28","v":""},{"$f":"急性期ｵｰﾊﾞｰﾋﾞｭｰ!AC28","v":""},{"$f":"MMT!J43","v":"999999"},{"$f":"MMT!J44","v":"999999"},{"$f":"Brunnstrom!J117","v":"999999"},{"$f":"Brunnstrom!J118","v":"999999"},{"$f":"回復期ｵｰﾊﾞｰﾋﾞｭｰ!O17","v":0},{"$f":"回復期ｵｰﾊﾞｰﾋﾞｭｰ!S17","v":0},{"$f":"回復期ｵｰﾊﾞｰﾋﾞｭｰ!W17","v":0},{"$f":"回復期ｵｰﾊﾞｰﾋﾞｭｰ!O18","v":0},{"$f":"回復期ｵｰﾊﾞｰﾋﾞｭｰ!S18","v":0},{"$f":"回復期ｵｰﾊﾞｰﾋﾞｭｰ!W18","v":0},{"$f":"回復期ｵｰﾊﾞｰﾋﾞｭｰ!AB17","v":0},{"$f":"回復期ｵｰﾊﾞｰﾋﾞｭｰ!AF17","v":0},{"$f":"回復期ｵｰﾊﾞｰﾋﾞｭｰ!AJ17","v":0},{"$f":"回復期ｵｰﾊﾞｰﾋﾞｭｰ!AB18","v":0},{"$f":"回復期ｵｰﾊﾞｰﾋﾞｭｰ!AF18","v":0},{"$f":"回復期ｵｰﾊﾞｰﾋﾞｭｰ!AJ18","v":0},{"$f":"回復期ｵｰﾊﾞｰﾋﾞｭｰ!P26","v":""},{"$f":"回復期ｵｰﾊﾞｰﾋﾞｭｰ!AC26","v":""},{"$f":"回復期ｵｰﾊﾞｰﾋﾞｭｰ!P27","v":""},{"$f":"回復期ｵｰﾊﾞｰﾋﾞｭｰ!AC27","v":""},{"$f":"回復期ｵｰﾊﾞｰﾋﾞｭｰ!P28","v":""},{"$f":"回復期ｵｰﾊﾞｰﾋﾞｭｰ!AC28","v":""},{"$f":"MMT!J47","v":"999999"},{"$f":"MMT!J48","v":"999999"},{"$f":"Brunnstrom!J121","v":"999999"},{"$f":"Brunnstrom!J122","v":"999999"},{"$f":"維持期ｵｰﾊﾞｰﾋﾞｭｰ!O17","v":0},{"$f":"維持期ｵｰﾊﾞｰﾋﾞｭｰ!S17","v":0},{"$f":"維持期ｵｰﾊﾞｰﾋﾞｭｰ!W17","v":0},{"$f":"維持期ｵｰﾊﾞｰﾋﾞｭｰ!O18","v":0},{"$f":"維持期ｵｰﾊﾞｰﾋﾞｭｰ!S18","v":0},{"$f":"維持期ｵｰﾊﾞｰﾋﾞｭｰ!W18","v":0},{"$f":"維持期ｵｰﾊﾞｰﾋﾞｭｰ!AB17","v":0},{"$f":"維持期ｵｰﾊﾞｰﾋﾞｭｰ!AF17","v":0},{"$f":"維持期ｵｰﾊﾞｰﾋﾞｭｰ!AJ17","v":0},{"$f":"維持期ｵｰﾊﾞｰﾋﾞｭｰ!AB18","v":0},{"$f":"維持期ｵｰﾊﾞｰﾋﾞｭｰ!AF18","v":0},{"$f":"維持期ｵｰﾊﾞｰﾋﾞｭｰ!AJ18","v":0},{"$f":"維持期ｵｰﾊﾞｰﾋﾞｭｰ!P26","v":0},{"$f":"維持期ｵｰﾊﾞｰﾋﾞｭｰ!AC26","v":""},{"$f":"維持期ｵｰﾊﾞｰﾋﾞｭｰ!P27","v":0},{"$f":"維持期ｵｰﾊﾞｰﾋﾞｭｰ!AC27","v":""},{"$f":"維持期ｵｰﾊﾞｰﾋﾞｭｰ!P28","v":0},{"$f":"維持期ｵｰﾊﾞｰﾋﾞｭｰ!AC28","v":""},{"$f":"MMT!J51","v":"999999"},{"$f":"Brunnstrom!J125","v":"999999"},{"$f":"在宅維持期ｵｰﾊﾞｰﾋﾞｭｰ!R16","v":""},{"$f":"在宅維持期ｵｰﾊﾞｰﾋﾞｭｰ!R17","v":""},{"$f":"在宅維持期ｵｰﾊﾞｰﾋﾞｭｰ!R18","v":""},{"$f":"急性期ｵｰﾊﾞｰﾋﾞｭｰ!BL36","v":0},{"$f":"急性期ｵｰﾊﾞｰﾋﾞｭｰ!BL37","v":0},{"$f":"急性期ｵｰﾊﾞｰﾋﾞｭｰ!BL38","v":0},{"$f":"急性期ｵｰﾊﾞｰﾋﾞｭｰ!BL39","v":0},{"$f":"急性期ｵｰﾊﾞｰﾋﾞｭｰ!BL40","v":0},{"$f":"回復期ｵｰﾊﾞｰﾋﾞｭｰ!BL36","v":0},{"$f":"回復期ｵｰﾊﾞｰﾋﾞｭｰ!BL37","v":0},{"$f":"回復期ｵｰﾊﾞｰﾋﾞｭｰ!BL38","v":0},{"$f":"回復期ｵｰﾊﾞｰﾋﾞｭｰ!BL39","v":0},{"$f":"回復期ｵｰﾊﾞｰﾋﾞｭｰ!BL40","v":0},{"$f":"維持期ｵｰﾊﾞｰﾋﾞｭｰ!BL36","v":0},{"$f":"維持期ｵｰﾊﾞｰﾋﾞｭｰ!BL37","v":0},{"$f":"維持期ｵｰﾊﾞｰﾋﾞｭｰ!BL38","v":0},{"$f":"維持期ｵｰﾊﾞｰﾋﾞｭｰ!BL39","v":0},{"$f":"維持期ｵｰﾊﾞｰﾋﾞｭｰ!BL40","v":0},{"$f":"患者基本情報!V14","v":0},{"$f":"医師記入!Q14","v":0},{"$f":"FIM!U43+FIM!U44+FIM!U45+FIM!U46","v":0},{"$f":"FIM!U47+FIM!U48","v":0},{"$f":"回復期ｵｰﾊﾞｰﾋﾞｭｰ!AP41","v":0},{"$f":"FIM!U43","v":0},{"$f":"FIM!U44","v":0},{"$f":"FIM!U45","v":0},{"$f":"FIM!U46","v":0},{"$f":"FIM!U47","v":0},{"$f":"FIM!U48","v":0},{"$f":"回復期ｵｰﾊﾞｰﾋﾞｭｰ!AV41","v":""},{"$f":"医師記入!Q15","v":0},{"$f":"医師記入!N16","v":"00:00:00"},{"$f":"IF(MAS!D4=\"\",\"\",MAS!D4)","v":""},{"$f":"IF(MAS!E4=\"\",\"\",MAS!E4)","v":""},{"$f":"IF(MAS!F4=\"\",\"\",MAS!F4)","v":""},{"$f":"IF(MAS!G4=\"\",\"\",MAS!G4)","v":""},{"$f":"IF(MAS!H4=\"\",\"\",MAS!H4)","v":""},{"$f":"IF(MAS!I4=\"\",\"\",MAS!I4)","v":""},{"$f":"IF(MAS!D5=\"\",\"\",MAS!D5)","v":""},{"$f":"IF(MAS!E5=\"\",\"\",MAS!E5)","v":""},{"$f":"IF(MAS!F5=\"\",\"\",MAS!F5)","v":""},{"$f":"IF(MAS!G5=\"\",\"\",MAS!G5)","v":""},{"$f":"IF(MAS!H5=\"\",\"\",MAS!H5)","v":""},{"$f":"IF(MAS!I5=\"\",\"\",MAS!I5)","v":""},{"$f":"IF(MAS!D6=\"\",\"\",MAS!D6)","v":""},{"$f":"IF(MAS!E6=\"\",\"\",MAS!E6)","v":""},{"$f":"IF(MAS!F6=\"\",\"\",MAS!F6)","v":""},{"$f":"IF(MAS!G6=\"\",\"\",MAS!G6)","v":""},{"$f":"IF(MAS!H6=\"\",\"\",MAS!H6)","v":""},{"$f":"IF(MAS!I6=\"\",\"\",MAS!I6)","v":""},{"$f":"IF(MAS!D7=\"\",\"\",MAS!D7)","v":""},{"$f":"IF(MAS!E7=\"\",\"\",MAS!E7)","v":""},{"$f":"IF(MAS!F7=\"\",\"\",MAS!F7)","v":""},{"$f":"IF(MAS!G7=\"\",\"\",MAS!G7)","v":""},{"$f":"IF(MAS!H7=\"\",\"\",MAS!H7)","v":""},{"$f":"IF(MAS!I7=\"\",\"\",MAS!I7)","v":""}]
[]
[]
["患者ID","患者氏名","性別","急性期",null,null,null,null,null,null,null,null,null,null,null,null,null,null,null,null,null,null,null,null,null,null,null,null,null,null,null,null,null,null,"回復期",null,null,null,null,null,null,null,null,null,null,null,null,null,null,null,null,null,null,null,null,null,"維持期",null,null,null,null,null,null,null,null,null,null,null,null,null,null,null,null,null,null,null,null,null,"在宅維持期",null,null,null,null,null,null,null,null,null,null,null,null,"高知県脳卒中患者調査項目",null,null,null,null,null,null,null,null,null,null,null,null,null,null,null,null,null,null,null,null,null,null,null,null,null,null,null,"急性期（追加）",null,null,null,null,null,null,null,null,null,null,null,null,null,null,null,null,null,null,null,null,null,null,null,null,null,null,null,"回復期（追加）",null,null,null,null,null,null,null,null,null,null,null,null,null,null,null,null,null,null,null,null,null,"維持期（追加）",null,null,null,null,null,null,null,null,null,null,null,null,null,null,null,null,null,null,null,null,null,"在宅維持期（追加）",null,null,null,null,"急性期（追加）",null,null,null,null,"回復期（追加）",null,null,null,null,"維持期（追加）",null,null,null,null,"削除区分","高知県脳卒中患者調査項目","回復期・維持期（追加）",null,null,null,null,null,null,null,null,null,"高知県脳卒中患者調査項目",null,"高知県脳卒中患者調査項目"]
[null,null,null,"入院日","退院日","在院日数","転帰","備考","入院時年齢","疾患",null,null,null,null,null,null,"手術",null,null,"連携医療機関","HDS-R","FIM",null,null,null,null,null,"嚥下障害",null,"日常生活機能評価（合計）",null,"治療法",null,null,"入院日","退院日","在院日数","転帰","備考","入院時年齢","連携医療機関",null,"HDS-R","FIM",null,null,null,null,null,"嚥下障害",null,"日常生活機能評価（合計）",null,"治療法",null,null,"入院日","退院日","在院日数","転帰","備考","入院時年齢","連携医療機関",null,"HDS-R","FIM",null,null,null,null,null,"嚥下障害",null,"日常生活機能評価（合計）",null,"治療",null,null,"在宅復帰日","受診日","転帰","備考","入院時年齢","連携医療機関",null,"HDS-R","嚥下障害","BI（合計）","治療",null,null,"患者ID","年齢","性別","居住市町村","病名","入院日","発症日時","来院日時","発症区分","t-PA使用","基礎疾患",null,null,null,null,null,null,null,null,"合併症","喫煙","1日喫煙本数","喫煙継続年数","アルコール","搬送入院区分","退院日","転帰","備考","JCS",null,"GCS",null,"NIHSS",null,"MMT",null,"BS",null,"FIM",null,null,null,null,null,null,null,null,null,null,null,"感覚障害",null,"言語障害",null,"高次脳機能障害",null,"MMT",null,"BS",null,"FIM",null,null,null,null,null,null,null,null,null,null,null,"感覚障害",null,"言語障害",null,"高次脳機能障害",null,"MMT",null,"BS",null,"FIM",null,null,null,null,null,null,null,null,null,null,null,"感覚障害",null,"言語障害",null,"高次脳機能障害",null,"MMT","BS","感覚障害","言語障害","高次脳機能障害","生活指導",null,null,null,null,"生活指導",null,null,null,null,"生活指導",null,null,null,null,null,"t-PA投与後の出血性合併症","FIM",null,null,null,null,null,null,null,null,null,"t-PA使用禁忌の有無","t-PA療法開始時間","MAS"]
[null,null,null,null,null,null,null,null,null,"病名","部位","左右","部位","左右","部位","左右",null,null,null,null,null,"入院時",null,null,"退院時",null,null,"入院時","退院時","入院時","退院時",1,2,3,null,null,null,null,null,null,1,2,null,"入院時",null,null,"退院時",null,null,"入院時","退院時","入院時","退院時",1,2,3,null,null,null,null,null,null,1,2,null,"入院時",null,null,"退院時",null,null,"入院時","退院時","入院時","退院時",1,2,3,null,null,null,null,null,1,2,null,null,"入院時",1,2,3,null,null,null,null,null,null,null,null,null,null,"高血圧症","糖尿病","HbA1C","心房細動","脂質異常","HDL","LDL","TG","その他",null,null,null,null,null,null,null,null,null,"入院時","退院時","入院時","退院時","入院時","退院時","入院時","退院時","入院時","退院時","入院時",null,null,null,null,null,"退院時",null,null,null,null,null,"入院時","退院時","入院時","退院時","入院時","退院時","入院時","退院時","入院時","退院時","入院時",null,null,null,null,null,"退院時",null,null,null,null,null,"入院時","退院時","入院時","退院時","入院時","退院時","入院時","退院時","入院時","退院時","入院時",null,null,null,null,null,"退院時",null,null,null,null,null,"入院時","退院時","入院時","退院時","入院時","退院時",null,null,null,null,null,"血圧自己測定","内服自己管理","パンフレット指導","食事指導（栄養科）","服薬指導（薬剤科）","血圧自己測定","内服自己管理","パンフレット指導","食事指導（栄養科）","服薬指導（薬剤科）","血圧自己測定","内服自己管理","パンフレット指導","食事指導（栄養科）","服薬指導（薬剤科）",null,null,"90日後FIM",null,null,null,null,null,null,null,null,"90日後mRS",null,null,"肘関節伸展","手関節背屈","膝関節屈曲","膝関節伸展","足関節底屈","足関節背展","肘関節伸展","手関節背屈","膝関節屈曲","膝関節伸展","足関節底屈","足関節背展","肘関節伸展","手関節背屈","膝関節屈曲","膝関節伸展","足関節底屈","足関節背展","肘関節伸展","手関節背屈","膝関節屈曲","膝関節伸展","足関節底屈","足関節背展"]
[null,null,null,null,null,null,null,null,null,null,1,1,2,2,3,3,null,null,null,null,null,"運動","認知","合計","運動","認知","合計",null,null,"削除",null,null,null,null,null,null,null,null,null,null,null,null,null,"運動","認知","合計","運動","認知","合計",null,null,"削除",null,null,null,null,null,null,null,null,null,null,null,null,null,"運動","認知","合計","運動","認知","合計",null,null,null,null,null,null,null,null,null,null,null,null,"削除","削除",null,null,null,null,null,null,null,null,null,null,null,null,null,null,null,null,null,null,"NGSP値",null,null,null,null,null,null,null,null,null,null,null,null,null,null,null,null,null,null,null,null,null,null,null,null,null,"セルフケア","排泄","移乗","移動","コミュニ","社会認識","セルフケア","排泄","移乗","移動","コミュニ","社会認識",null,null,null,null,null,null,null,null,null,null,"セルフケア","排泄","移乗","移動","コミュニ","社会認識","セルフケア","排泄","移乗","移動","コミュニ","社会認識",null,null,null,null,null,null,null,null,null,null,"セルフケア","排泄","移乗","移動","コミュニ","社会認識","セルフケア","排泄","移乗","移動","コミュニ","社会認識",null,null,null,null,null,null,null,null,null,null,null,null,null,null,null,null,null,null,null,null,null,null,null,null,null,null,null,null,"運動","認知","合計","セルフケア","排泄","移乗","移動","コミュニ","社会認識",null,null,null,"7日",null,null,null,null,null,"14日",null,null,null,null,null,"30日",null,null,null,null,null,"90日"]
[null,null,null,null,null,null,null,null,"不具合のため、VBA挿入",null,null,null,null,null,null,null,null,null,null,null,null,null,null,null,null,null,null,null,null,null,null,null,null,null,null,null,null,null,null,"不具合のため、VBA挿入",null,null,null,null,null,null,null,null,null,null,null,null,null,null,null,null,null,null,null,null,null,"不具合のため、VBA挿入",null,null,null,"削除","削除","削除",null,null,null,"削除",null,"削除",null,null,null,null,null,null,null,null,"不具合のため、VBA挿入",null,null,null,null,"BIに変更　2018/8/1～",null,null,null,null,"不具合のため、VBA挿入",null,null,null,null,null,null,null,null,null,null,"2013/4/1～",null,null,null,null,null,null,null,null,null,null,null,null,null,"2019/8～　項目追加あり",null,null,null,null,null,null,null,null,null,null,null,null,null,null,null,null,null,null,null,null,null,null,null,null,null,null,null,null,null,null,null,null,null,null,null,null,null,null,null,null,null,null,null,null,null,null,null,null,null,null,null,"削除",null,"削除",null,"削除","削除","削除","削除","削除","削除",null,null,null,null,null,null,"削除",null,"削除",null,"削除",null,null,"削除",null,null,null,null,null,null,null,null,null,null,null,null,null,null,null,null,null,null,null,"2019/8～　項目追加あり","90日後FIMとｍRS追加",null,null,null,null,null,null,null,null,null,"2021/1～　項目追加あり",null,"2022/1～　項目追加あり"]

{"sheet":"DATA_PATIENT","index":47,"n_rows":10,"n_cols":16,"rows_kept":10,"cut":false,"hidden":false,"merged":[]}
[]
[]
[]
[]
[null,null,null,null,null,null,null,null,null,null,null,null,"M","N","O"]
[null,null,null,null,null,null,null,null,null,6,"生年月日",{"$f":"B6","v":"00:00:00"},{"$f":"MID(TEXT($L6,\"yyyymmdd\"),1,4)","v":"1900"},{"$f":"MID(TEXT($L6,\"yyyymmdd\"),5,2)","v":"01"},{"$f":"MID(TEXT($L6,\"yyyymmdd\"),7,2)","v":"00"},{"$f":"DATE(DATA_PATIENT!M6,DATA_PATIENT!N6,DATA_PATIENT!O6)","v":"00:00:00"}]
[null,null,null,null,null,null,null,null,null,7,"急性期入院日",{"$f":"患者基本情報!E30","v":"00:00:00"},{"$f":"MID(TEXT($L7,\"yyyymmdd\"),1,4)","v":"1900"},{"$f":"MID(TEXT($L7,\"yyyymmdd\"),5,2)","v":"01"},{"$f":"MID(TEXT($L7,\"yyyymmdd\"),7,2)","v":"00"},{"$f":"DATE(DATA_PATIENT!M7,DATA_PATIENT!N7,DATA_PATIENT!O7)","v":"00:00:00"}]
[null,null,null,null,null,null,null,null,null,8,"回復期入院日",{"$f":"患者基本情報!P30","v":"00:00:00"},{"$f":"MID(TEXT($L8,\"yyyymmdd\"),1,4)","v":"1900"},{"$f":"MID(TEXT($L8,\"yyyymmdd\"),5,2)","v":"01"},{"$f":"MID(TEXT($L8,\"yyyymmdd\"),7,2)","v":"00"},{"$f":"DATE(DATA_PATIENT!M8,DATA_PATIENT!N8,DATA_PATIENT!O8)","v":"00:00:00"}]
[null,null,null,null,null,null,null,null,null,9,"維持期入院日",{"$f":"患者基本情報!AA30","v":"00:00:00"},{"$f":"MID(TEXT($L9,\"yyyymmdd\"),1,4)","v":"1900"},{"$f":"MID(TEXT($L9,\"yyyymmdd\"),5,2)","v":"01"},{"$f":"MID(TEXT($L9,\"yyyymmdd\"),7,2)","v":"00"},{"$f":"DATE(DATA_PATIENT!M9,DATA_PATIENT!N9,DATA_PATIENT!O9)","v":"00:00:00"}]
[null,null,null,null,null,null,null,null,null,10,"在宅受診日",{"$f":"患者基本情報!AL32","v":"00:00:00"},{"$f":"MID(TEXT($L10,\"yyyymmdd\"),1,4)","v":"1900"},{"$f":"MID(TEXT($L10,\"yyyymmdd\"),5,2)","v":"01"},{"$f":"MID(TEXT($L10,\"yyyymmdd\"),7,2)","v":"00"},{"$f":"DATE(DATA_PATIENT!M10,DATA_PATIENT!N10,DATA_PATIENT!O10)","v":"00:00:00"}]